Workbook
Name aw: SCDP!$A$1:$AW$40

Sheet SCDP
Q1: Приложение 1 към Заповед РД 09-770/30.10.2015 г.
H2: ОДОБРИЛ: .............................. | Q2: Образец по чл. 6, ал.1 от Наредбата по чл. 95, ал. 1 от ЗГ
C3: /инж. Иван Недков - Директор СЦДП ДП Габрово/
A4: ГОДИШЕН ПЛАН ЗА ПОЛЗВАНЕ НА ДЪРВЕСИНА НА СЦДП ДП ГАБРОВО ЗА 2024 година
A5: ВСИЧКО / І + ІІ + ІV / | J5: І. ОТГЛЕДНИ СЕЧИ | R5: ІІ. ВЪЗОБНОВИТЕЛНИ СЕЧИ | AA5: ІІІ. В. Т.Ч. ВЪЗОБНОВИТЕЛНИ СЕЧИ ВЪВ ВИСОКОСТЪБЛЕНИ ГОРИ | AJ5: ІV. ДРУГИ СЕЧИ
A6: Показатели | B6: Площ | C6: Ст.маса | D6: Лежаща | E6: Едра | F6: Средна | G6: Дребна | H6: Дърва | J6: Показатели | K6: Площ | L6: Ст.маса | M6: Лежаща | N6: Едра | O6: Средна | P6: Дребна | Q6: Дърва | R6: Показатели | S6: Площ | T6: Ст.маса | U6: Лежаща | V6: Едра | W6: Средна | X6: Дребна | Y6: Дърва | AA6: Показатели | AB6: Площ | AC6: Ст.маса | AD6: Лежаща | AE6: Едра | AF6: Средна | AG6: Дребна | AH6: Дърва | AJ6: Показатели | AK6: Площ | AL6: Ст.маса | AM6: Лежаща | AN6: Едра | AO6: Средна | AP6: Дребна | AQ6: Дърва
B7: ха | C7: м3 | D7: маса м3 | E7: м3 | F7: м3 | G7: м3 | H7: м3 | K7: ха | L7: м3 | M7: маса м3 | N7: м3 | O7: м3 | P7: м3 | Q7: м3 | S7: ха | T7: м3 | U7: маса м3 | V7: м3 | W7: м3 | X7: м3 | Y7: м3 | AB7: ха | AC7: м3 | AD7: маса м3 | AE7: м3 | AF7: м3 | AG7: м3 | AH7: м3 | AK7: ха | AL7: м3 | AM7: маса м3 | AN7: м3 | AO7: м3 | AP7: м3 | AQ7: м3
A8: Общо А+Б | J8: Общо А+Б | R8: Общо А+Б | AA8: Общо А+Б | AJ8: Общо А+Б
A9: 1. По ГСП | B9: =Bujnovci!B9+Elena!B9+Bolqrka!B9+Gorna!B9+Svishtov!B9+Rosica!B9+Gabrovo!B9+Plachkovci!B9+Sevlievo!B9+Bqla!B9+Dunav_Ruse!B9+Silistra!B9+Tutrakan!B9+Seslav!B9+Karakuz!B9+Razgrad!B9+Voden!B9 -> 11221.13 | C9: =Bujnovci!C9+Elena!C9+Bolqrka!C9+Gorna!C9+Svishtov!C9+Rosica!C9+Gabrovo!C9+Plachkovci!C9+Sevlievo!C9+Bqla!C9+Dunav_Ruse!C9+Silistra!C9+Tutrakan!C9+Seslav!C9+Karakuz!C9+Razgrad!C9+Voden!C9 -> 644211 | D9: =Bujnovci!D9+Elena!D9+Bolqrka!D9+Gorna!D9+Svishtov!D9+Rosica!D9+Gabrovo!D9+Plachkovci!D9+Sevlievo!D9+Bqla!D9+Dunav_Ruse!D9+Silistra!D9+Tutrakan!D9+Seslav!D9+Karakuz!D9+Razgrad!D9+Voden!D9 -> 547079.5 | E9: =Bujnovci!E9+Elena!E9+Bolqrka!E9+Gorna!E9+Svishtov!E9+Rosica!E9+Gabrovo!E9+Plachkovci!E9+Sevlievo!E9+Bqla!E9+Dunav_Ruse!E9+Silistra!E9+Tutrakan!E9+Seslav!E9+Karakuz!E9+Razgrad!E9+Voden!E9 -> 97620 | F9: =Bujnovci!F9+Elena!F9+Bolqrka!F9+Gorna!F9+Svishtov!F9+Rosica!F9+Gabrovo!F9+Plachkovci!F9+Sevlievo!F9+Bqla!F9+Dunav_Ruse!F9+Silistra!F9+Tutrakan!F9+Seslav!F9+Karakuz!F9+Razgrad!F9+Voden!F9 -> 125477.5 | G9: =Bujnovci!G9+Elena!G9+Bolqrka!G9+Gorna!G9+Svishtov!G9+Rosica!G9+Gabrovo!G9+Plachkovci!G9+Sevlievo!G9+Bqla!G9+Dunav_Ruse!G9+Silistra!G9+Tutrakan!G9+Seslav!G9+Karakuz!G9+Razgrad!G9+Voden!G9 -> 36312 | H9: =Bujnovci!H9+Elena!H9+Bolqrka!H9+Gorna!H9+Svishtov!H9+Rosica!H9+Gabrovo!H9+Plachkovci!H9+Sevlievo!H9+Bqla!H9+Dunav_Ruse!H9+Silistra!H9+Tutrakan!H9+Seslav!H9+Karakuz!H9+Razgrad!H9+Voden!H9 -> 287247 | J9: 1. По ГСП | K9: =Bujnovci!K9+Elena!K9+Bolqrka!K9+Gorna!K9+Svishtov!K9+Rosica!K9+Gabrovo!K9+Plachkovci!K9+Sevlievo!K9+Bqla!K9+Dunav_Ruse!K9+Silistra!K9+Tutrakan!K9+Seslav!K9+Karakuz!K9+Razgrad!K9+Voden!K9 -> 3999.18 | L9: =Bujnovci!L9+Elena!L9+Bolqrka!L9+Gorna!L9+Svishtov!L9+Rosica!L9+Gabrovo!L9+Plachkovci!L9+Sevlievo!L9+Bqla!L9+Dunav_Ruse!L9+Silistra!L9+Tutrakan!L9+Seslav!L9+Karakuz!L9+Razgrad!L9+Voden!L9 -> 155779.5 | M9: =Bujnovci!M9+Elena!M9+Bolqrka!M9+Gorna!M9+Svishtov!M9+Rosica!M9+Gabrovo!M9+Plachkovci!M9+Sevlievo!M9+Bqla!M9+Dunav_Ruse!M9+Silistra!M9+Tutrakan!M9+Seslav!M9+Karakuz!M9+Razgrad!M9+Voden!M9 -> 124387.5 | N9: =Bujnovci!N9+Elena!N9+Bolqrka!N9+Gorna!N9+Svishtov!N9+Rosica!N9+Gabrovo!N9+Plachkovci!N9+Sevlievo!N9+Bqla!N9+Dunav_Ruse!N9+Silistra!N9+Tutrakan!N9+Seslav!N9+Karakuz!N9+Razgrad!N9+Voden!N9 -> 13636 | O9: =Bujnovci!O9+Elena!O9+Bolqrka!O9+Gorna!O9+Svishtov!O9+Rosica!O9+Gabrovo!O9+Plachkovci!O9+Sevlievo!O9+Bqla!O9+Dunav_Ruse!O9+Silistra!O9+Tutrakan!O9+Seslav!O9+Karakuz!O9+Razgrad!O9+Voden!O9 -> 36450.5 | P9: =Bujnovci!P9+Elena!P9+Bolqrka!P9+Gorna!P9+Svishtov!P9+Rosica!P9+Gabrovo!P9+Plachkovci!P9+Sevlievo!P9+Bqla!P9+Dunav_Ruse!P9+Silistra!P9+Tutrakan!P9+Seslav!P9+Karakuz!P9+Razgrad!P9+Voden!P9 -> 11639.5 | Q9: =Bujnovci!Q9+Elena!Q9+Bolqrka!Q9+Gorna!Q9+Svishtov!Q9+Rosica!Q9+Gabrovo!Q9+Plachkovci!Q9+Sevlievo!Q9+Bqla!Q9+Dunav_Ruse!Q9+Silistra!Q9+Tutrakan!Q9+Seslav!Q9+Karakuz!Q9+Razgrad!Q9+Voden!Q9 -> 62367.5 | R9: 1. По ГСП | S9: =Bujnovci!S9+Elena!S9+Bolqrka!S9+Gorna!S9+Svishtov!S9+Rosica!S9+Gabrovo!S9+Plachkovci!S9+Sevlievo!S9+Bqla!S9+Dunav_Ruse!S9+Silistra!S9+Tutrakan!S9+Seslav!S9+Karakuz!S9+Razgrad!S9+Voden!S9 -> 6808.15 | T9: =Bujnovci!T9+Elena!T9+Bolqrka!T9+Gorna!T9+Svishtov!T9+Rosica!T9+Gabrovo!T9+Plachkovci!T9+Sevlievo!T9+Bqla!T9+Dunav_Ruse!T9+Silistra!T9+Tutrakan!T9+Seslav!T9+Karakuz!T9+Razgrad!T9+Voden!T9 -> 461496.5 | U9: =Bujnovci!U9+Elena!U9+Bolqrka!U9+Gorna!U9+Svishtov!U9+Rosica!U9+Gabrovo!U9+Plachkovci!U9+Sevlievo!U9+Bqla!U9+Dunav_Ruse!U9+Silistra!U9+Tutrakan!U9+Seslav!U9+Karakuz!U9+Razgrad!U9+Voden!U9 -> 402863 | V9: =Bujnovci!V9+Elena!V9+Bolqrka!V9+Gorna!V9+Svishtov!V9+Rosica!V9+Gabrovo!V9+Plachkovci!V9+Sevlievo!V9+Bqla!V9+Dunav_Ruse!V9+Silistra!V9+Tutrakan!V9+Seslav!V9+Karakuz!V9+Razgrad!V9+Voden!V9 -> 82795 | W9: =Bujnovci!W9+Elena!W9+Bolqrka!W9+Gorna!W9+Svishtov!W9+Rosica!W9+Gabrovo!W9+Plachkovci!W9+Sevlievo!W9+Bqla!W9+Dunav_Ruse!W9+Silistra!W9+Tutrakan!W9+Seslav!W9+Karakuz!W9+Razgrad!W9+Voden!W9 -> 85287 | X9: =Bujnovci!X9+Elena!X9+Bolqrka!X9+Gorna!X9+Svishtov!X9+Rosica!X9+Gabrovo!X9+Plachkovci!X9+Sevlievo!X9+Bqla!X9+Dunav_Ruse!X9+Silistra!X9+Tutrakan!X9+Seslav!X9+Karakuz!X9+Razgrad!X9+Voden!X9 -> 22278.5 | Y9: =Bujnovci!Y9+Elena!Y9+Bolqrka!Y9+Gorna!Y9+Svishtov!Y9+Rosica!Y9+Gabrovo!Y9+Plachkovci!Y9+Sevlievo!Y9+Bqla!Y9+Dunav_Ruse!Y9+Silistra!Y9+Tutrakan!Y9+Seslav!Y9+Karakuz!Y9+Razgrad!Y9+Voden!Y9 -> 212373.5 | AA9: 1. По ГСП | AB9: =Bujnovci!AB9+Elena!AB9+Bolqrka!AB9+Gorna!AB9+Svishtov!AB9+Rosica!AB9+Gabrovo!AB9+Plachkovci!AB9+Sevlievo!AB9+Bqla!AB9+Dunav_Ruse!AB9+Silistra!AB9+Tutrakan!AB9+Seslav!AB9+Karakuz!AB9+Razgrad!AB9+Voden!AB9 -> 1920.68 | AC9: =Bujnovci!AC9+Elena!AC9+Bolqrka!AC9+Gorna!AC9+Svishtov!AC9+Rosica!AC9+Gabrovo!AC9+Plachkovci!AC9+Sevlievo!AC9+Bqla!AC9+Dunav_Ruse!AC9+Silistra!AC9+Tutrakan!AC9+Seslav!AC9+Karakuz!AC9+Razgrad!AC9+Voden!AC9 -> 174235 | AD9: =Bujnovci!AD9+Elena!AD9+Bolqrka!AD9+Gorna!AD9+Svishtov!AD9+Rosica!AD9+Gabrovo!AD9+Plachkovci!AD9+Sevlievo!AD9+Bqla!AD9+Dunav_Ruse!AD9+Silistra!AD9+Tutrakan!AD9+Seslav!AD9+Karakuz!AD9+Razgrad!AD9+Voden!AD9 -> 152322 | AE9: =Bujnovci!AE9+Elena!AE9+Bolqrka!AE9+Gorna!AE9+Svishtov!AE9+Rosica!AE9+Gabrovo!AE9+Plachkovci!AE9+Sevlievo!AE9+Bqla!AE9+Dunav_Ruse!AE9+Silistra!AE9+Tutrakan!AE9+Seslav!AE9+Karakuz!AE9+Razgrad!AE9+Voden!AE9 -> 66206 | AF9: =Bujnovci!AF9+Elena!AF9+Bolqrka!AF9+Gorna!AF9+Svishtov!AF9+Rosica!AF9+Gabrovo!AF9+Plachkovci!AF9+Sevlievo!AF9+Bqla!AF9+Dunav_Ruse!AF9+Silistra!AF9+Tutrakan!AF9+Seslav!AF9+Karakuz!AF9+Razgrad!AF9+Voden!AF9 -> 24386.5 | AG9: =Bujnovci!AG9+Elena!AG9+Bolqrka!AG9+Gorna!AG9+Svishtov!AG9+Rosica!AG9+Gabrovo!AG9+Plachkovci!AG9+Sevlievo!AG9+Bqla!AG9+Dunav_Ruse!AG9+Silistra!AG9+Tutrakan!AG9+Seslav!AG9+Karakuz!AG9+Razgrad!AG9+Voden!AG9 -> 5138 | AH9: =Bujnovci!AH9+Elena!AH9+Bolqrka!AH9+Gorna!AH9+Svishtov!AH9+Rosica!AH9+Gabrovo!AH9+Plachkovci!AH9+Sevlievo!AH9+Bqla!AH9+Dunav_Ruse!AH9+Silistra!AH9+Tutrakan!AH9+Seslav!AH9+Karakuz!AH9+Razgrad!AH9+Voden!AH9 -> 56537.5 | AJ9: 1. По ГСП | AK9: =Bujnovci!AK9+Elena!AK9+Bolqrka!AK9+Gorna!AK9+Svishtov!AK9+Rosica!AK9+Gabrovo!AK9+Plachkovci!AK9+Sevlievo!AK9+Bqla!AK9+Dunav_Ruse!AK9+Silistra!AK9+Tutrakan!AK9+Seslav!AK9+Karakuz!AK9+Razgrad!AK9+Voden!AK9 -> 413.8 | AL9: =Bujnovci!AL9+Elena!AL9+Bolqrka!AL9+Gorna!AL9+Svishtov!AL9+Rosica!AL9+Gabrovo!AL9+Plachkovci!AL9+Sevlievo!AL9+Bqla!AL9+Dunav_Ruse!AL9+Silistra!AL9+Tutrakan!AL9+Seslav!AL9+Karakuz!AL9+Razgrad!AL9+Voden!AL9 -> 26935 | AM9: =Bujnovci!AM9+Elena!AM9+Bolqrka!AM9+Gorna!AM9+Svishtov!AM9+Rosica!AM9+Gabrovo!AM9+Plachkovci!AM9+Sevlievo!AM9+Bqla!AM9+Dunav_Ruse!AM9+Silistra!AM9+Tutrakan!AM9+Seslav!AM9+Karakuz!AM9+Razgrad!AM9+Voden!AM9 -> 19829 | AN9: =Bujnovci!AN9+Elena!AN9+Bolqrka!AN9+Gorna!AN9+Svishtov!AN9+Rosica!AN9+Gabrovo!AN9+Plachkovci!AN9+Sevlievo!AN9+Bqla!AN9+Dunav_Ruse!AN9+Silistra!AN9+Tutrakan!AN9+Seslav!AN9+Karakuz!AN9+Razgrad!AN9+Voden!AN9 -> 1189 | AO9: =Bujnovci!AO9+Elena!AO9+Bolqrka!AO9+Gorna!AO9+Svishtov!AO9+Rosica!AO9+Gabrovo!AO9+Plachkovci!AO9+Sevlievo!AO9+Bqla!AO9+Dunav_Ruse!AO9+Silistra!AO9+Tutrakan!AO9+Seslav!AO9+Karakuz!AO9+Razgrad!AO9+Voden!AO9 -> 3740 | AP9: =Bujnovci!AP9+Elena!AP9+Bolqrka!AP9+Gorna!AP9+Svishtov!AP9+Rosica!AP9+Gabrovo!AP9+Plachkovci!AP9+Sevlievo!AP9+Bqla!AP9+Dunav_Ruse!AP9+Silistra!AP9+Tutrakan!AP9+Seslav!AP9+Karakuz!AP9+Razgrad!AP9+Voden!AP9 -> 2394 | AQ9: =Bujnovci!AQ9+Elena!AQ9+Bolqrka!AQ9+Gorna!AQ9+Svishtov!AQ9+Rosica!AQ9+Gabrovo!AQ9+Plachkovci!AQ9+Sevlievo!AQ9+Bqla!AQ9+Dunav_Ruse!AQ9+Silistra!AQ9+Tutrakan!AQ9+Seslav!AQ9+Karakuz!AQ9+Razgrad!AQ9+Voden!AQ9 -> 12506
A10: 2. Год. план | B10: =Bujnovci!B10+Elena!B10+Bolqrka!B10+Gorna!B10+Svishtov!B10+Rosica!B10+Gabrovo!B10+Plachkovci!B10+Sevlievo!B10+Bqla!B10+Dunav_Ruse!B10+Silistra!B10+Tutrakan!B10+Seslav!B10+Karakuz!B10+Razgrad!B10+Voden!B10 -> 9878.43 | C10: =Bujnovci!C10+Elena!C10+Bolqrka!C10+Gorna!C10+Svishtov!C10+Rosica!C10+Gabrovo!C10+Plachkovci!C10+Sevlievo!C10+Bqla!C10+Dunav_Ruse!C10+Silistra!C10+Tutrakan!C10+Seslav!C10+Karakuz!C10+Razgrad!C10+Voden!C10 -> 561759 | D10: =Bujnovci!D10+Elena!D10+Bolqrka!D10+Gorna!D10+Svishtov!D10+Rosica!D10+Gabrovo!D10+Plachkovci!D10+Sevlievo!D10+Bqla!D10+Dunav_Ruse!D10+Silistra!D10+Tutrakan!D10+Seslav!D10+Karakuz!D10+Razgrad!D10+Voden!D10 -> 503621 | E10: =Bujnovci!E10+Elena!E10+Bolqrka!E10+Gorna!E10+Svishtov!E10+Rosica!E10+Gabrovo!E10+Plachkovci!E10+Sevlievo!E10+Bqla!E10+Dunav_Ruse!E10+Silistra!E10+Tutrakan!E10+Seslav!E10+Karakuz!E10+Razgrad!E10+Voden!E10 -> 103434 | F10: =Bujnovci!F10+Elena!F10+Bolqrka!F10+Gorna!F10+Svishtov!F10+Rosica!F10+Gabrovo!F10+Plachkovci!F10+Sevlievo!F10+Bqla!F10+Dunav_Ruse!F10+Silistra!F10+Tutrakan!F10+Seslav!F10+Karakuz!F10+Razgrad!F10+Voden!F10 -> 69189 | G10: =Bujnovci!G10+Elena!G10+Bolqrka!G10+Gorna!G10+Svishtov!G10+Rosica!G10+Gabrovo!G10+Plachkovci!G10+Sevlievo!G10+Bqla!G10+Dunav_Ruse!G10+Silistra!G10+Tutrakan!G10+Seslav!G10+Karakuz!G10+Razgrad!G10+Voden!G10 -> 16035 | H10: =Bujnovci!H10+Elena!H10+Bolqrka!H10+Gorna!H10+Svishtov!H10+Rosica!H10+Gabrovo!H10+Plachkovci!H10+Sevlievo!H10+Bqla!H10+Dunav_Ruse!H10+Silistra!H10+Tutrakan!H10+Seslav!H10+Karakuz!H10+Razgrad!H10+Voden!H10 -> 314963 | J10: 2. Год. план | K10: =Bujnovci!K10+Elena!K10+Bolqrka!K10+Gorna!K10+Svishtov!K10+Rosica!K10+Gabrovo!K10+Plachkovci!K10+Sevlievo!K10+Bqla!K10+Dunav_Ruse!K10+Silistra!K10+Tutrakan!K10+Seslav!K10+Karakuz!K10+Razgrad!K10+Voden!K10 -> 3368.2 | L10: =Bujnovci!L10+Elena!L10+Bolqrka!L10+Gorna!L10+Svishtov!L10+Rosica!L10+Gabrovo!L10+Plachkovci!L10+Sevlievo!L10+Bqla!L10+Dunav_Ruse!L10+Silistra!L10+Tutrakan!L10+Seslav!L10+Karakuz!L10+Razgrad!L10+Voden!L10 -> 145917 | M10: =Bujnovci!M10+Elena!M10+Bolqrka!M10+Gorna!M10+Svishtov!M10+Rosica!M10+Gabrovo!M10+Plachkovci!M10+Sevlievo!M10+Bqla!M10+Dunav_Ruse!M10+Silistra!M10+Tutrakan!M10+Seslav!M10+Karakuz!M10+Razgrad!M10+Voden!M10 -> 128414 | N10: =Bujnovci!N10+Elena!N10+Bolqrka!N10+Gorna!N10+Svishtov!N10+Rosica!N10+Gabrovo!N10+Plachkovci!N10+Sevlievo!N10+Bqla!N10+Dunav_Ruse!N10+Silistra!N10+Tutrakan!N10+Seslav!N10+Karakuz!N10+Razgrad!N10+Voden!N10 -> 19368 | O10: =Bujnovci!O10+Elena!O10+Bolqrka!O10+Gorna!O10+Svishtov!O10+Rosica!O10+Gabrovo!O10+Plachkovci!O10+Sevlievo!O10+Bqla!O10+Dunav_Ruse!O10+Silistra!O10+Tutrakan!O10+Seslav!O10+Karakuz!O10+Razgrad!O10+Voden!O10 -> 19329 | P10: =Bujnovci!P10+Elena!P10+Bolqrka!P10+Gorna!P10+Svishtov!P10+Rosica!P10+Gabrovo!P10+Plachkovci!P10+Sevlievo!P10+Bqla!P10+Dunav_Ruse!P10+Silistra!P10+Tutrakan!P10+Seslav!P10+Karakuz!P10+Razgrad!P10+Voden!P10 -> 2908 | Q10: =Bujnovci!Q10+Elena!Q10+Bolqrka!Q10+Gorna!Q10+Svishtov!Q10+Rosica!Q10+Gabrovo!Q10+Plachkovci!Q10+Sevlievo!Q10+Bqla!Q10+Dunav_Ruse!Q10+Silistra!Q10+Tutrakan!Q10+Seslav!Q10+Karakuz!Q10+Razgrad!Q10+Voden!Q10 -> 86809 | R10: 2. Год. план | S10: =Bujnovci!S10+Elena!S10+Bolqrka!S10+Gorna!S10+Svishtov!S10+Rosica!S10+Gabrovo!S10+Plachkovci!S10+Sevlievo!S10+Bqla!S10+Dunav_Ruse!S10+Silistra!S10+Tutrakan!S10+Seslav!S10+Karakuz!S10+Razgrad!S10+Voden!S10 -> 6392.35 | T10: =Bujnovci!T10+Elena!T10+Bolqrka!T10+Gorna!T10+Svishtov!T10+Rosica!T10+Gabrovo!T10+Plachkovci!T10+Sevlievo!T10+Bqla!T10+Dunav_Ruse!T10+Silistra!T10+Tutrakan!T10+Seslav!T10+Karakuz!T10+Razgrad!T10+Voden!T10 -> 407680 | U10: =Bujnovci!U10+Elena!U10+Bolqrka!U10+Gorna!U10+Svishtov!U10+Rosica!U10+Gabrovo!U10+Plachkovci!U10+Sevlievo!U10+Bqla!U10+Dunav_Ruse!U10+Silistra!U10+Tutrakan!U10+Seslav!U10+Karakuz!U10+Razgrad!U10+Voden!U10 -> 367927 | V10: =Bujnovci!V10+Elena!V10+Bolqrka!V10+Gorna!V10+Svishtov!V10+Rosica!V10+Gabrovo!V10+Plachkovci!V10+Sevlievo!V10+Bqla!V10+Dunav_Ruse!V10+Silistra!V10+Tutrakan!V10+Seslav!V10+Karakuz!V10+Razgrad!V10+Voden!V10 -> 83153 | W10: =Bujnovci!W10+Elena!W10+Bolqrka!W10+Gorna!W10+Svishtov!W10+Rosica!W10+Gabrovo!W10+Plachkovci!W10+Sevlievo!W10+Bqla!W10+Dunav_Ruse!W10+Silistra!W10+Tutrakan!W10+Seslav!W10+Karakuz!W10+Razgrad!W10+Voden!W10 -> 49392 | X10: =Bujnovci!X10+Elena!X10+Bolqrka!X10+Gorna!X10+Svishtov!X10+Rosica!X10+Gabrovo!X10+Plachkovci!X10+Sevlievo!X10+Bqla!X10+Dunav_Ruse!X10+Silistra!X10+Tutrakan!X10+Seslav!X10+Karakuz!X10+Razgrad!X10+Voden!X10 -> 13083 | Y10: =Bujnovci!Y10+Elena!Y10+Bolqrka!Y10+Gorna!Y10+Svishtov!Y10+Rosica!Y10+Gabrovo!Y10+Plachkovci!Y10+Sevlievo!Y10+Bqla!Y10+Dunav_Ruse!Y10+Silistra!Y10+Tutrakan!Y10+Seslav!Y10+Karakuz!Y10+Razgrad!Y10+Voden!Y10 -> 222309 | AA10: 2. Год. план | AB10: =Bujnovci!AB10+Elena!AB10+Bolqrka!AB10+Gorna!AB10+Svishtov!AB10+Rosica!AB10+Gabrovo!AB10+Plachkovci!AB10+Sevlievo!AB10+Bqla!AB10+Dunav_Ruse!AB10+Silistra!AB10+Tutrakan!AB10+Seslav!AB10+Karakuz!AB10+Razgrad!AB10+Voden!AB10 -> 1333.4 | AC10: =Bujnovci!AC10+Elena!AC10+Bolqrka!AC10+Gorna!AC10+Svishtov!AC10+Rosica!AC10+Gabrovo!AC10+Plachkovci!AC10+Sevlievo!AC10+Bqla!AC10+Dunav_Ruse!AC10+Silistra!AC10+Tutrakan!AC10+Seslav!AC10+Karakuz!AC10+Razgrad!AC10+Voden!AC10 -> 137263 | AD10: =Bujnovci!AD10+Elena!AD10+Bolqrka!AD10+Gorna!AD10+Svishtov!AD10+Rosica!AD10+Gabrovo!AD10+Plachkovci!AD10+Sevlievo!AD10+Bqla!AD10+Dunav_Ruse!AD10+Silistra!AD10+Tutrakan!AD10+Seslav!AD10+Karakuz!AD10+Razgrad!AD10+Voden!AD10 -> 124262 | AE10: =Bujnovci!AE10+Elena!AE10+Bolqrka!AE10+Gorna!AE10+Svishtov!AE10+Rosica!AE10+Gabrovo!AE10+Plachkovci!AE10+Sevlievo!AE10+Bqla!AE10+Dunav_Ruse!AE10+Silistra!AE10+Tutrakan!AE10+Seslav!AE10+Karakuz!AE10+Razgrad!AE10+Voden!AE10 -> 57652 | AF10: =Bujnovci!AF10+Elena!AF10+Bolqrka!AF10+Gorna!AF10+Svishtov!AF10+Rosica!AF10+Gabrovo!AF10+Plachkovci!AF10+Sevlievo!AF10+Bqla!AF10+Dunav_Ruse!AF10+Silistra!AF10+Tutrakan!AF10+Seslav!AF10+Karakuz!AF10+Razgrad!AF10+Voden!AF10 -> 14517 | AG10: =Bujnovci!AG10+Elena!AG10+Bolqrka!AG10+Gorna!AG10+Svishtov!AG10+Rosica!AG10+Gabrovo!AG10+Plachkovci!AG10+Sevlievo!AG10+Bqla!AG10+Dunav_Ruse!AG10+Silistra!AG10+Tutrakan!AG10+Seslav!AG10+Karakuz!AG10+Razgrad!AG10+Voden!AG10 -> 3248 | AH10: =Bujnovci!AH10+Elena!AH10+Bolqrka!AH10+Gorna!AH10+Svishtov!AH10+Rosica!AH10+Gabrovo!AH10+Plachkovci!AH10+Sevlievo!AH10+Bqla!AH10+Dunav_Ruse!AH10+Silistra!AH10+Tutrakan!AH10+Seslav!AH10+Karakuz!AH10+Razgrad!AH10+Voden!AH10 -> 48845 | AJ10: 2. Год. план | AK10: =Bujnovci!AK10+Elena!AK10+Bolqrka!AK10+Gorna!AK10+Svishtov!AK10+Rosica!AK10+Gabrovo!AK10+Plachkovci!AK10+Sevlievo!AK10+Bqla!AK10+Dunav_Ruse!AK10+Silistra!AK10+Tutrakan!AK10+Seslav!AK10+Karakuz!AK10+Razgrad!AK10+Voden!AK10 -> 117.88 | AL10: =Bujnovci!AL10+Elena!AL10+Bolqrka!AL10+Gorna!AL10+Svishtov!AL10+Rosica!AL10+Gabrovo!AL10+Plachkovci!AL10+Sevlievo!AL10+Bqla!AL10+Dunav_Ruse!AL10+Silistra!AL10+Tutrakan!AL10+Seslav!AL10+Karakuz!AL10+Razgrad!AL10+Voden!AL10 -> 8162 | AM10: =Bujnovci!AM10+Elena!AM10+Bolqrka!AM10+Gorna!AM10+Svishtov!AM10+Rosica!AM10+Gabrovo!AM10+Plachkovci!AM10+Sevlievo!AM10+Bqla!AM10+Dunav_Ruse!AM10+Silistra!AM10+Tutrakan!AM10+Seslav!AM10+Karakuz!AM10+Razgrad!AM10+Voden!AM10 -> 7270 | AN10: =Bujnovci!AN10+Elena!AN10+Bolqrka!AN10+Gorna!AN10+Svishtov!AN10+Rosica!AN10+Gabrovo!AN10+Plachkovci!AN10+Sevlievo!AN10+Bqla!AN10+Dunav_Ruse!AN10+Silistra!AN10+Tutrakan!AN10+Seslav!AN10+Karakuz!AN10+Razgrad!AN10+Voden!AN10 -> 913 | AO10: =Bujnovci!AO10+Elena!AO10+Bolqrka!AO10+Gorna!AO10+Svishtov!AO10+Rosica!AO10+Gabrovo!AO10+Plachkovci!AO10+Sevlievo!AO10+Bqla!AO10+Dunav_Ruse!AO10+Silistra!AO10+Tutrakan!AO10+Seslav!AO10+Karakuz!AO10+Razgrad!AO10+Voden!AO10 -> 468 | AP10: =Bujnovci!AP10+Elena!AP10+Bolqrka!AP10+Gorna!AP10+Svishtov!AP10+Rosica!AP10+Gabrovo!AP10+Plachkovci!AP10+Sevlievo!AP10+Bqla!AP10+Dunav_Ruse!AP10+Silistra!AP10+Tutrakan!AP10+Seslav!AP10+Karakuz!AP10+Razgrad!AP10+Voden!AP10 -> 44 | AQ10: =Bujnovci!AQ10+Elena!AQ10+Bolqrka!AQ10+Gorna!AQ10+Svishtov!AQ10+Rosica!AQ10+Gabrovo!AQ10+Plachkovci!AQ10+Sevlievo!AQ10+Bqla!AQ10+Dunav_Ruse!AQ10+Silistra!AQ10+Tutrakan!AQ10+Seslav!AQ10+Karakuz!AQ10+Razgrad!AQ10+Voden!AQ10 -> 5845
A11: % (2/1) | B11: =B10/B9*100 -> 88.034182 | C11: =C10/C9*100 -> 87.201088 | D11: =D10/D9*100 -> 92.056273 | E11: =E10/E9*100 -> 105.95575 | F11: =F10/F9*100 -> 55.140563 | G11: =G10/G9*100 -> 44.158956 | H11: =H10/H9*100 -> 109.64884 | J11: % (2/1) | K11: =K10/K9*100 -> 84.222266 | L11: =L10/L9*100 -> 93.668936 | M11: =M10/M9*100 -> 103.23706 | N11: =N10/N9*100 -> 142.03579 | O11: =O10/O9*100 -> 53.028079 | P11: =P10/P9*100 -> 24.983891 | Q11: =Q10/Q9*100 -> 139.18948 | R11: % (2/1) | S11: =S10/S9*100 -> 93.892614 | T11: =T10/T9*100 -> 88.338698 | U11: =U10/U9*100 -> 91.328069 | V11: =V10/V9*100 -> 100.43239 | W11: =W10/W9*100 -> 57.912695 | X11: =X10/X9*100 -> 58.724779 | Y11: =Y10/Y9*100 -> 104.67831 | AA11: % (2/1) | AB11: =AB10/AB9*100 -> 69.423329 | AC11: =AC10/AC9*100 -> 78.780383 | AD11: =AD10/AD9*100 -> 81.578498 | AE11: =AE10/AE9*100 -> 87.079721 | AF11: =AF10/AF9*100 -> 59.528838 | AG11: =AG10/AG9*100 -> 63.215259 | AH11: =AH10/AH9*100 -> 86.393986 | AJ11: % (2/1) | AK11: =AK10/AK9*100 -> 28.487192 | AL11: =AL10/AL9*100 -> 30.30258 | AM11: =AM10/AM9*100 -> 36.663473 | AN11: =AN10/AN9*100 -> 76.787216 | AO11: =AO10/AO9*100 -> 12.513369 | AP11: =AP10/AP9*100 -> 1.8379282 | AQ11: =AQ10/AQ9*100 -> 46.737566
A12: А.Иглолистни | J12: А.Иглолистни | R12: А.Иглолистни | AA12: А.Иглолистни | AJ12: А.Иглолистни
A13: 1. По ГСП | B13: =Bujnovci!B13+Elena!B13+Bolqrka!B13+Gorna!B13+Svishtov!B13+Rosica!B13+Gabrovo!B13+Plachkovci!B13+Sevlievo!B13+Bqla!B13+Dunav_Ruse!B13+Silistra!B13+Tutrakan!B13+Seslav!B13+Karakuz!B13+Razgrad!B13+Voden!B13 -> 1034.37 | C13: =Bujnovci!C13+Elena!C13+Bolqrka!C13+Gorna!C13+Svishtov!C13+Rosica!C13+Gabrovo!C13+Plachkovci!C13+Sevlievo!C13+Bqla!C13+Dunav_Ruse!C13+Silistra!C13+Tutrakan!C13+Seslav!C13+Karakuz!C13+Razgrad!C13+Voden!C13 -> 71232.5 | D13: =Bujnovci!D13+Elena!D13+Bolqrka!D13+Gorna!D13+Svishtov!D13+Rosica!D13+Gabrovo!D13+Plachkovci!D13+Sevlievo!D13+Bqla!D13+Dunav_Ruse!D13+Silistra!D13+Tutrakan!D13+Seslav!D13+Karakuz!D13+Razgrad!D13+Voden!D13 -> 52126 | E13: =Bujnovci!E13+Elena!E13+Bolqrka!E13+Gorna!E13+Svishtov!E13+Rosica!E13+Gabrovo!E13+Plachkovci!E13+Sevlievo!E13+Bqla!E13+Dunav_Ruse!E13+Silistra!E13+Tutrakan!E13+Seslav!E13+Karakuz!E13+Razgrad!E13+Voden!E13 -> 10390 | F13: =Bujnovci!F13+Elena!F13+Bolqrka!F13+Gorna!F13+Svishtov!F13+Rosica!F13+Gabrovo!F13+Plachkovci!F13+Sevlievo!F13+Bqla!F13+Dunav_Ruse!F13+Silistra!F13+Tutrakan!F13+Seslav!F13+Karakuz!F13+Razgrad!F13+Voden!F13 -> 19545.5 | G13: =Bujnovci!G13+Elena!G13+Bolqrka!G13+Gorna!G13+Svishtov!G13+Rosica!G13+Gabrovo!G13+Plachkovci!G13+Sevlievo!G13+Bqla!G13+Dunav_Ruse!G13+Silistra!G13+Tutrakan!G13+Seslav!G13+Karakuz!G13+Razgrad!G13+Voden!G13 -> 6949 | H13: =Bujnovci!H13+Elena!H13+Bolqrka!H13+Gorna!H13+Svishtov!H13+Rosica!H13+Gabrovo!H13+Plachkovci!H13+Sevlievo!H13+Bqla!H13+Dunav_Ruse!H13+Silistra!H13+Tutrakan!H13+Seslav!H13+Karakuz!H13+Razgrad!H13+Voden!H13 -> 15100 | J13: 1. По ГСП | K13: =Bujnovci!K13+Elena!K13+Bolqrka!K13+Gorna!K13+Svishtov!K13+Rosica!K13+Gabrovo!K13+Plachkovci!K13+Sevlievo!K13+Bqla!K13+Dunav_Ruse!K13+Silistra!K13+Tutrakan!K13+Seslav!K13+Karakuz!K13+Razgrad!K13+Voden!K13 -> 709.94 | L13: =Bujnovci!L13+Elena!L13+Bolqrka!L13+Gorna!L13+Svishtov!L13+Rosica!L13+Gabrovo!L13+Plachkovci!L13+Sevlievo!L13+Bqla!L13+Dunav_Ruse!L13+Silistra!L13+Tutrakan!L13+Seslav!L13+Karakuz!L13+Razgrad!L13+Voden!L13 -> 42418 | M13: =Bujnovci!M13+Elena!M13+Bolqrka!M13+Gorna!M13+Svishtov!M13+Rosica!M13+Gabrovo!M13+Plachkovci!M13+Sevlievo!M13+Bqla!M13+Dunav_Ruse!M13+Silistra!M13+Tutrakan!M13+Seslav!M13+Karakuz!M13+Razgrad!M13+Voden!M13 -> 31140 | N13: =Bujnovci!N13+Elena!N13+Bolqrka!N13+Gorna!N13+Svishtov!N13+Rosica!N13+Gabrovo!N13+Plachkovci!N13+Sevlievo!N13+Bqla!N13+Dunav_Ruse!N13+Silistra!N13+Tutrakan!N13+Seslav!N13+Karakuz!N13+Razgrad!N13+Voden!N13 -> 5719.5 | O13: =Bujnovci!O13+Elena!O13+Bolqrka!O13+Gorna!O13+Svishtov!O13+Rosica!O13+Gabrovo!O13+Plachkovci!O13+Sevlievo!O13+Bqla!O13+Dunav_Ruse!O13+Silistra!O13+Tutrakan!O13+Seslav!O13+Karakuz!O13+Razgrad!O13+Voden!O13 -> 13737.5 | P13: =Bujnovci!P13+Elena!P13+Bolqrka!P13+Gorna!P13+Svishtov!P13+Rosica!P13+Gabrovo!P13+Plachkovci!P13+Sevlievo!P13+Bqla!P13+Dunav_Ruse!P13+Silistra!P13+Tutrakan!P13+Seslav!P13+Karakuz!P13+Razgrad!P13+Voden!P13 -> 4457 | Q13: =Bujnovci!Q13+Elena!Q13+Bolqrka!Q13+Gorna!Q13+Svishtov!Q13+Rosica!Q13+Gabrovo!Q13+Plachkovci!Q13+Sevlievo!Q13+Bqla!Q13+Dunav_Ruse!Q13+Silistra!Q13+Tutrakan!Q13+Seslav!Q13+Karakuz!Q13+Razgrad!Q13+Voden!Q13 -> 7097.5 | R13: 1. По ГСП | S13: =Bujnovci!S13+Elena!S13+Bolqrka!S13+Gorna!S13+Svishtov!S13+Rosica!S13+Gabrovo!S13+Plachkovci!S13+Sevlievo!S13+Bqla!S13+Dunav_Ruse!S13+Silistra!S13+Tutrakan!S13+Seslav!S13+Karakuz!S13+Razgrad!S13+Voden!S13 -> 176.73 | T13: =Bujnovci!T13+Elena!T13+Bolqrka!T13+Gorna!T13+Svishtov!T13+Rosica!T13+Gabrovo!T13+Plachkovci!T13+Sevlievo!T13+Bqla!T13+Dunav_Ruse!T13+Silistra!T13+Tutrakan!T13+Seslav!T13+Karakuz!T13+Razgrad!T13+Voden!T13 -> 13824.5 | U13: =Bujnovci!U13+Elena!U13+Bolqrka!U13+Gorna!U13+Svishtov!U13+Rosica!U13+Gabrovo!U13+Plachkovci!U13+Sevlievo!U13+Bqla!U13+Dunav_Ruse!U13+Silistra!U13+Tutrakan!U13+Seslav!U13+Karakuz!U13+Razgrad!U13+Voden!U13 -> 10967 | V13: =Bujnovci!V13+Elena!V13+Bolqrka!V13+Gorna!V13+Svishtov!V13+Rosica!V13+Gabrovo!V13+Plachkovci!V13+Sevlievo!V13+Bqla!V13+Dunav_Ruse!V13+Silistra!V13+Tutrakan!V13+Seslav!V13+Karakuz!V13+Razgrad!V13+Voden!V13 -> 3961.5 | W13: =Bujnovci!W13+Elena!W13+Bolqrka!W13+Gorna!W13+Svishtov!W13+Rosica!W13+Gabrovo!W13+Plachkovci!W13+Sevlievo!W13+Bqla!W13+Dunav_Ruse!W13+Silistra!W13+Tutrakan!W13+Seslav!W13+Karakuz!W13+Razgrad!W13+Voden!W13 -> 3009 | X13: =Bujnovci!X13+Elena!X13+Bolqrka!X13+Gorna!X13+Svishtov!X13+Rosica!X13+Gabrovo!X13+Plachkovci!X13+Sevlievo!X13+Bqla!X13+Dunav_Ruse!X13+Silistra!X13+Tutrakan!X13+Seslav!X13+Karakuz!X13+Razgrad!X13+Voden!X13 -> 798 | Y13: =Bujnovci!Y13+Elena!Y13+Bolqrka!Y13+Gorna!Y13+Svishtov!Y13+Rosica!Y13+Gabrovo!Y13+Plachkovci!Y13+Sevlievo!Y13+Bqla!Y13+Dunav_Ruse!Y13+Silistra!Y13+Tutrakan!Y13+Seslav!Y13+Karakuz!Y13+Razgrad!Y13+Voden!Y13 -> 3185.5 | AA13: 1. По ГСП | AB13: =Bujnovci!AB13+Elena!AB13+Bolqrka!AB13+Gorna!AB13+Svishtov!AB13+Rosica!AB13+Gabrovo!AB13+Plachkovci!AB13+Sevlievo!AB13+Bqla!AB13+Dunav_Ruse!AB13+Silistra!AB13+Tutrakan!AB13+Seslav!AB13+Karakuz!AB13+Razgrad!AB13+Voden!AB13 -> 174.68 | AC13: =Bujnovci!AC13+Elena!AC13+Bolqrka!AC13+Gorna!AC13+Svishtov!AC13+Rosica!AC13+Gabrovo!AC13+Plachkovci!AC13+Sevlievo!AC13+Bqla!AC13+Dunav_Ruse!AC13+Silistra!AC13+Tutrakan!AC13+Seslav!AC13+Karakuz!AC13+Razgrad!AC13+Voden!AC13 -> 13493 | AD13: =Bujnovci!AD13+Elena!AD13+Bolqrka!AD13+Gorna!AD13+Svishtov!AD13+Rosica!AD13+Gabrovo!AD13+Plachkovci!AD13+Sevlievo!AD13+Bqla!AD13+Dunav_Ruse!AD13+Silistra!AD13+Tutrakan!AD13+Seslav!AD13+Karakuz!AD13+Razgrad!AD13+Voden!AD13 -> 10708 | AE13: =Bujnovci!AE13+Elena!AE13+Bolqrka!AE13+Gorna!AE13+Svishtov!AE13+Rosica!AE13+Gabrovo!AE13+Plachkovci!AE13+Sevlievo!AE13+Bqla!AE13+Dunav_Ruse!AE13+Silistra!AE13+Tutrakan!AE13+Seslav!AE13+Karakuz!AE13+Razgrad!AE13+Voden!AE13 -> 3798.5 | AF13: =Bujnovci!AF13+Elena!AF13+Bolqrka!AF13+Gorna!AF13+Svishtov!AF13+Rosica!AF13+Gabrovo!AF13+Plachkovci!AF13+Sevlievo!AF13+Bqla!AF13+Dunav_Ruse!AF13+Silistra!AF13+Tutrakan!AF13+Seslav!AF13+Karakuz!AF13+Razgrad!AF13+Voden!AF13 -> 3020.5 | AG13: =Bujnovci!AG13+Elena!AG13+Bolqrka!AG13+Gorna!AG13+Svishtov!AG13+Rosica!AG13+Gabrovo!AG13+Plachkovci!AG13+Sevlievo!AG13+Bqla!AG13+Dunav_Ruse!AG13+Silistra!AG13+Tutrakan!AG13+Seslav!AG13+Karakuz!AG13+Razgrad!AG13+Voden!AG13 -> 751 | AH13: =Bujnovci!AH13+Elena!AH13+Bolqrka!AH13+Gorna!AH13+Svishtov!AH13+Rosica!AH13+Gabrovo!AH13+Plachkovci!AH13+Sevlievo!AH13+Bqla!AH13+Dunav_Ruse!AH13+Silistra!AH13+Tutrakan!AH13+Seslav!AH13+Karakuz!AH13+Razgrad!AH13+Voden!AH13 -> 3125.5 | AJ13: 1. По ГСП | AK13: =Bujnovci!AK13+Elena!AK13+Bolqrka!AK13+Gorna!AK13+Svishtov!AK13+Rosica!AK13+Gabrovo!AK13+Plachkovci!AK13+Sevlievo!AK13+Bqla!AK13+Dunav_Ruse!AK13+Silistra!AK13+Tutrakan!AK13+Seslav!AK13+Karakuz!AK13+Razgrad!AK13+Voden!AK13 -> 147.7 | AL13: =Bujnovci!AL13+Elena!AL13+Bolqrka!AL13+Gorna!AL13+Svishtov!AL13+Rosica!AL13+Gabrovo!AL13+Plachkovci!AL13+Sevlievo!AL13+Bqla!AL13+Dunav_Ruse!AL13+Silistra!AL13+Tutrakan!AL13+Seslav!AL13+Karakuz!AL13+Razgrad!AL13+Voden!AL13 -> 14990 | AM13: =Bujnovci!AM13+Elena!AM13+Bolqrka!AM13+Gorna!AM13+Svishtov!AM13+Rosica!AM13+Gabrovo!AM13+Plachkovci!AM13+Sevlievo!AM13+Bqla!AM13+Dunav_Ruse!AM13+Silistra!AM13+Tutrakan!AM13+Seslav!AM13+Karakuz!AM13+Razgrad!AM13+Voden!AM13 -> 10019 | AN13: =Bujnovci!AN13+Elena!AN13+Bolqrka!AN13+Gorna!AN13+Svishtov!AN13+Rosica!AN13+Gabrovo!AN13+Plachkovci!AN13+Sevlievo!AN13+Bqla!AN13+Dunav_Ruse!AN13+Silistra!AN13+Tutrakan!AN13+Seslav!AN13+Karakuz!AN13+Razgrad!AN13+Voden!AN13 -> 709 | AO13: =Bujnovci!AO13+Elena!AO13+Bolqrka!AO13+Gorna!AO13+Svishtov!AO13+Rosica!AO13+Gabrovo!AO13+Plachkovci!AO13+Sevlievo!AO13+Bqla!AO13+Dunav_Ruse!AO13+Silistra!AO13+Tutrakan!AO13+Seslav!AO13+Karakuz!AO13+Razgrad!AO13+Voden!AO13 -> 2799 | AP13: =Bujnovci!AP13+Elena!AP13+Bolqrka!AP13+Gorna!AP13+Svishtov!AP13+Rosica!AP13+Gabrovo!AP13+Plachkovci!AP13+Sevlievo!AP13+Bqla!AP13+Dunav_Ruse!AP13+Silistra!AP13+Tutrakan!AP13+Seslav!AP13+Karakuz!AP13+Razgrad!AP13+Voden!AP13 -> 1694 | AQ13: =Bujnovci!AQ13+Elena!AQ13+Bolqrka!AQ13+Gorna!AQ13+Svishtov!AQ13+Rosica!AQ13+Gabrovo!AQ13+Plachkovci!AQ13+Sevlievo!AQ13+Bqla!AQ13+Dunav_Ruse!AQ13+Silistra!AQ13+Tutrakan!AQ13+Seslav!AQ13+Karakuz!AQ13+Razgrad!AQ13+Voden!AQ13 -> 4817
A14: 2. Год. план | B14: =Bujnovci!B14+Elena!B14+Bolqrka!B14+Gorna!B14+Svishtov!B14+Rosica!B14+Gabrovo!B14+Plachkovci!B14+Sevlievo!B14+Bqla!B14+Dunav_Ruse!B14+Silistra!B14+Tutrakan!B14+Seslav!B14+Karakuz!B14+Razgrad!B14+Voden!B14 -> 988.7 | C14: =Bujnovci!C14+Elena!C14+Bolqrka!C14+Gorna!C14+Svishtov!C14+Rosica!C14+Gabrovo!C14+Plachkovci!C14+Sevlievo!C14+Bqla!C14+Dunav_Ruse!C14+Silistra!C14+Tutrakan!C14+Seslav!C14+Karakuz!C14+Razgrad!C14+Voden!C14 -> 63977 | D14: =Bujnovci!D14+Elena!D14+Bolqrka!D14+Gorna!D14+Svishtov!D14+Rosica!D14+Gabrovo!D14+Plachkovci!D14+Sevlievo!D14+Bqla!D14+Dunav_Ruse!D14+Silistra!D14+Tutrakan!D14+Seslav!D14+Karakuz!D14+Razgrad!D14+Voden!D14 -> 53552 | E14: =Bujnovci!E14+Elena!E14+Bolqrka!E14+Gorna!E14+Svishtov!E14+Rosica!E14+Gabrovo!E14+Plachkovci!E14+Sevlievo!E14+Bqla!E14+Dunav_Ruse!E14+Silistra!E14+Tutrakan!E14+Seslav!E14+Karakuz!E14+Razgrad!E14+Voden!E14 -> 15320 | F14: =Bujnovci!F14+Elena!F14+Bolqrka!F14+Gorna!F14+Svishtov!F14+Rosica!F14+Gabrovo!F14+Plachkovci!F14+Sevlievo!F14+Bqla!F14+Dunav_Ruse!F14+Silistra!F14+Tutrakan!F14+Seslav!F14+Karakuz!F14+Razgrad!F14+Voden!F14 -> 10068 | G14: =Bujnovci!G14+Elena!G14+Bolqrka!G14+Gorna!G14+Svishtov!G14+Rosica!G14+Gabrovo!G14+Plachkovci!G14+Sevlievo!G14+Bqla!G14+Dunav_Ruse!G14+Silistra!G14+Tutrakan!G14+Seslav!G14+Karakuz!G14+Razgrad!G14+Voden!G14 -> 976 | H14: =Bujnovci!H14+Elena!H14+Bolqrka!H14+Gorna!H14+Svishtov!H14+Rosica!H14+Gabrovo!H14+Plachkovci!H14+Sevlievo!H14+Bqla!H14+Dunav_Ruse!H14+Silistra!H14+Tutrakan!H14+Seslav!H14+Karakuz!H14+Razgrad!H14+Voden!H14 -> 27188 | J14: 2. Год. план | K14: =Bujnovci!K14+Elena!K14+Bolqrka!K14+Gorna!K14+Svishtov!K14+Rosica!K14+Gabrovo!K14+Plachkovci!K14+Sevlievo!K14+Bqla!K14+Dunav_Ruse!K14+Silistra!K14+Tutrakan!K14+Seslav!K14+Karakuz!K14+Razgrad!K14+Voden!K14 -> 748.2 | L14: =Bujnovci!L14+Elena!L14+Bolqrka!L14+Gorna!L14+Svishtov!L14+Rosica!L14+Gabrovo!L14+Plachkovci!L14+Sevlievo!L14+Bqla!L14+Dunav_Ruse!L14+Silistra!L14+Tutrakan!L14+Seslav!L14+Karakuz!L14+Razgrad!L14+Voden!L14 -> 47389 | M14: =Bujnovci!M14+Elena!M14+Bolqrka!M14+Gorna!M14+Svishtov!M14+Rosica!M14+Gabrovo!M14+Plachkovci!M14+Sevlievo!M14+Bqla!M14+Dunav_Ruse!M14+Silistra!M14+Tutrakan!M14+Seslav!M14+Karakuz!M14+Razgrad!M14+Voden!M14 -> 39669 | N14: =Bujnovci!N14+Elena!N14+Bolqrka!N14+Gorna!N14+Svishtov!N14+Rosica!N14+Gabrovo!N14+Plachkovci!N14+Sevlievo!N14+Bqla!N14+Dunav_Ruse!N14+Silistra!N14+Tutrakan!N14+Seslav!N14+Karakuz!N14+Razgrad!N14+Voden!N14 -> 11469 | O14: =Bujnovci!O14+Elena!O14+Bolqrka!O14+Gorna!O14+Svishtov!O14+Rosica!O14+Gabrovo!O14+Plachkovci!O14+Sevlievo!O14+Bqla!O14+Dunav_Ruse!O14+Silistra!O14+Tutrakan!O14+Seslav!O14+Karakuz!O14+Razgrad!O14+Voden!O14 -> 7683 | P14: =Bujnovci!P14+Elena!P14+Bolqrka!P14+Gorna!P14+Svishtov!P14+Rosica!P14+Gabrovo!P14+Plachkovci!P14+Sevlievo!P14+Bqla!P14+Dunav_Ruse!P14+Silistra!P14+Tutrakan!P14+Seslav!P14+Karakuz!P14+Razgrad!P14+Voden!P14 -> 779 | Q14: =Bujnovci!Q14+Elena!Q14+Bolqrka!Q14+Gorna!Q14+Svishtov!Q14+Rosica!Q14+Gabrovo!Q14+Plachkovci!Q14+Sevlievo!Q14+Bqla!Q14+Dunav_Ruse!Q14+Silistra!Q14+Tutrakan!Q14+Seslav!Q14+Karakuz!Q14+Razgrad!Q14+Voden!Q14 -> 19738 | R14: 2. Год. план | S14: =Bujnovci!S14+Elena!S14+Bolqrka!S14+Gorna!S14+Svishtov!S14+Rosica!S14+Gabrovo!S14+Plachkovci!S14+Sevlievo!S14+Bqla!S14+Dunav_Ruse!S14+Silistra!S14+Tutrakan!S14+Seslav!S14+Karakuz!S14+Razgrad!S14+Voden!S14 -> 155.1 | T14: =Bujnovci!T14+Elena!T14+Bolqrka!T14+Gorna!T14+Svishtov!T14+Rosica!T14+Gabrovo!T14+Plachkovci!T14+Sevlievo!T14+Bqla!T14+Dunav_Ruse!T14+Silistra!T14+Tutrakan!T14+Seslav!T14+Karakuz!T14+Razgrad!T14+Voden!T14 -> 11101 | U14: =Bujnovci!U14+Elena!U14+Bolqrka!U14+Gorna!U14+Svishtov!U14+Rosica!U14+Gabrovo!U14+Plachkovci!U14+Sevlievo!U14+Bqla!U14+Dunav_Ruse!U14+Silistra!U14+Tutrakan!U14+Seslav!U14+Karakuz!U14+Razgrad!U14+Voden!U14 -> 9120 | V14: =Bujnovci!V14+Elena!V14+Bolqrka!V14+Gorna!V14+Svishtov!V14+Rosica!V14+Gabrovo!V14+Plachkovci!V14+Sevlievo!V14+Bqla!V14+Dunav_Ruse!V14+Silistra!V14+Tutrakan!V14+Seslav!V14+Karakuz!V14+Razgrad!V14+Voden!V14 -> 3411 | W14: =Bujnovci!W14+Elena!W14+Bolqrka!W14+Gorna!W14+Svishtov!W14+Rosica!W14+Gabrovo!W14+Plachkovci!W14+Sevlievo!W14+Bqla!W14+Dunav_Ruse!W14+Silistra!W14+Tutrakan!W14+Seslav!W14+Karakuz!W14+Razgrad!W14+Voden!W14 -> 2100 | X14: =Bujnovci!X14+Elena!X14+Bolqrka!X14+Gorna!X14+Svishtov!X14+Rosica!X14+Gabrovo!X14+Plachkovci!X14+Sevlievo!X14+Bqla!X14+Dunav_Ruse!X14+Silistra!X14+Tutrakan!X14+Seslav!X14+Karakuz!X14+Razgrad!X14+Voden!X14 -> 183 | Y14: =Bujnovci!Y14+Elena!Y14+Bolqrka!Y14+Gorna!Y14+Svishtov!Y14+Rosica!Y14+Gabrovo!Y14+Plachkovci!Y14+Sevlievo!Y14+Bqla!Y14+Dunav_Ruse!Y14+Silistra!Y14+Tutrakan!Y14+Seslav!Y14+Karakuz!Y14+Razgrad!Y14+Voden!Y14 -> 3426 | AA14: 2. Год. план | AB14: =Bujnovci!AB14+Elena!AB14+Bolqrka!AB14+Gorna!AB14+Svishtov!AB14+Rosica!AB14+Gabrovo!AB14+Plachkovci!AB14+Sevlievo!AB14+Bqla!AB14+Dunav_Ruse!AB14+Silistra!AB14+Tutrakan!AB14+Seslav!AB14+Karakuz!AB14+Razgrad!AB14+Voden!AB14 -> 152.6 | AC14: =Bujnovci!AC14+Elena!AC14+Bolqrka!AC14+Gorna!AC14+Svishtov!AC14+Rosica!AC14+Gabrovo!AC14+Plachkovci!AC14+Sevlievo!AC14+Bqla!AC14+Dunav_Ruse!AC14+Silistra!AC14+Tutrakan!AC14+Seslav!AC14+Karakuz!AC14+Razgrad!AC14+Voden!AC14 -> 11016 | AD14: =Bujnovci!AD14+Elena!AD14+Bolqrka!AD14+Gorna!AD14+Svishtov!AD14+Rosica!AD14+Gabrovo!AD14+Plachkovci!AD14+Sevlievo!AD14+Bqla!AD14+Dunav_Ruse!AD14+Silistra!AD14+Tutrakan!AD14+Seslav!AD14+Karakuz!AD14+Razgrad!AD14+Voden!AD14 -> 9051 | AE14: =Bujnovci!AE14+Elena!AE14+Bolqrka!AE14+Gorna!AE14+Svishtov!AE14+Rosica!AE14+Gabrovo!AE14+Plachkovci!AE14+Sevlievo!AE14+Bqla!AE14+Dunav_Ruse!AE14+Silistra!AE14+Tutrakan!AE14+Seslav!AE14+Karakuz!AE14+Razgrad!AE14+Voden!AE14 -> 3390 | AF14: =Bujnovci!AF14+Elena!AF14+Bolqrka!AF14+Gorna!AF14+Svishtov!AF14+Rosica!AF14+Gabrovo!AF14+Plachkovci!AF14+Sevlievo!AF14+Bqla!AF14+Dunav_Ruse!AF14+Silistra!AF14+Tutrakan!AF14+Seslav!AF14+Karakuz!AF14+Razgrad!AF14+Voden!AF14 -> 2085 | AG14: =Bujnovci!AG14+Elena!AG14+Bolqrka!AG14+Gorna!AG14+Svishtov!AG14+Rosica!AG14+Gabrovo!AG14+Plachkovci!AG14+Sevlievo!AG14+Bqla!AG14+Dunav_Ruse!AG14+Silistra!AG14+Tutrakan!AG14+Seslav!AG14+Karakuz!AG14+Razgrad!AG14+Voden!AG14 -> 183 | AH14: =Bujnovci!AH14+Elena!AH14+Bolqrka!AH14+Gorna!AH14+Svishtov!AH14+Rosica!AH14+Gabrovo!AH14+Plachkovci!AH14+Sevlievo!AH14+Bqla!AH14+Dunav_Ruse!AH14+Silistra!AH14+Tutrakan!AH14+Seslav!AH14+Karakuz!AH14+Razgrad!AH14+Voden!AH14 -> 3393 | AJ14: 2. Год. план | AK14: =Bujnovci!AK14+Elena!AK14+Bolqrka!AK14+Gorna!AK14+Svishtov!AK14+Rosica!AK14+Gabrovo!AK14+Plachkovci!AK14+Sevlievo!AK14+Bqla!AK14+Dunav_Ruse!AK14+Silistra!AK14+Tutrakan!AK14+Seslav!AK14+Karakuz!AK14+Razgrad!AK14+Voden!AK14 -> 85.4 | AL14: =Bujnovci!AL14+Elena!AL14+Bolqrka!AL14+Gorna!AL14+Svishtov!AL14+Rosica!AL14+Gabrovo!AL14+Plachkovci!AL14+Sevlievo!AL14+Bqla!AL14+Dunav_Ruse!AL14+Silistra!AL14+Tutrakan!AL14+Seslav!AL14+Karakuz!AL14+Razgrad!AL14+Voden!AL14 -> 5487 | AM14: =Bujnovci!AM14+Elena!AM14+Bolqrka!AM14+Gorna!AM14+Svishtov!AM14+Rosica!AM14+Gabrovo!AM14+Plachkovci!AM14+Sevlievo!AM14+Bqla!AM14+Dunav_Ruse!AM14+Silistra!AM14+Tutrakan!AM14+Seslav!AM14+Karakuz!AM14+Razgrad!AM14+Voden!AM14 -> 4763 | AN14: =Bujnovci!AN14+Elena!AN14+Bolqrka!AN14+Gorna!AN14+Svishtov!AN14+Rosica!AN14+Gabrovo!AN14+Plachkovci!AN14+Sevlievo!AN14+Bqla!AN14+Dunav_Ruse!AN14+Silistra!AN14+Tutrakan!AN14+Seslav!AN14+Karakuz!AN14+Razgrad!AN14+Voden!AN14 -> 440 | AO14: =Bujnovci!AO14+Elena!AO14+Bolqrka!AO14+Gorna!AO14+Svishtov!AO14+Rosica!AO14+Gabrovo!AO14+Plachkovci!AO14+Sevlievo!AO14+Bqla!AO14+Dunav_Ruse!AO14+Silistra!AO14+Tutrakan!AO14+Seslav!AO14+Karakuz!AO14+Razgrad!AO14+Voden!AO14 -> 285 | AP14: =Bujnovci!AP14+Elena!AP14+Bolqrka!AP14+Gorna!AP14+Svishtov!AP14+Rosica!AP14+Gabrovo!AP14+Plachkovci!AP14+Sevlievo!AP14+Bqla!AP14+Dunav_Ruse!AP14+Silistra!AP14+Tutrakan!AP14+Seslav!AP14+Karakuz!AP14+Razgrad!AP14+Voden!AP14 -> 14 | AQ14: =Bujnovci!AQ14+Elena!AQ14+Bolqrka!AQ14+Gorna!AQ14+Svishtov!AQ14+Rosica!AQ14+Gabrovo!AQ14+Plachkovci!AQ14+Sevlievo!AQ14+Bqla!AQ14+Dunav_Ruse!AQ14+Silistra!AQ14+Tutrakan!AQ14+Seslav!AQ14+Karakuz!AQ14+Razgrad!AQ14+Voden!AQ14 -> 4024
A15: % (2/1) | B15: =B14/B13*100 -> 95.584752 | C15: =C14/C13*100 -> 89.81434 | D15: =D14/D13*100 -> 102.73568 | E15: =E14/E13*100 -> 147.44947 | F15: =F14/F13*100 -> 51.510578 | G15: =G14/G13*100 -> 14.045186 | H15: =H14/H13*100 -> 180.05298 | J15: % (2/1) | K15: =K14/K13*100 -> 105.38919 | L15: =L14/L13*100 -> 111.71908 | M15: =M14/M13*100 -> 127.38921 | N15: =N14/N13*100 -> 200.52452 | O15: =O14/O13*100 -> 55.927207 | P15: =P14/P13*100 -> 17.478124 | Q15: =Q14/Q13*100 -> 278.09792 | R15: % (2/1) | S15: =S14/S13*100 -> 87.760991 | T15: =T14/T13*100 -> 80.299468 | U15: =U14/U13*100 -> 83.158567 | V15: =V14/V13*100 -> 86.103749 | W15: =W14/W13*100 -> 69.790628 | X15: =X14/X13*100 -> 22.932331 | Y15: =Y14/Y13*100 -> 107.54984 | AA15: % (2/1) | AB15: =AB14/AB13*100 -> 87.359744 | AC15: =AC14/AC13*100 -> 81.642333 | AD15: =AD14/AD13*100 -> 84.525588 | AE15: =AE14/AE13*100 -> 89.245755 | AF15: =AF14/AF13*100 -> 69.028307 | AG15: =AG14/AG13*100 -> 24.36751 | AH15: =AH14/AH13*100 -> 108.55863 | AJ15: % (2/1) | AK15: =AK14/AK13*100 -> 57.819905 | AL15: =AL14/AL13*100 -> 36.604403 | AM15: =AM14/AM13*100 -> 47.539675 | AN15: =AN14/AN13*100 -> 62.059238 | AO15: =AO14/AO13*100 -> 10.182208 | AP15: =AP14/AP13*100 -> 0.82644628 | AQ15: =AQ14/AQ13*100 -> 83.537471
A16: в т.ч. бял бор | B16: =Bujnovci!B16+Elena!B16+Bolqrka!B16+Gorna!B16+Svishtov!B16+Rosica!B16+Gabrovo!B16+Plachkovci!B16+Sevlievo!B16+Bqla!B16+Dunav_Ruse!B16+Silistra!B16+Tutrakan!B16+Seslav!B16+Karakuz!B16+Razgrad!B16+Voden!B16 -> 431.65 | C16: =Bujnovci!C16+Elena!C16+Bolqrka!C16+Gorna!C16+Svishtov!C16+Rosica!C16+Gabrovo!C16+Plachkovci!C16+Sevlievo!C16+Bqla!C16+Dunav_Ruse!C16+Silistra!C16+Tutrakan!C16+Seslav!C16+Karakuz!C16+Razgrad!C16+Voden!C16 -> 23861 | D16: =Bujnovci!D16+Elena!D16+Bolqrka!D16+Gorna!D16+Svishtov!D16+Rosica!D16+Gabrovo!D16+Plachkovci!D16+Sevlievo!D16+Bqla!D16+Dunav_Ruse!D16+Silistra!D16+Tutrakan!D16+Seslav!D16+Karakuz!D16+Razgrad!D16+Voden!D16 -> 21289 | E16: =Bujnovci!E16+Elena!E16+Bolqrka!E16+Gorna!E16+Svishtov!E16+Rosica!E16+Gabrovo!E16+Plachkovci!E16+Sevlievo!E16+Bqla!E16+Dunav_Ruse!E16+Silistra!E16+Tutrakan!E16+Seslav!E16+Karakuz!E16+Razgrad!E16+Voden!E16 -> 7880 | F16: =Bujnovci!F16+Elena!F16+Bolqrka!F16+Gorna!F16+Svishtov!F16+Rosica!F16+Gabrovo!F16+Plachkovci!F16+Sevlievo!F16+Bqla!F16+Dunav_Ruse!F16+Silistra!F16+Tutrakan!F16+Seslav!F16+Karakuz!F16+Razgrad!F16+Voden!F16 -> 5596 | G16: =Bujnovci!G16+Elena!G16+Bolqrka!G16+Gorna!G16+Svishtov!G16+Rosica!G16+Gabrovo!G16+Plachkovci!G16+Sevlievo!G16+Bqla!G16+Dunav_Ruse!G16+Silistra!G16+Tutrakan!G16+Seslav!G16+Karakuz!G16+Razgrad!G16+Voden!G16 -> 228 | H16: =Bujnovci!H16+Elena!H16+Bolqrka!H16+Gorna!H16+Svishtov!H16+Rosica!H16+Gabrovo!H16+Plachkovci!H16+Sevlievo!H16+Bqla!H16+Dunav_Ruse!H16+Silistra!H16+Tutrakan!H16+Seslav!H16+Karakuz!H16+Razgrad!H16+Voden!H16 -> 7585 | J16: в т.ч. бял бор | K16: =Bujnovci!K16+Elena!K16+Bolqrka!K16+Gorna!K16+Svishtov!K16+Rosica!K16+Gabrovo!K16+Plachkovci!K16+Sevlievo!K16+Bqla!K16+Dunav_Ruse!K16+Silistra!K16+Tutrakan!K16+Seslav!K16+Karakuz!K16+Razgrad!K16+Voden!K16 -> 366.05 | L16: =Bujnovci!L16+Elena!L16+Bolqrka!L16+Gorna!L16+Svishtov!L16+Rosica!L16+Gabrovo!L16+Plachkovci!L16+Sevlievo!L16+Bqla!L16+Dunav_Ruse!L16+Silistra!L16+Tutrakan!L16+Seslav!L16+Karakuz!L16+Razgrad!L16+Voden!L16 -> 19563 | M16: =Bujnovci!M16+Elena!M16+Bolqrka!M16+Gorna!M16+Svishtov!M16+Rosica!M16+Gabrovo!M16+Plachkovci!M16+Sevlievo!M16+Bqla!M16+Dunav_Ruse!M16+Silistra!M16+Tutrakan!M16+Seslav!M16+Karakuz!M16+Razgrad!M16+Voden!M16 -> 17762 | N16: =Bujnovci!N16+Elena!N16+Bolqrka!N16+Gorna!N16+Svishtov!N16+Rosica!N16+Gabrovo!N16+Plachkovci!N16+Sevlievo!N16+Bqla!N16+Dunav_Ruse!N16+Silistra!N16+Tutrakan!N16+Seslav!N16+Karakuz!N16+Razgrad!N16+Voden!N16 -> 6417 | O16: =Bujnovci!O16+Elena!O16+Bolqrka!O16+Gorna!O16+Svishtov!O16+Rosica!O16+Gabrovo!O16+Plachkovci!O16+Sevlievo!O16+Bqla!O16+Dunav_Ruse!O16+Silistra!O16+Tutrakan!O16+Seslav!O16+Karakuz!O16+Razgrad!O16+Voden!O16 -> 5112 | P16: =Bujnovci!P16+Elena!P16+Bolqrka!P16+Gorna!P16+Svishtov!P16+Rosica!P16+Gabrovo!P16+Plachkovci!P16+Sevlievo!P16+Bqla!P16+Dunav_Ruse!P16+Silistra!P16+Tutrakan!P16+Seslav!P16+Karakuz!P16+Razgrad!P16+Voden!P16 -> 210 | Q16: =Bujnovci!Q16+Elena!Q16+Bolqrka!Q16+Gorna!Q16+Svishtov!Q16+Rosica!Q16+Gabrovo!Q16+Plachkovci!Q16+Sevlievo!Q16+Bqla!Q16+Dunav_Ruse!Q16+Silistra!Q16+Tutrakan!Q16+Seslav!Q16+Karakuz!Q16+Razgrad!Q16+Voden!Q16 -> 6023 | R16: в т.ч. бял бор | S16: =Bujnovci!S16+Elena!S16+Bolqrka!S16+Gorna!S16+Svishtov!S16+Rosica!S16+Gabrovo!S16+Plachkovci!S16+Sevlievo!S16+Bqla!S16+Dunav_Ruse!S16+Silistra!S16+Tutrakan!S16+Seslav!S16+Karakuz!S16+Razgrad!S16+Voden!S16 -> 42.6 | T16: =Bujnovci!T16+Elena!T16+Bolqrka!T16+Gorna!T16+Svishtov!T16+Rosica!T16+Gabrovo!T16+Plachkovci!T16+Sevlievo!T16+Bqla!T16+Dunav_Ruse!T16+Silistra!T16+Tutrakan!T16+Seslav!T16+Karakuz!T16+Razgrad!T16+Voden!T16 -> 3192 | U16: =Bujnovci!U16+Elena!U16+Bolqrka!U16+Gorna!U16+Svishtov!U16+Rosica!U16+Gabrovo!U16+Plachkovci!U16+Sevlievo!U16+Bqla!U16+Dunav_Ruse!U16+Silistra!U16+Tutrakan!U16+Seslav!U16+Karakuz!U16+Razgrad!U16+Voden!U16 -> 2592 | V16: =Bujnovci!V16+Elena!V16+Bolqrka!V16+Gorna!V16+Svishtov!V16+Rosica!V16+Gabrovo!V16+Plachkovci!V16+Sevlievo!V16+Bqla!V16+Dunav_Ruse!V16+Silistra!V16+Tutrakan!V16+Seslav!V16+Karakuz!V16+Razgrad!V16+Voden!V16 -> 1367 | W16: =Bujnovci!W16+Elena!W16+Bolqrka!W16+Gorna!W16+Svishtov!W16+Rosica!W16+Gabrovo!W16+Plachkovci!W16+Sevlievo!W16+Bqla!W16+Dunav_Ruse!W16+Silistra!W16+Tutrakan!W16+Seslav!W16+Karakuz!W16+Razgrad!W16+Voden!W16 -> 428 | X16: =Bujnovci!X16+Elena!X16+Bolqrka!X16+Gorna!X16+Svishtov!X16+Rosica!X16+Gabrovo!X16+Plachkovci!X16+Sevlievo!X16+Bqla!X16+Dunav_Ruse!X16+Silistra!X16+Tutrakan!X16+Seslav!X16+Karakuz!X16+Razgrad!X16+Voden!X16 -> 18 | Y16: =Bujnovci!Y16+Elena!Y16+Bolqrka!Y16+Gorna!Y16+Svishtov!Y16+Rosica!Y16+Gabrovo!Y16+Plachkovci!Y16+Sevlievo!Y16+Bqla!Y16+Dunav_Ruse!Y16+Silistra!Y16+Tutrakan!Y16+Seslav!Y16+Karakuz!Y16+Razgrad!Y16+Voden!Y16 -> 779 | AA16: в т.ч. бял бор | AB16: =Bujnovci!AB16+Elena!AB16+Bolqrka!AB16+Gorna!AB16+Svishtov!AB16+Rosica!AB16+Gabrovo!AB16+Plachkovci!AB16+Sevlievo!AB16+Bqla!AB16+Dunav_Ruse!AB16+Silistra!AB16+Tutrakan!AB16+Seslav!AB16+Karakuz!AB16+Razgrad!AB16+Voden!AB16 -> 40.8 | AC16: =Bujnovci!AC16+Elena!AC16+Bolqrka!AC16+Gorna!AC16+Svishtov!AC16+Rosica!AC16+Gabrovo!AC16+Plachkovci!AC16+Sevlievo!AC16+Bqla!AC16+Dunav_Ruse!AC16+Silistra!AC16+Tutrakan!AC16+Seslav!AC16+Karakuz!AC16+Razgrad!AC16+Voden!AC16 -> 3191 | AD16: =Bujnovci!AD16+Elena!AD16+Bolqrka!AD16+Gorna!AD16+Svishtov!AD16+Rosica!AD16+Gabrovo!AD16+Plachkovci!AD16+Sevlievo!AD16+Bqla!AD16+Dunav_Ruse!AD16+Silistra!AD16+Tutrakan!AD16+Seslav!AD16+Karakuz!AD16+Razgrad!AD16+Voden!AD16 -> 2591 | AE16: =Bujnovci!AE16+Elena!AE16+Bolqrka!AE16+Gorna!AE16+Svishtov!AE16+Rosica!AE16+Gabrovo!AE16+Plachkovci!AE16+Sevlievo!AE16+Bqla!AE16+Dunav_Ruse!AE16+Silistra!AE16+Tutrakan!AE16+Seslav!AE16+Karakuz!AE16+Razgrad!AE16+Voden!AE16 -> 1367 | AF16: =Bujnovci!AF16+Elena!AF16+Bolqrka!AF16+Gorna!AF16+Svishtov!AF16+Rosica!AF16+Gabrovo!AF16+Plachkovci!AF16+Sevlievo!AF16+Bqla!AF16+Dunav_Ruse!AF16+Silistra!AF16+Tutrakan!AF16+Seslav!AF16+Karakuz!AF16+Razgrad!AF16+Voden!AF16 -> 428 | AG16: =Bujnovci!AG16+Elena!AG16+Bolqrka!AG16+Gorna!AG16+Svishtov!AG16+Rosica!AG16+Gabrovo!AG16+Plachkovci!AG16+Sevlievo!AG16+Bqla!AG16+Dunav_Ruse!AG16+Silistra!AG16+Tutrakan!AG16+Seslav!AG16+Karakuz!AG16+Razgrad!AG16+Voden!AG16 -> 18 | AH16: =Bujnovci!AH16+Elena!AH16+Bolqrka!AH16+Gorna!AH16+Svishtov!AH16+Rosica!AH16+Gabrovo!AH16+Plachkovci!AH16+Sevlievo!AH16+Bqla!AH16+Dunav_Ruse!AH16+Silistra!AH16+Tutrakan!AH16+Seslav!AH16+Karakuz!AH16+Razgrad!AH16+Voden!AH16 -> 778 | AJ16: в т.ч. бял бор | AK16: =Bujnovci!AK16+Elena!AK16+Bolqrka!AK16+Gorna!AK16+Svishtov!AK16+Rosica!AK16+Gabrovo!AK16+Plachkovci!AK16+Sevlievo!AK16+Bqla!AK16+Dunav_Ruse!AK16+Silistra!AK16+Tutrakan!AK16+Seslav!AK16+Karakuz!AK16+Razgrad!AK16+Voden!AK16 -> 23 | AL16: =Bujnovci!AL16+Elena!AL16+Bolqrka!AL16+Gorna!AL16+Svishtov!AL16+Rosica!AL16+Gabrovo!AL16+Plachkovci!AL16+Sevlievo!AL16+Bqla!AL16+Dunav_Ruse!AL16+Silistra!AL16+Tutrakan!AL16+Seslav!AL16+Karakuz!AL16+Razgrad!AL16+Voden!AL16 -> 1106 | AM16: =Bujnovci!AM16+Elena!AM16+Bolqrka!AM16+Gorna!AM16+Svishtov!AM16+Rosica!AM16+Gabrovo!AM16+Plachkovci!AM16+Sevlievo!AM16+Bqla!AM16+Dunav_Ruse!AM16+Silistra!AM16+Tutrakan!AM16+Seslav!AM16+Karakuz!AM16+Razgrad!AM16+Voden!AM16 -> 937 | AN16: =Bujnovci!AN16+Elena!AN16+Bolqrka!AN16+Gorna!AN16+Svishtov!AN16+Rosica!AN16+Gabrovo!AN16+Plachkovci!AN16+Sevlievo!AN16+Bqla!AN16+Dunav_Ruse!AN16+Silistra!AN16+Tutrakan!AN16+Seslav!AN16+Karakuz!AN16+Razgrad!AN16+Voden!AN16 -> 96 | AO16: =Bujnovci!AO16+Elena!AO16+Bolqrka!AO16+Gorna!AO16+Svishtov!AO16+Rosica!AO16+Gabrovo!AO16+Plachkovci!AO16+Sevlievo!AO16+Bqla!AO16+Dunav_Ruse!AO16+Silistra!AO16+Tutrakan!AO16+Seslav!AO16+Karakuz!AO16+Razgrad!AO16+Voden!AO16 -> 56 | AP16: =Bujnovci!AP16+Elena!AP16+Bolqrka!AP16+Gorna!AP16+Svishtov!AP16+Rosica!AP16+Gabrovo!AP16+Plachkovci!AP16+Sevlievo!AP16+Bqla!AP16+Dunav_Ruse!AP16+Silistra!AP16+Tutrakan!AP16+Seslav!AP16+Karakuz!AP16+Razgrad!AP16+Voden!AP16 -> 0 | AQ16: =Bujnovci!AQ16+Elena!AQ16+Bolqrka!AQ16+Gorna!AQ16+Svishtov!AQ16+Rosica!AQ16+Gabrovo!AQ16+Plachkovci!AQ16+Sevlievo!AQ16+Bqla!AQ16+Dunav_Ruse!AQ16+Silistra!AQ16+Tutrakan!AQ16+Seslav!AQ16+Karakuz!AQ16+Razgrad!AQ16+Voden!AQ16 -> 783
A17: смърч | B17: =Bujnovci!B17+Elena!B17+Bolqrka!B17+Gorna!B17+Svishtov!B17+Rosica!B17+Gabrovo!B17+Plachkovci!B17+Sevlievo!B17+Bqla!B17+Dunav_Ruse!B17+Silistra!B17+Tutrakan!B17+Seslav!B17+Karakuz!B17+Razgrad!B17+Voden!B17 -> 35.4 | C17: =Bujnovci!C17+Elena!C17+Bolqrka!C17+Gorna!C17+Svishtov!C17+Rosica!C17+Gabrovo!C17+Plachkovci!C17+Sevlievo!C17+Bqla!C17+Dunav_Ruse!C17+Silistra!C17+Tutrakan!C17+Seslav!C17+Karakuz!C17+Razgrad!C17+Voden!C17 -> 4104 | D17: =Bujnovci!D17+Elena!D17+Bolqrka!D17+Gorna!D17+Svishtov!D17+Rosica!D17+Gabrovo!D17+Plachkovci!D17+Sevlievo!D17+Bqla!D17+Dunav_Ruse!D17+Silistra!D17+Tutrakan!D17+Seslav!D17+Karakuz!D17+Razgrad!D17+Voden!D17 -> 3417 | E17: =Bujnovci!E17+Elena!E17+Bolqrka!E17+Gorna!E17+Svishtov!E17+Rosica!E17+Gabrovo!E17+Plachkovci!E17+Sevlievo!E17+Bqla!E17+Dunav_Ruse!E17+Silistra!E17+Tutrakan!E17+Seslav!E17+Karakuz!E17+Razgrad!E17+Voden!E17 -> 988 | F17: =Bujnovci!F17+Elena!F17+Bolqrka!F17+Gorna!F17+Svishtov!F17+Rosica!F17+Gabrovo!F17+Plachkovci!F17+Sevlievo!F17+Bqla!F17+Dunav_Ruse!F17+Silistra!F17+Tutrakan!F17+Seslav!F17+Karakuz!F17+Razgrad!F17+Voden!F17 -> 664 | G17: =Bujnovci!G17+Elena!G17+Bolqrka!G17+Gorna!G17+Svishtov!G17+Rosica!G17+Gabrovo!G17+Plachkovci!G17+Sevlievo!G17+Bqla!G17+Dunav_Ruse!G17+Silistra!G17+Tutrakan!G17+Seslav!G17+Karakuz!G17+Razgrad!G17+Voden!G17 -> 101 | H17: =Bujnovci!H17+Elena!H17+Bolqrka!H17+Gorna!H17+Svishtov!H17+Rosica!H17+Gabrovo!H17+Plachkovci!H17+Sevlievo!H17+Bqla!H17+Dunav_Ruse!H17+Silistra!H17+Tutrakan!H17+Seslav!H17+Karakuz!H17+Razgrad!H17+Voden!H17 -> 1664 | J17: смърч | K17: =Bujnovci!K17+Elena!K17+Bolqrka!K17+Gorna!K17+Svishtov!K17+Rosica!K17+Gabrovo!K17+Plachkovci!K17+Sevlievo!K17+Bqla!K17+Dunav_Ruse!K17+Silistra!K17+Tutrakan!K17+Seslav!K17+Karakuz!K17+Razgrad!K17+Voden!K17 -> 30 | L17: =Bujnovci!L17+Elena!L17+Bolqrka!L17+Gorna!L17+Svishtov!L17+Rosica!L17+Gabrovo!L17+Plachkovci!L17+Sevlievo!L17+Bqla!L17+Dunav_Ruse!L17+Silistra!L17+Tutrakan!L17+Seslav!L17+Karakuz!L17+Razgrad!L17+Voden!L17 -> 3588 | M17: =Bujnovci!M17+Elena!M17+Bolqrka!M17+Gorna!M17+Svishtov!M17+Rosica!M17+Gabrovo!M17+Plachkovci!M17+Sevlievo!M17+Bqla!M17+Dunav_Ruse!M17+Silistra!M17+Tutrakan!M17+Seslav!M17+Karakuz!M17+Razgrad!M17+Voden!M17 -> 2978 | N17: =Bujnovci!N17+Elena!N17+Bolqrka!N17+Gorna!N17+Svishtov!N17+Rosica!N17+Gabrovo!N17+Plachkovci!N17+Sevlievo!N17+Bqla!N17+Dunav_Ruse!N17+Silistra!N17+Tutrakan!N17+Seslav!N17+Karakuz!N17+Razgrad!N17+Voden!N17 -> 822 | O17: =Bujnovci!O17+Elena!O17+Bolqrka!O17+Gorna!O17+Svishtov!O17+Rosica!O17+Gabrovo!O17+Plachkovci!O17+Sevlievo!O17+Bqla!O17+Dunav_Ruse!O17+Silistra!O17+Tutrakan!O17+Seslav!O17+Karakuz!O17+Razgrad!O17+Voden!O17 -> 603 | P17: =Bujnovci!P17+Elena!P17+Bolqrka!P17+Gorna!P17+Svishtov!P17+Rosica!P17+Gabrovo!P17+Plachkovci!P17+Sevlievo!P17+Bqla!P17+Dunav_Ruse!P17+Silistra!P17+Tutrakan!P17+Seslav!P17+Karakuz!P17+Razgrad!P17+Voden!P17 -> 86 | Q17: =Bujnovci!Q17+Elena!Q17+Bolqrka!Q17+Gorna!Q17+Svishtov!Q17+Rosica!Q17+Gabrovo!Q17+Plachkovci!Q17+Sevlievo!Q17+Bqla!Q17+Dunav_Ruse!Q17+Silistra!Q17+Tutrakan!Q17+Seslav!Q17+Karakuz!Q17+Razgrad!Q17+Voden!Q17 -> 1467 | R17: смърч | S17: =Bujnovci!S17+Elena!S17+Bolqrka!S17+Gorna!S17+Svishtov!S17+Rosica!S17+Gabrovo!S17+Plachkovci!S17+Sevlievo!S17+Bqla!S17+Dunav_Ruse!S17+Silistra!S17+Tutrakan!S17+Seslav!S17+Karakuz!S17+Razgrad!S17+Voden!S17 -> 0.7 | T17: =Bujnovci!T17+Elena!T17+Bolqrka!T17+Gorna!T17+Svishtov!T17+Rosica!T17+Gabrovo!T17+Plachkovci!T17+Sevlievo!T17+Bqla!T17+Dunav_Ruse!T17+Silistra!T17+Tutrakan!T17+Seslav!T17+Karakuz!T17+Razgrad!T17+Voden!T17 -> 48 | U17: =Bujnovci!U17+Elena!U17+Bolqrka!U17+Gorna!U17+Svishtov!U17+Rosica!U17+Gabrovo!U17+Plachkovci!U17+Sevlievo!U17+Bqla!U17+Dunav_Ruse!U17+Silistra!U17+Tutrakan!U17+Seslav!U17+Karakuz!U17+Razgrad!U17+Voden!U17 -> 44 | V17: =Bujnovci!V17+Elena!V17+Bolqrka!V17+Gorna!V17+Svishtov!V17+Rosica!V17+Gabrovo!V17+Plachkovci!V17+Sevlievo!V17+Bqla!V17+Dunav_Ruse!V17+Silistra!V17+Tutrakan!V17+Seslav!V17+Karakuz!V17+Razgrad!V17+Voden!V17 -> 14 | W17: =Bujnovci!W17+Elena!W17+Bolqrka!W17+Gorna!W17+Svishtov!W17+Rosica!W17+Gabrovo!W17+Plachkovci!W17+Sevlievo!W17+Bqla!W17+Dunav_Ruse!W17+Silistra!W17+Tutrakan!W17+Seslav!W17+Karakuz!W17+Razgrad!W17+Voden!W17 -> 1 | X17: =Bujnovci!X17+Elena!X17+Bolqrka!X17+Gorna!X17+Svishtov!X17+Rosica!X17+Gabrovo!X17+Plachkovci!X17+Sevlievo!X17+Bqla!X17+Dunav_Ruse!X17+Silistra!X17+Tutrakan!X17+Seslav!X17+Karakuz!X17+Razgrad!X17+Voden!X17 -> 1 | Y17: =Bujnovci!Y17+Elena!Y17+Bolqrka!Y17+Gorna!Y17+Svishtov!Y17+Rosica!Y17+Gabrovo!Y17+Plachkovci!Y17+Sevlievo!Y17+Bqla!Y17+Dunav_Ruse!Y17+Silistra!Y17+Tutrakan!Y17+Seslav!Y17+Karakuz!Y17+Razgrad!Y17+Voden!Y17 -> 28 | AA17: смърч | AB17: =Bujnovci!AB17+Elena!AB17+Bolqrka!AB17+Gorna!AB17+Svishtov!AB17+Rosica!AB17+Gabrovo!AB17+Plachkovci!AB17+Sevlievo!AB17+Bqla!AB17+Dunav_Ruse!AB17+Silistra!AB17+Tutrakan!AB17+Seslav!AB17+Karakuz!AB17+Razgrad!AB17+Voden!AB17 -> 0.7 | AC17: =Bujnovci!AC17+Elena!AC17+Bolqrka!AC17+Gorna!AC17+Svishtov!AC17+Rosica!AC17+Gabrovo!AC17+Plachkovci!AC17+Sevlievo!AC17+Bqla!AC17+Dunav_Ruse!AC17+Silistra!AC17+Tutrakan!AC17+Seslav!AC17+Karakuz!AC17+Razgrad!AC17+Voden!AC17 -> 48 | AD17: =Bujnovci!AD17+Elena!AD17+Bolqrka!AD17+Gorna!AD17+Svishtov!AD17+Rosica!AD17+Gabrovo!AD17+Plachkovci!AD17+Sevlievo!AD17+Bqla!AD17+Dunav_Ruse!AD17+Silistra!AD17+Tutrakan!AD17+Seslav!AD17+Karakuz!AD17+Razgrad!AD17+Voden!AD17 -> 44 | AE17: =Bujnovci!AE17+Elena!AE17+Bolqrka!AE17+Gorna!AE17+Svishtov!AE17+Rosica!AE17+Gabrovo!AE17+Plachkovci!AE17+Sevlievo!AE17+Bqla!AE17+Dunav_Ruse!AE17+Silistra!AE17+Tutrakan!AE17+Seslav!AE17+Karakuz!AE17+Razgrad!AE17+Voden!AE17 -> 14 | AF17: =Bujnovci!AF17+Elena!AF17+Bolqrka!AF17+Gorna!AF17+Svishtov!AF17+Rosica!AF17+Gabrovo!AF17+Plachkovci!AF17+Sevlievo!AF17+Bqla!AF17+Dunav_Ruse!AF17+Silistra!AF17+Tutrakan!AF17+Seslav!AF17+Karakuz!AF17+Razgrad!AF17+Voden!AF17 -> 1 | AG17: =Bujnovci!AG17+Elena!AG17+Bolqrka!AG17+Gorna!AG17+Svishtov!AG17+Rosica!AG17+Gabrovo!AG17+Plachkovci!AG17+Sevlievo!AG17+Bqla!AG17+Dunav_Ruse!AG17+Silistra!AG17+Tutrakan!AG17+Seslav!AG17+Karakuz!AG17+Razgrad!AG17+Voden!AG17 -> 1 | AH17: =Bujnovci!AH17+Elena!AH17+Bolqrka!AH17+Gorna!AH17+Svishtov!AH17+Rosica!AH17+Gabrovo!AH17+Plachkovci!AH17+Sevlievo!AH17+Bqla!AH17+Dunav_Ruse!AH17+Silistra!AH17+Tutrakan!AH17+Seslav!AH17+Karakuz!AH17+Razgrad!AH17+Voden!AH17 -> 28 | AJ17: смърч | AK17: =Bujnovci!AK17+Elena!AK17+Bolqrka!AK17+Gorna!AK17+Svishtov!AK17+Rosica!AK17+Gabrovo!AK17+Plachkovci!AK17+Sevlievo!AK17+Bqla!AK17+Dunav_Ruse!AK17+Silistra!AK17+Tutrakan!AK17+Seslav!AK17+Karakuz!AK17+Razgrad!AK17+Voden!AK17 -> 4.7 | AL17: =Bujnovci!AL17+Elena!AL17+Bolqrka!AL17+Gorna!AL17+Svishtov!AL17+Rosica!AL17+Gabrovo!AL17+Plachkovci!AL17+Sevlievo!AL17+Bqla!AL17+Dunav_Ruse!AL17+Silistra!AL17+Tutrakan!AL17+Seslav!AL17+Karakuz!AL17+Razgrad!AL17+Voden!AL17 -> 468 | AM17: =Bujnovci!AM17+Elena!AM17+Bolqrka!AM17+Gorna!AM17+Svishtov!AM17+Rosica!AM17+Gabrovo!AM17+Plachkovci!AM17+Sevlievo!AM17+Bqla!AM17+Dunav_Ruse!AM17+Silistra!AM17+Tutrakan!AM17+Seslav!AM17+Karakuz!AM17+Razgrad!AM17+Voden!AM17 -> 395 | AN17: =Bujnovci!AN17+Elena!AN17+Bolqrka!AN17+Gorna!AN17+Svishtov!AN17+Rosica!AN17+Gabrovo!AN17+Plachkovci!AN17+Sevlievo!AN17+Bqla!AN17+Dunav_Ruse!AN17+Silistra!AN17+Tutrakan!AN17+Seslav!AN17+Karakuz!AN17+Razgrad!AN17+Voden!AN17 -> 152 | AO17: =Bujnovci!AO17+Elena!AO17+Bolqrka!AO17+Gorna!AO17+Svishtov!AO17+Rosica!AO17+Gabrovo!AO17+Plachkovci!AO17+Sevlievo!AO17+Bqla!AO17+Dunav_Ruse!AO17+Silistra!AO17+Tutrakan!AO17+Seslav!AO17+Karakuz!AO17+Razgrad!AO17+Voden!AO17 -> 60 | AP17: =Bujnovci!AP17+Elena!AP17+Bolqrka!AP17+Gorna!AP17+Svishtov!AP17+Rosica!AP17+Gabrovo!AP17+Plachkovci!AP17+Sevlievo!AP17+Bqla!AP17+Dunav_Ruse!AP17+Silistra!AP17+Tutrakan!AP17+Seslav!AP17+Karakuz!AP17+Razgrad!AP17+Voden!AP17 -> 14 | AQ17: =Bujnovci!AQ17+Elena!AQ17+Bolqrka!AQ17+Gorna!AQ17+Svishtov!AQ17+Rosica!AQ17+Gabrovo!AQ17+Plachkovci!AQ17+Sevlievo!AQ17+Bqla!AQ17+Dunav_Ruse!AQ17+Silistra!AQ17+Tutrakan!AQ17+Seslav!AQ17+Karakuz!AQ17+Razgrad!AQ17+Voden!AQ17 -> 169
A18: ела | B18: =Bujnovci!B18+Elena!B18+Bolqrka!B18+Gorna!B18+Svishtov!B18+Rosica!B18+Gabrovo!B18+Plachkovci!B18+Sevlievo!B18+Bqla!B18+Dunav_Ruse!B18+Silistra!B18+Tutrakan!B18+Seslav!B18+Karakuz!B18+Razgrad!B18+Voden!B18 -> 14.8 | C18: =Bujnovci!C18+Elena!C18+Bolqrka!C18+Gorna!C18+Svishtov!C18+Rosica!C18+Gabrovo!C18+Plachkovci!C18+Sevlievo!C18+Bqla!C18+Dunav_Ruse!C18+Silistra!C18+Tutrakan!C18+Seslav!C18+Karakuz!C18+Razgrad!C18+Voden!C18 -> 1232 | D18: =Bujnovci!D18+Elena!D18+Bolqrka!D18+Gorna!D18+Svishtov!D18+Rosica!D18+Gabrovo!D18+Plachkovci!D18+Sevlievo!D18+Bqla!D18+Dunav_Ruse!D18+Silistra!D18+Tutrakan!D18+Seslav!D18+Karakuz!D18+Razgrad!D18+Voden!D18 -> 1048 | E18: =Bujnovci!E18+Elena!E18+Bolqrka!E18+Gorna!E18+Svishtov!E18+Rosica!E18+Gabrovo!E18+Plachkovci!E18+Sevlievo!E18+Bqla!E18+Dunav_Ruse!E18+Silistra!E18+Tutrakan!E18+Seslav!E18+Karakuz!E18+Razgrad!E18+Voden!E18 -> 717 | F18: =Bujnovci!F18+Elena!F18+Bolqrka!F18+Gorna!F18+Svishtov!F18+Rosica!F18+Gabrovo!F18+Plachkovci!F18+Sevlievo!F18+Bqla!F18+Dunav_Ruse!F18+Silistra!F18+Tutrakan!F18+Seslav!F18+Karakuz!F18+Razgrad!F18+Voden!F18 -> 142 | G18: =Bujnovci!G18+Elena!G18+Bolqrka!G18+Gorna!G18+Svishtov!G18+Rosica!G18+Gabrovo!G18+Plachkovci!G18+Sevlievo!G18+Bqla!G18+Dunav_Ruse!G18+Silistra!G18+Tutrakan!G18+Seslav!G18+Karakuz!G18+Razgrad!G18+Voden!G18 -> 28 | H18: =Bujnovci!H18+Elena!H18+Bolqrka!H18+Gorna!H18+Svishtov!H18+Rosica!H18+Gabrovo!H18+Plachkovci!H18+Sevlievo!H18+Bqla!H18+Dunav_Ruse!H18+Silistra!H18+Tutrakan!H18+Seslav!H18+Karakuz!H18+Razgrad!H18+Voden!H18 -> 161 | J18: ела | K18: =Bujnovci!K18+Elena!K18+Bolqrka!K18+Gorna!K18+Svishtov!K18+Rosica!K18+Gabrovo!K18+Plachkovci!K18+Sevlievo!K18+Bqla!K18+Dunav_Ruse!K18+Silistra!K18+Tutrakan!K18+Seslav!K18+Karakuz!K18+Razgrad!K18+Voden!K18 -> 14.1 | L18: =Bujnovci!L18+Elena!L18+Bolqrka!L18+Gorna!L18+Svishtov!L18+Rosica!L18+Gabrovo!L18+Plachkovci!L18+Sevlievo!L18+Bqla!L18+Dunav_Ruse!L18+Silistra!L18+Tutrakan!L18+Seslav!L18+Karakuz!L18+Razgrad!L18+Voden!L18 -> 1199 | M18: =Bujnovci!M18+Elena!M18+Bolqrka!M18+Gorna!M18+Svishtov!M18+Rosica!M18+Gabrovo!M18+Plachkovci!M18+Sevlievo!M18+Bqla!M18+Dunav_Ruse!M18+Silistra!M18+Tutrakan!M18+Seslav!M18+Karakuz!M18+Razgrad!M18+Voden!M18 -> 1025 | N18: =Bujnovci!N18+Elena!N18+Bolqrka!N18+Gorna!N18+Svishtov!N18+Rosica!N18+Gabrovo!N18+Plachkovci!N18+Sevlievo!N18+Bqla!N18+Dunav_Ruse!N18+Silistra!N18+Tutrakan!N18+Seslav!N18+Karakuz!N18+Razgrad!N18+Voden!N18 -> 697 | O18: =Bujnovci!O18+Elena!O18+Bolqrka!O18+Gorna!O18+Svishtov!O18+Rosica!O18+Gabrovo!O18+Plachkovci!O18+Sevlievo!O18+Bqla!O18+Dunav_Ruse!O18+Silistra!O18+Tutrakan!O18+Seslav!O18+Karakuz!O18+Razgrad!O18+Voden!O18 -> 142 | P18: =Bujnovci!P18+Elena!P18+Bolqrka!P18+Gorna!P18+Svishtov!P18+Rosica!P18+Gabrovo!P18+Plachkovci!P18+Sevlievo!P18+Bqla!P18+Dunav_Ruse!P18+Silistra!P18+Tutrakan!P18+Seslav!P18+Karakuz!P18+Razgrad!P18+Voden!P18 -> 28 | Q18: =Bujnovci!Q18+Elena!Q18+Bolqrka!Q18+Gorna!Q18+Svishtov!Q18+Rosica!Q18+Gabrovo!Q18+Plachkovci!Q18+Sevlievo!Q18+Bqla!Q18+Dunav_Ruse!Q18+Silistra!Q18+Tutrakan!Q18+Seslav!Q18+Karakuz!Q18+Razgrad!Q18+Voden!Q18 -> 158 | R18: ела | S18: =Bujnovci!S18+Elena!S18+Bolqrka!S18+Gorna!S18+Svishtov!S18+Rosica!S18+Gabrovo!S18+Plachkovci!S18+Sevlievo!S18+Bqla!S18+Dunav_Ruse!S18+Silistra!S18+Tutrakan!S18+Seslav!S18+Karakuz!S18+Razgrad!S18+Voden!S18 -> 0.7 | T18: =Bujnovci!T18+Elena!T18+Bolqrka!T18+Gorna!T18+Svishtov!T18+Rosica!T18+Gabrovo!T18+Plachkovci!T18+Sevlievo!T18+Bqla!T18+Dunav_Ruse!T18+Silistra!T18+Tutrakan!T18+Seslav!T18+Karakuz!T18+Razgrad!T18+Voden!T18 -> 26 | U18: =Bujnovci!U18+Elena!U18+Bolqrka!U18+Gorna!U18+Svishtov!U18+Rosica!U18+Gabrovo!U18+Plachkovci!U18+Sevlievo!U18+Bqla!U18+Dunav_Ruse!U18+Silistra!U18+Tutrakan!U18+Seslav!U18+Karakuz!U18+Razgrad!U18+Voden!U18 -> 23 | V18: =Bujnovci!V18+Elena!V18+Bolqrka!V18+Gorna!V18+Svishtov!V18+Rosica!V18+Gabrovo!V18+Plachkovci!V18+Sevlievo!V18+Bqla!V18+Dunav_Ruse!V18+Silistra!V18+Tutrakan!V18+Seslav!V18+Karakuz!V18+Razgrad!V18+Voden!V18 -> 20 | W18: =Bujnovci!W18+Elena!W18+Bolqrka!W18+Gorna!W18+Svishtov!W18+Rosica!W18+Gabrovo!W18+Plachkovci!W18+Sevlievo!W18+Bqla!W18+Dunav_Ruse!W18+Silistra!W18+Tutrakan!W18+Seslav!W18+Karakuz!W18+Razgrad!W18+Voden!W18 -> 0 | X18: =Bujnovci!X18+Elena!X18+Bolqrka!X18+Gorna!X18+Svishtov!X18+Rosica!X18+Gabrovo!X18+Plachkovci!X18+Sevlievo!X18+Bqla!X18+Dunav_Ruse!X18+Silistra!X18+Tutrakan!X18+Seslav!X18+Karakuz!X18+Razgrad!X18+Voden!X18 -> 0 | Y18: =Bujnovci!Y18+Elena!Y18+Bolqrka!Y18+Gorna!Y18+Svishtov!Y18+Rosica!Y18+Gabrovo!Y18+Plachkovci!Y18+Sevlievo!Y18+Bqla!Y18+Dunav_Ruse!Y18+Silistra!Y18+Tutrakan!Y18+Seslav!Y18+Karakuz!Y18+Razgrad!Y18+Voden!Y18 -> 3 | AA18: ела | AB18: =Bujnovci!AB18+Elena!AB18+Bolqrka!AB18+Gorna!AB18+Svishtov!AB18+Rosica!AB18+Gabrovo!AB18+Plachkovci!AB18+Sevlievo!AB18+Bqla!AB18+Dunav_Ruse!AB18+Silistra!AB18+Tutrakan!AB18+Seslav!AB18+Karakuz!AB18+Razgrad!AB18+Voden!AB18 -> 0.7 | AC18: =Bujnovci!AC18+Elena!AC18+Bolqrka!AC18+Gorna!AC18+Svishtov!AC18+Rosica!AC18+Gabrovo!AC18+Plachkovci!AC18+Sevlievo!AC18+Bqla!AC18+Dunav_Ruse!AC18+Silistra!AC18+Tutrakan!AC18+Seslav!AC18+Karakuz!AC18+Razgrad!AC18+Voden!AC18 -> 26 | AD18: =Bujnovci!AD18+Elena!AD18+Bolqrka!AD18+Gorna!AD18+Svishtov!AD18+Rosica!AD18+Gabrovo!AD18+Plachkovci!AD18+Sevlievo!AD18+Bqla!AD18+Dunav_Ruse!AD18+Silistra!AD18+Tutrakan!AD18+Seslav!AD18+Karakuz!AD18+Razgrad!AD18+Voden!AD18 -> 23 | AE18: =Bujnovci!AE18+Elena!AE18+Bolqrka!AE18+Gorna!AE18+Svishtov!AE18+Rosica!AE18+Gabrovo!AE18+Plachkovci!AE18+Sevlievo!AE18+Bqla!AE18+Dunav_Ruse!AE18+Silistra!AE18+Tutrakan!AE18+Seslav!AE18+Karakuz!AE18+Razgrad!AE18+Voden!AE18 -> 20 | AF18: =Bujnovci!AF18+Elena!AF18+Bolqrka!AF18+Gorna!AF18+Svishtov!AF18+Rosica!AF18+Gabrovo!AF18+Plachkovci!AF18+Sevlievo!AF18+Bqla!AF18+Dunav_Ruse!AF18+Silistra!AF18+Tutrakan!AF18+Seslav!AF18+Karakuz!AF18+Razgrad!AF18+Voden!AF18 -> 0 | AG18: =Bujnovci!AG18+Elena!AG18+Bolqrka!AG18+Gorna!AG18+Svishtov!AG18+Rosica!AG18+Gabrovo!AG18+Plachkovci!AG18+Sevlievo!AG18+Bqla!AG18+Dunav_Ruse!AG18+Silistra!AG18+Tutrakan!AG18+Seslav!AG18+Karakuz!AG18+Razgrad!AG18+Voden!AG18 -> 0 | AH18: =Bujnovci!AH18+Elena!AH18+Bolqrka!AH18+Gorna!AH18+Svishtov!AH18+Rosica!AH18+Gabrovo!AH18+Plachkovci!AH18+Sevlievo!AH18+Bqla!AH18+Dunav_Ruse!AH18+Silistra!AH18+Tutrakan!AH18+Seslav!AH18+Karakuz!AH18+Razgrad!AH18+Voden!AH18 -> 3 | AJ18: ела | AK18: =Bujnovci!AK18+Elena!AK18+Bolqrka!AK18+Gorna!AK18+Svishtov!AK18+Rosica!AK18+Gabrovo!AK18+Plachkovci!AK18+Sevlievo!AK18+Bqla!AK18+Dunav_Ruse!AK18+Silistra!AK18+Tutrakan!AK18+Seslav!AK18+Karakuz!AK18+Razgrad!AK18+Voden!AK18 -> 0 | AL18: =Bujnovci!AL18+Elena!AL18+Bolqrka!AL18+Gorna!AL18+Svishtov!AL18+Rosica!AL18+Gabrovo!AL18+Plachkovci!AL18+Sevlievo!AL18+Bqla!AL18+Dunav_Ruse!AL18+Silistra!AL18+Tutrakan!AL18+Seslav!AL18+Karakuz!AL18+Razgrad!AL18+Voden!AL18 -> 7 | AM18: =Bujnovci!AM18+Elena!AM18+Bolqrka!AM18+Gorna!AM18+Svishtov!AM18+Rosica!AM18+Gabrovo!AM18+Plachkovci!AM18+Sevlievo!AM18+Bqla!AM18+Dunav_Ruse!AM18+Silistra!AM18+Tutrakan!AM18+Seslav!AM18+Karakuz!AM18+Razgrad!AM18+Voden!AM18 -> 6 | AN18: =Bujnovci!AN18+Elena!AN18+Bolqrka!AN18+Gorna!AN18+Svishtov!AN18+Rosica!AN18+Gabrovo!AN18+Plachkovci!AN18+Sevlievo!AN18+Bqla!AN18+Dunav_Ruse!AN18+Silistra!AN18+Tutrakan!AN18+Seslav!AN18+Karakuz!AN18+Razgrad!AN18+Voden!AN18 -> 0 | AO18: =Bujnovci!AO18+Elena!AO18+Bolqrka!AO18+Gorna!AO18+Svishtov!AO18+Rosica!AO18+Gabrovo!AO18+Plachkovci!AO18+Sevlievo!AO18+Bqla!AO18+Dunav_Ruse!AO18+Silistra!AO18+Tutrakan!AO18+Seslav!AO18+Karakuz!AO18+Razgrad!AO18+Voden!AO18 -> 0 | AP18: =Bujnovci!AP18+Elena!AP18+Bolqrka!AP18+Gorna!AP18+Svishtov!AP18+Rosica!AP18+Gabrovo!AP18+Plachkovci!AP18+Sevlievo!AP18+Bqla!AP18+Dunav_Ruse!AP18+Silistra!AP18+Tutrakan!AP18+Seslav!AP18+Karakuz!AP18+Razgrad!AP18+Voden!AP18 -> 0 | AQ18: =Bujnovci!AQ18+Elena!AQ18+Bolqrka!AQ18+Gorna!AQ18+Svishtov!AQ18+Rosica!AQ18+Gabrovo!AQ18+Plachkovci!AQ18+Sevlievo!AQ18+Bqla!AQ18+Dunav_Ruse!AQ18+Silistra!AQ18+Tutrakan!AQ18+Seslav!AQ18+Karakuz!AQ18+Razgrad!AQ18+Voden!AQ18 -> 0
A19: Б.Широколистни | J19: Б.Широколистни | R19: Б.Широколистни | AA19: Б.Широколистни | AJ19: Б.Широколистни
A20: 1. По ГСП | B20: =Bujnovci!B20+Elena!B20+Bolqrka!B20+Gorna!B20+Svishtov!B20+Rosica!B20+Gabrovo!B20+Plachkovci!B20+Sevlievo!B20+Bqla!B20+Dunav_Ruse!B20+Silistra!B20+Tutrakan!B20+Seslav!B20+Karakuz!B20+Razgrad!B20+Voden!B20 -> 10186.76 | C20: =Bujnovci!C20+Elena!C20+Bolqrka!C20+Gorna!C20+Svishtov!C20+Rosica!C20+Gabrovo!C20+Plachkovci!C20+Sevlievo!C20+Bqla!C20+Dunav_Ruse!C20+Silistra!C20+Tutrakan!C20+Seslav!C20+Karakuz!C20+Razgrad!C20+Voden!C20 -> 572978.5 | D20: =Bujnovci!D20+Elena!D20+Bolqrka!D20+Gorna!D20+Svishtov!D20+Rosica!D20+Gabrovo!D20+Plachkovci!D20+Sevlievo!D20+Bqla!D20+Dunav_Ruse!D20+Silistra!D20+Tutrakan!D20+Seslav!D20+Karakuz!D20+Razgrad!D20+Voden!D20 -> 494953.5 | E20: =Bujnovci!E20+Elena!E20+Bolqrka!E20+Gorna!E20+Svishtov!E20+Rosica!E20+Gabrovo!E20+Plachkovci!E20+Sevlievo!E20+Bqla!E20+Dunav_Ruse!E20+Silistra!E20+Tutrakan!E20+Seslav!E20+Karakuz!E20+Razgrad!E20+Voden!E20 -> 87230 | F20: =Bujnovci!F20+Elena!F20+Bolqrka!F20+Gorna!F20+Svishtov!F20+Rosica!F20+Gabrovo!F20+Plachkovci!F20+Sevlievo!F20+Bqla!F20+Dunav_Ruse!F20+Silistra!F20+Tutrakan!F20+Seslav!F20+Karakuz!F20+Razgrad!F20+Voden!F20 -> 105932 | G20: =Bujnovci!G20+Elena!G20+Bolqrka!G20+Gorna!G20+Svishtov!G20+Rosica!G20+Gabrovo!G20+Plachkovci!G20+Sevlievo!G20+Bqla!G20+Dunav_Ruse!G20+Silistra!G20+Tutrakan!G20+Seslav!G20+Karakuz!G20+Razgrad!G20+Voden!G20 -> 29363 | H20: =Bujnovci!H20+Elena!H20+Bolqrka!H20+Gorna!H20+Svishtov!H20+Rosica!H20+Gabrovo!H20+Plachkovci!H20+Sevlievo!H20+Bqla!H20+Dunav_Ruse!H20+Silistra!H20+Tutrakan!H20+Seslav!H20+Karakuz!H20+Razgrad!H20+Voden!H20 -> 272147 | J20: 1. По ГСП | K20: =Bujnovci!K20+Elena!K20+Bolqrka!K20+Gorna!K20+Svishtov!K20+Rosica!K20+Gabrovo!K20+Plachkovci!K20+Sevlievo!K20+Bqla!K20+Dunav_Ruse!K20+Silistra!K20+Tutrakan!K20+Seslav!K20+Karakuz!K20+Razgrad!K20+Voden!K20 -> 3289.24 | L20: =Bujnovci!L20+Elena!L20+Bolqrka!L20+Gorna!L20+Svishtov!L20+Rosica!L20+Gabrovo!L20+Plachkovci!L20+Sevlievo!L20+Bqla!L20+Dunav_Ruse!L20+Silistra!L20+Tutrakan!L20+Seslav!L20+Karakuz!L20+Razgrad!L20+Voden!L20 -> 113361.5 | M20: =Bujnovci!M20+Elena!M20+Bolqrka!M20+Gorna!M20+Svishtov!M20+Rosica!M20+Gabrovo!M20+Plachkovci!M20+Sevlievo!M20+Bqla!M20+Dunav_Ruse!M20+Silistra!M20+Tutrakan!M20+Seslav!M20+Karakuz!M20+Razgrad!M20+Voden!M20 -> 93247.5 | N20: =Bujnovci!N20+Elena!N20+Bolqrka!N20+Gorna!N20+Svishtov!N20+Rosica!N20+Gabrovo!N20+Plachkovci!N20+Sevlievo!N20+Bqla!N20+Dunav_Ruse!N20+Silistra!N20+Tutrakan!N20+Seslav!N20+Karakuz!N20+Razgrad!N20+Voden!N20 -> 7916.5 | O20: =Bujnovci!O20+Elena!O20+Bolqrka!O20+Gorna!O20+Svishtov!O20+Rosica!O20+Gabrovo!O20+Plachkovci!O20+Sevlievo!O20+Bqla!O20+Dunav_Ruse!O20+Silistra!O20+Tutrakan!O20+Seslav!O20+Karakuz!O20+Razgrad!O20+Voden!O20 -> 22713 | P20: =Bujnovci!P20+Elena!P20+Bolqrka!P20+Gorna!P20+Svishtov!P20+Rosica!P20+Gabrovo!P20+Plachkovci!P20+Sevlievo!P20+Bqla!P20+Dunav_Ruse!P20+Silistra!P20+Tutrakan!P20+Seslav!P20+Karakuz!P20+Razgrad!P20+Voden!P20 -> 7182.5 | Q20: =Bujnovci!Q20+Elena!Q20+Bolqrka!Q20+Gorna!Q20+Svishtov!Q20+Rosica!Q20+Gabrovo!Q20+Plachkovci!Q20+Sevlievo!Q20+Bqla!Q20+Dunav_Ruse!Q20+Silistra!Q20+Tutrakan!Q20+Seslav!Q20+Karakuz!Q20+Razgrad!Q20+Voden!Q20 -> 55270 | R20: 1. По ГСП | S20: =Bujnovci!S20+Elena!S20+Bolqrka!S20+Gorna!S20+Svishtov!S20+Rosica!S20+Gabrovo!S20+Plachkovci!S20+Sevlievo!S20+Bqla!S20+Dunav_Ruse!S20+Silistra!S20+Tutrakan!S20+Seslav!S20+Karakuz!S20+Razgrad!S20+Voden!S20 -> 6631.42 | T20: =Bujnovci!T20+Elena!T20+Bolqrka!T20+Gorna!T20+Svishtov!T20+Rosica!T20+Gabrovo!T20+Plachkovci!T20+Sevlievo!T20+Bqla!T20+Dunav_Ruse!T20+Silistra!T20+Tutrakan!T20+Seslav!T20+Karakuz!T20+Razgrad!T20+Voden!T20 -> 447672 | U20: =Bujnovci!U20+Elena!U20+Bolqrka!U20+Gorna!U20+Svishtov!U20+Rosica!U20+Gabrovo!U20+Plachkovci!U20+Sevlievo!U20+Bqla!U20+Dunav_Ruse!U20+Silistra!U20+Tutrakan!U20+Seslav!U20+Karakuz!U20+Razgrad!U20+Voden!U20 -> 391896 | V20: =Bujnovci!V20+Elena!V20+Bolqrka!V20+Gorna!V20+Svishtov!V20+Rosica!V20+Gabrovo!V20+Plachkovci!V20+Sevlievo!V20+Bqla!V20+Dunav_Ruse!V20+Silistra!V20+Tutrakan!V20+Seslav!V20+Karakuz!V20+Razgrad!V20+Voden!V20 -> 78833.5 | W20: =Bujnovci!W20+Elena!W20+Bolqrka!W20+Gorna!W20+Svishtov!W20+Rosica!W20+Gabrovo!W20+Plachkovci!W20+Sevlievo!W20+Bqla!W20+Dunav_Ruse!W20+Silistra!W20+Tutrakan!W20+Seslav!W20+Karakuz!W20+Razgrad!W20+Voden!W20 -> 82278 | X20: =Bujnovci!X20+Elena!X20+Bolqrka!X20+Gorna!X20+Svishtov!X20+Rosica!X20+Gabrovo!X20+Plachkovci!X20+Sevlievo!X20+Bqla!X20+Dunav_Ruse!X20+Silistra!X20+Tutrakan!X20+Seslav!X20+Karakuz!X20+Razgrad!X20+Voden!X20 -> 21480.5 | Y20: =Bujnovci!Y20+Elena!Y20+Bolqrka!Y20+Gorna!Y20+Svishtov!Y20+Rosica!Y20+Gabrovo!Y20+Plachkovci!Y20+Sevlievo!Y20+Bqla!Y20+Dunav_Ruse!Y20+Silistra!Y20+Tutrakan!Y20+Seslav!Y20+Karakuz!Y20+Razgrad!Y20+Voden!Y20 -> 209188 | AA20: 1. По ГСП | AB20: =Bujnovci!AB20+Elena!AB20+Bolqrka!AB20+Gorna!AB20+Svishtov!AB20+Rosica!AB20+Gabrovo!AB20+Plachkovci!AB20+Sevlievo!AB20+Bqla!AB20+Dunav_Ruse!AB20+Silistra!AB20+Tutrakan!AB20+Seslav!AB20+Karakuz!AB20+Razgrad!AB20+Voden!AB20 -> 1746 | AC20: =Bujnovci!AC20+Elena!AC20+Bolqrka!AC20+Gorna!AC20+Svishtov!AC20+Rosica!AC20+Gabrovo!AC20+Plachkovci!AC20+Sevlievo!AC20+Bqla!AC20+Dunav_Ruse!AC20+Silistra!AC20+Tutrakan!AC20+Seslav!AC20+Karakuz!AC20+Razgrad!AC20+Voden!AC20 -> 160742 | AD20: =Bujnovci!AD20+Elena!AD20+Bolqrka!AD20+Gorna!AD20+Svishtov!AD20+Rosica!AD20+Gabrovo!AD20+Plachkovci!AD20+Sevlievo!AD20+Bqla!AD20+Dunav_Ruse!AD20+Silistra!AD20+Tutrakan!AD20+Seslav!AD20+Karakuz!AD20+Razgrad!AD20+Voden!AD20 -> 141614 | AE20: =Bujnovci!AE20+Elena!AE20+Bolqrka!AE20+Gorna!AE20+Svishtov!AE20+Rosica!AE20+Gabrovo!AE20+Plachkovci!AE20+Sevlievo!AE20+Bqla!AE20+Dunav_Ruse!AE20+Silistra!AE20+Tutrakan!AE20+Seslav!AE20+Karakuz!AE20+Razgrad!AE20+Voden!AE20 -> 62407.5 | AF20: =Bujnovci!AF20+Elena!AF20+Bolqrka!AF20+Gorna!AF20+Svishtov!AF20+Rosica!AF20+Gabrovo!AF20+Plachkovci!AF20+Sevlievo!AF20+Bqla!AF20+Dunav_Ruse!AF20+Silistra!AF20+Tutrakan!AF20+Seslav!AF20+Karakuz!AF20+Razgrad!AF20+Voden!AF20 -> 21366 | AG20: =Bujnovci!AG20+Elena!AG20+Bolqrka!AG20+Gorna!AG20+Svishtov!AG20+Rosica!AG20+Gabrovo!AG20+Plachkovci!AG20+Sevlievo!AG20+Bqla!AG20+Dunav_Ruse!AG20+Silistra!AG20+Tutrakan!AG20+Seslav!AG20+Karakuz!AG20+Razgrad!AG20+Voden!AG20 -> 4387 | AH20: =Bujnovci!AH20+Elena!AH20+Bolqrka!AH20+Gorna!AH20+Svishtov!AH20+Rosica!AH20+Gabrovo!AH20+Plachkovci!AH20+Sevlievo!AH20+Bqla!AH20+Dunav_Ruse!AH20+Silistra!AH20+Tutrakan!AH20+Seslav!AH20+Karakuz!AH20+Razgrad!AH20+Voden!AH20 -> 53412 | AJ20: 1. По ГСП | AK20: =Bujnovci!AK20+Elena!AK20+Bolqrka!AK20+Gorna!AK20+Svishtov!AK20+Rosica!AK20+Gabrovo!AK20+Plachkovci!AK20+Sevlievo!AK20+Bqla!AK20+Dunav_Ruse!AK20+Silistra!AK20+Tutrakan!AK20+Seslav!AK20+Karakuz!AK20+Razgrad!AK20+Voden!AK20 -> 266.1 | AL20: =Bujnovci!AL20+Elena!AL20+Bolqrka!AL20+Gorna!AL20+Svishtov!AL20+Rosica!AL20+Gabrovo!AL20+Plachkovci!AL20+Sevlievo!AL20+Bqla!AL20+Dunav_Ruse!AL20+Silistra!AL20+Tutrakan!AL20+Seslav!AL20+Karakuz!AL20+Razgrad!AL20+Voden!AL20 -> 11945 | AM20: =Bujnovci!AM20+Elena!AM20+Bolqrka!AM20+Gorna!AM20+Svishtov!AM20+Rosica!AM20+Gabrovo!AM20+Plachkovci!AM20+Sevlievo!AM20+Bqla!AM20+Dunav_Ruse!AM20+Silistra!AM20+Tutrakan!AM20+Seslav!AM20+Karakuz!AM20+Razgrad!AM20+Voden!AM20 -> 9810 | AN20: =Bujnovci!AN20+Elena!AN20+Bolqrka!AN20+Gorna!AN20+Svishtov!AN20+Rosica!AN20+Gabrovo!AN20+Plachkovci!AN20+Sevlievo!AN20+Bqla!AN20+Dunav_Ruse!AN20+Silistra!AN20+Tutrakan!AN20+Seslav!AN20+Karakuz!AN20+Razgrad!AN20+Voden!AN20 -> 480 | AO20: =Bujnovci!AO20+Elena!AO20+Bolqrka!AO20+Gorna!AO20+Svishtov!AO20+Rosica!AO20+Gabrovo!AO20+Plachkovci!AO20+Sevlievo!AO20+Bqla!AO20+Dunav_Ruse!AO20+Silistra!AO20+Tutrakan!AO20+Seslav!AO20+Karakuz!AO20+Razgrad!AO20+Voden!AO20 -> 941 | AP20: =Bujnovci!AP20+Elena!AP20+Bolqrka!AP20+Gorna!AP20+Svishtov!AP20+Rosica!AP20+Gabrovo!AP20+Plachkovci!AP20+Sevlievo!AP20+Bqla!AP20+Dunav_Ruse!AP20+Silistra!AP20+Tutrakan!AP20+Seslav!AP20+Karakuz!AP20+Razgrad!AP20+Voden!AP20 -> 700 | AQ20: =Bujnovci!AQ20+Elena!AQ20+Bolqrka!AQ20+Gorna!AQ20+Svishtov!AQ20+Rosica!AQ20+Gabrovo!AQ20+Plachkovci!AQ20+Sevlievo!AQ20+Bqla!AQ20+Dunav_Ruse!AQ20+Silistra!AQ20+Tutrakan!AQ20+Seslav!AQ20+Karakuz!AQ20+Razgrad!AQ20+Voden!AQ20 -> 7689
A21: 2. Год. план | B21: =Bujnovci!B21+Elena!B21+Bolqrka!B21+Gorna!B21+Svishtov!B21+Rosica!B21+Gabrovo!B21+Plachkovci!B21+Sevlievo!B21+Bqla!B21+Dunav_Ruse!B21+Silistra!B21+Tutrakan!B21+Seslav!B21+Karakuz!B21+Razgrad!B21+Voden!B21 -> 8889.73 | C21: =Bujnovci!C21+Elena!C21+Bolqrka!C21+Gorna!C21+Svishtov!C21+Rosica!C21+Gabrovo!C21+Plachkovci!C21+Sevlievo!C21+Bqla!C21+Dunav_Ruse!C21+Silistra!C21+Tutrakan!C21+Seslav!C21+Karakuz!C21+Razgrad!C21+Voden!C21 -> 497782 | D21: =Bujnovci!D21+Elena!D21+Bolqrka!D21+Gorna!D21+Svishtov!D21+Rosica!D21+Gabrovo!D21+Plachkovci!D21+Sevlievo!D21+Bqla!D21+Dunav_Ruse!D21+Silistra!D21+Tutrakan!D21+Seslav!D21+Karakuz!D21+Razgrad!D21+Voden!D21 -> 450069 | E21: =Bujnovci!E21+Elena!E21+Bolqrka!E21+Gorna!E21+Svishtov!E21+Rosica!E21+Gabrovo!E21+Plachkovci!E21+Sevlievo!E21+Bqla!E21+Dunav_Ruse!E21+Silistra!E21+Tutrakan!E21+Seslav!E21+Karakuz!E21+Razgrad!E21+Voden!E21 -> 88114 | F21: =Bujnovci!F21+Elena!F21+Bolqrka!F21+Gorna!F21+Svishtov!F21+Rosica!F21+Gabrovo!F21+Plachkovci!F21+Sevlievo!F21+Bqla!F21+Dunav_Ruse!F21+Silistra!F21+Tutrakan!F21+Seslav!F21+Karakuz!F21+Razgrad!F21+Voden!F21 -> 59121 | G21: =Bujnovci!G21+Elena!G21+Bolqrka!G21+Gorna!G21+Svishtov!G21+Rosica!G21+Gabrovo!G21+Plachkovci!G21+Sevlievo!G21+Bqla!G21+Dunav_Ruse!G21+Silistra!G21+Tutrakan!G21+Seslav!G21+Karakuz!G21+Razgrad!G21+Voden!G21 -> 15059 | H21: =Bujnovci!H21+Elena!H21+Bolqrka!H21+Gorna!H21+Svishtov!H21+Rosica!H21+Gabrovo!H21+Plachkovci!H21+Sevlievo!H21+Bqla!H21+Dunav_Ruse!H21+Silistra!H21+Tutrakan!H21+Seslav!H21+Karakuz!H21+Razgrad!H21+Voden!H21 -> 287775 | J21: 2. Год. план | K21: =Bujnovci!K21+Elena!K21+Bolqrka!K21+Gorna!K21+Svishtov!K21+Rosica!K21+Gabrovo!K21+Plachkovci!K21+Sevlievo!K21+Bqla!K21+Dunav_Ruse!K21+Silistra!K21+Tutrakan!K21+Seslav!K21+Karakuz!K21+Razgrad!K21+Voden!K21 -> 2620 | L21: =Bujnovci!L21+Elena!L21+Bolqrka!L21+Gorna!L21+Svishtov!L21+Rosica!L21+Gabrovo!L21+Plachkovci!L21+Sevlievo!L21+Bqla!L21+Dunav_Ruse!L21+Silistra!L21+Tutrakan!L21+Seslav!L21+Karakuz!L21+Razgrad!L21+Voden!L21 -> 98528 | M21: =Bujnovci!M21+Elena!M21+Bolqrka!M21+Gorna!M21+Svishtov!M21+Rosica!M21+Gabrovo!M21+Plachkovci!M21+Sevlievo!M21+Bqla!M21+Dunav_Ruse!M21+Silistra!M21+Tutrakan!M21+Seslav!M21+Karakuz!M21+Razgrad!M21+Voden!M21 -> 88745 | N21: =Bujnovci!N21+Elena!N21+Bolqrka!N21+Gorna!N21+Svishtov!N21+Rosica!N21+Gabrovo!N21+Plachkovci!N21+Sevlievo!N21+Bqla!N21+Dunav_Ruse!N21+Silistra!N21+Tutrakan!N21+Seslav!N21+Karakuz!N21+Razgrad!N21+Voden!N21 -> 7899 | O21: =Bujnovci!O21+Elena!O21+Bolqrka!O21+Gorna!O21+Svishtov!O21+Rosica!O21+Gabrovo!O21+Plachkovci!O21+Sevlievo!O21+Bqla!O21+Dunav_Ruse!O21+Silistra!O21+Tutrakan!O21+Seslav!O21+Karakuz!O21+Razgrad!O21+Voden!O21 -> 11646 | P21: =Bujnovci!P21+Elena!P21+Bolqrka!P21+Gorna!P21+Svishtov!P21+Rosica!P21+Gabrovo!P21+Plachkovci!P21+Sevlievo!P21+Bqla!P21+Dunav_Ruse!P21+Silistra!P21+Tutrakan!P21+Seslav!P21+Karakuz!P21+Razgrad!P21+Voden!P21 -> 2129 | Q21: =Bujnovci!Q21+Elena!Q21+Bolqrka!Q21+Gorna!Q21+Svishtov!Q21+Rosica!Q21+Gabrovo!Q21+Plachkovci!Q21+Sevlievo!Q21+Bqla!Q21+Dunav_Ruse!Q21+Silistra!Q21+Tutrakan!Q21+Seslav!Q21+Karakuz!Q21+Razgrad!Q21+Voden!Q21 -> 67071 | R21: 2. Год. план | S21: =Bujnovci!S21+Elena!S21+Bolqrka!S21+Gorna!S21+Svishtov!S21+Rosica!S21+Gabrovo!S21+Plachkovci!S21+Sevlievo!S21+Bqla!S21+Dunav_Ruse!S21+Silistra!S21+Tutrakan!S21+Seslav!S21+Karakuz!S21+Razgrad!S21+Voden!S21 -> 6237.25 | T21: =Bujnovci!T21+Elena!T21+Bolqrka!T21+Gorna!T21+Svishtov!T21+Rosica!T21+Gabrovo!T21+Plachkovci!T21+Sevlievo!T21+Bqla!T21+Dunav_Ruse!T21+Silistra!T21+Tutrakan!T21+Seslav!T21+Karakuz!T21+Razgrad!T21+Voden!T21 -> 396579 | U21: =Bujnovci!U21+Elena!U21+Bolqrka!U21+Gorna!U21+Svishtov!U21+Rosica!U21+Gabrovo!U21+Plachkovci!U21+Sevlievo!U21+Bqla!U21+Dunav_Ruse!U21+Silistra!U21+Tutrakan!U21+Seslav!U21+Karakuz!U21+Razgrad!U21+Voden!U21 -> 358807 | V21: =Bujnovci!V21+Elena!V21+Bolqrka!V21+Gorna!V21+Svishtov!V21+Rosica!V21+Gabrovo!V21+Plachkovci!V21+Sevlievo!V21+Bqla!V21+Dunav_Ruse!V21+Silistra!V21+Tutrakan!V21+Seslav!V21+Karakuz!V21+Razgrad!V21+Voden!V21 -> 79742 | W21: =Bujnovci!W21+Elena!W21+Bolqrka!W21+Gorna!W21+Svishtov!W21+Rosica!W21+Gabrovo!W21+Plachkovci!W21+Sevlievo!W21+Bqla!W21+Dunav_Ruse!W21+Silistra!W21+Tutrakan!W21+Seslav!W21+Karakuz!W21+Razgrad!W21+Voden!W21 -> 47292 | X21: =Bujnovci!X21+Elena!X21+Bolqrka!X21+Gorna!X21+Svishtov!X21+Rosica!X21+Gabrovo!X21+Plachkovci!X21+Sevlievo!X21+Bqla!X21+Dunav_Ruse!X21+Silistra!X21+Tutrakan!X21+Seslav!X21+Karakuz!X21+Razgrad!X21+Voden!X21 -> 12900 | Y21: =Bujnovci!Y21+Elena!Y21+Bolqrka!Y21+Gorna!Y21+Svishtov!Y21+Rosica!Y21+Gabrovo!Y21+Plachkovci!Y21+Sevlievo!Y21+Bqla!Y21+Dunav_Ruse!Y21+Silistra!Y21+Tutrakan!Y21+Seslav!Y21+Karakuz!Y21+Razgrad!Y21+Voden!Y21 -> 218883 | AA21: 2. Год. план | AB21: =Bujnovci!AB21+Elena!AB21+Bolqrka!AB21+Gorna!AB21+Svishtov!AB21+Rosica!AB21+Gabrovo!AB21+Plachkovci!AB21+Sevlievo!AB21+Bqla!AB21+Dunav_Ruse!AB21+Silistra!AB21+Tutrakan!AB21+Seslav!AB21+Karakuz!AB21+Razgrad!AB21+Voden!AB21 -> 1180.8 | AC21: =Bujnovci!AC21+Elena!AC21+Bolqrka!AC21+Gorna!AC21+Svishtov!AC21+Rosica!AC21+Gabrovo!AC21+Plachkovci!AC21+Sevlievo!AC21+Bqla!AC21+Dunav_Ruse!AC21+Silistra!AC21+Tutrakan!AC21+Seslav!AC21+Karakuz!AC21+Razgrad!AC21+Voden!AC21 -> 126247 | AD21: =Bujnovci!AD21+Elena!AD21+Bolqrka!AD21+Gorna!AD21+Svishtov!AD21+Rosica!AD21+Gabrovo!AD21+Plachkovci!AD21+Sevlievo!AD21+Bqla!AD21+Dunav_Ruse!AD21+Silistra!AD21+Tutrakan!AD21+Seslav!AD21+Karakuz!AD21+Razgrad!AD21+Voden!AD21 -> 115211 | AE21: =Bujnovci!AE21+Elena!AE21+Bolqrka!AE21+Gorna!AE21+Svishtov!AE21+Rosica!AE21+Gabrovo!AE21+Plachkovci!AE21+Sevlievo!AE21+Bqla!AE21+Dunav_Ruse!AE21+Silistra!AE21+Tutrakan!AE21+Seslav!AE21+Karakuz!AE21+Razgrad!AE21+Voden!AE21 -> 54262 | AF21: =Bujnovci!AF21+Elena!AF21+Bolqrka!AF21+Gorna!AF21+Svishtov!AF21+Rosica!AF21+Gabrovo!AF21+Plachkovci!AF21+Sevlievo!AF21+Bqla!AF21+Dunav_Ruse!AF21+Silistra!AF21+Tutrakan!AF21+Seslav!AF21+Karakuz!AF21+Razgrad!AF21+Voden!AF21 -> 12432 | AG21: =Bujnovci!AG21+Elena!AG21+Bolqrka!AG21+Gorna!AG21+Svishtov!AG21+Rosica!AG21+Gabrovo!AG21+Plachkovci!AG21+Sevlievo!AG21+Bqla!AG21+Dunav_Ruse!AG21+Silistra!AG21+Tutrakan!AG21+Seslav!AG21+Karakuz!AG21+Razgrad!AG21+Voden!AG21 -> 3065 | AH21: =Bujnovci!AH21+Elena!AH21+Bolqrka!AH21+Gorna!AH21+Svishtov!AH21+Rosica!AH21+Gabrovo!AH21+Plachkovci!AH21+Sevlievo!AH21+Bqla!AH21+Dunav_Ruse!AH21+Silistra!AH21+Tutrakan!AH21+Seslav!AH21+Karakuz!AH21+Razgrad!AH21+Voden!AH21 -> 45452 | AJ21: 2. Год. план | AK21: =Bujnovci!AK21+Elena!AK21+Bolqrka!AK21+Gorna!AK21+Svishtov!AK21+Rosica!AK21+Gabrovo!AK21+Plachkovci!AK21+Sevlievo!AK21+Bqla!AK21+Dunav_Ruse!AK21+Silistra!AK21+Tutrakan!AK21+Seslav!AK21+Karakuz!AK21+Razgrad!AK21+Voden!AK21 -> 32.48 | AL21: =Bujnovci!AL21+Elena!AL21+Bolqrka!AL21+Gorna!AL21+Svishtov!AL21+Rosica!AL21+Gabrovo!AL21+Plachkovci!AL21+Sevlievo!AL21+Bqla!AL21+Dunav_Ruse!AL21+Silistra!AL21+Tutrakan!AL21+Seslav!AL21+Karakuz!AL21+Razgrad!AL21+Voden!AL21 -> 2675 | AM21: =Bujnovci!AM21+Elena!AM21+Bolqrka!AM21+Gorna!AM21+Svishtov!AM21+Rosica!AM21+Gabrovo!AM21+Plachkovci!AM21+Sevlievo!AM21+Bqla!AM21+Dunav_Ruse!AM21+Silistra!AM21+Tutrakan!AM21+Seslav!AM21+Karakuz!AM21+Razgrad!AM21+Voden!AM21 -> 2507 | AN21: =Bujnovci!AN21+Elena!AN21+Bolqrka!AN21+Gorna!AN21+Svishtov!AN21+Rosica!AN21+Gabrovo!AN21+Plachkovci!AN21+Sevlievo!AN21+Bqla!AN21+Dunav_Ruse!AN21+Silistra!AN21+Tutrakan!AN21+Seslav!AN21+Karakuz!AN21+Razgrad!AN21+Voden!AN21 -> 473 | AO21: =Bujnovci!AO21+Elena!AO21+Bolqrka!AO21+Gorna!AO21+Svishtov!AO21+Rosica!AO21+Gabrovo!AO21+Plachkovci!AO21+Sevlievo!AO21+Bqla!AO21+Dunav_Ruse!AO21+Silistra!AO21+Tutrakan!AO21+Seslav!AO21+Karakuz!AO21+Razgrad!AO21+Voden!AO21 -> 183 | AP21: =Bujnovci!AP21+Elena!AP21+Bolqrka!AP21+Gorna!AP21+Svishtov!AP21+Rosica!AP21+Gabrovo!AP21+Plachkovci!AP21+Sevlievo!AP21+Bqla!AP21+Dunav_Ruse!AP21+Silistra!AP21+Tutrakan!AP21+Seslav!AP21+Karakuz!AP21+Razgrad!AP21+Voden!AP21 -> 30 | AQ21: =Bujnovci!AQ21+Elena!AQ21+Bolqrka!AQ21+Gorna!AQ21+Svishtov!AQ21+Rosica!AQ21+Gabrovo!AQ21+Plachkovci!AQ21+Sevlievo!AQ21+Bqla!AQ21+Dunav_Ruse!AQ21+Silistra!AQ21+Tutrakan!AQ21+Seslav!AQ21+Karakuz!AQ21+Razgrad!AQ21+Voden!AQ21 -> 1821
A22: % (2/1) | B22: =B21/B20*100 -> 87.267492 | C22: =C21/C20*100 -> 86.876209 | D22: =D21/D20*100 -> 90.931572 | E22: =E21/E20*100 -> 101.01341 | F22: =F21/F20*100 -> 55.810331 | G22: =G21/G20*100 -> 51.285632 | H22: =H21/H20*100 -> 105.74248 | J22: % (2/1) | K22: =K21/K20*100 -> 79.653659 | L22: =L21/L20*100 -> 86.91487 | M22: =M21/M20*100 -> 95.171452 | N22: =N21/N20*100 -> 99.778943 | O22: =O21/O20*100 -> 51.2746 | P22: =P21/P20*100 -> 29.64149 | Q22: =Q21/Q20*100 -> 121.35155 | R22: % (2/1) | S22: =S21/S20*100 -> 94.056024 | T22: =T21/T20*100 -> 88.586957 | U22: =U21/U20*100 -> 91.556689 | V22: =V21/V20*100 -> 101.15243 | W22: =W21/W20*100 -> 57.478305 | X22: =X21/X20*100 -> 60.054468 | Y22: =Y21/Y20*100 -> 104.63459 | AA22: % (2/1) | AB22: =AB21/AB20*100 -> 67.628866 | AC22: =AC21/AC20*100 -> 78.540145 | AD22: =AD21/AD20*100 -> 81.355657 | AE22: =AE21/AE20*100 -> 86.947883 | AF22: =AF21/AF20*100 -> 58.185903 | AG22: =AG21/AG20*100 -> 69.865512 | AH22: =AH21/AH20*100 -> 85.096982 | AJ22: % (2/1) | AK22: =AK21/AK20*100 -> 12.205938 | AL22: =AL21/AL20*100 -> 22.394307 | AM22: =AM21/AM20*100 -> 25.555556 | AN22: =AN21/AN20*100 -> 98.541667 | AO22: =AO21/AO20*100 -> 19.447396 | AP22: =AP21/AP20*100 -> 4.2857143 | AQ22: =AQ21/AQ20*100 -> 23.683184
A23: Бук по ГСП | B23: =Bujnovci!B23+Elena!B23+Bolqrka!B23+Gorna!B23+Svishtov!B23+Rosica!B23+Gabrovo!B23+Plachkovci!B23+Sevlievo!B23+Bqla!B23+Dunav_Ruse!B23+Silistra!B23+Tutrakan!B23+Seslav!B23+Karakuz!B23+Razgrad!B23+Voden!B23 -> 1664.76 | C23: =Bujnovci!C23+Elena!C23+Bolqrka!C23+Gorna!C23+Svishtov!C23+Rosica!C23+Gabrovo!C23+Plachkovci!C23+Sevlievo!C23+Bqla!C23+Dunav_Ruse!C23+Silistra!C23+Tutrakan!C23+Seslav!C23+Karakuz!C23+Razgrad!C23+Voden!C23 -> 100675 | D23: =Bujnovci!D23+Elena!D23+Bolqrka!D23+Gorna!D23+Svishtov!D23+Rosica!D23+Gabrovo!D23+Plachkovci!D23+Sevlievo!D23+Bqla!D23+Dunav_Ruse!D23+Silistra!D23+Tutrakan!D23+Seslav!D23+Karakuz!D23+Razgrad!D23+Voden!D23 -> 83355 | E23: =Bujnovci!E23+Elena!E23+Bolqrka!E23+Gorna!E23+Svishtov!E23+Rosica!E23+Gabrovo!E23+Plachkovci!E23+Sevlievo!E23+Bqla!E23+Dunav_Ruse!E23+Silistra!E23+Tutrakan!E23+Seslav!E23+Karakuz!E23+Razgrad!E23+Voden!E23 -> 21588 | F23: =Bujnovci!F23+Elena!F23+Bolqrka!F23+Gorna!F23+Svishtov!F23+Rosica!F23+Gabrovo!F23+Plachkovci!F23+Sevlievo!F23+Bqla!F23+Dunav_Ruse!F23+Silistra!F23+Tutrakan!F23+Seslav!F23+Karakuz!F23+Razgrad!F23+Voden!F23 -> 9529.5 | G23: =Bujnovci!G23+Elena!G23+Bolqrka!G23+Gorna!G23+Svishtov!G23+Rosica!G23+Gabrovo!G23+Plachkovci!G23+Sevlievo!G23+Bqla!G23+Dunav_Ruse!G23+Silistra!G23+Tutrakan!G23+Seslav!G23+Karakuz!G23+Razgrad!G23+Voden!G23 -> 3506 | H23: =Bujnovci!H23+Elena!H23+Bolqrka!H23+Gorna!H23+Svishtov!H23+Rosica!H23+Gabrovo!H23+Plachkovci!H23+Sevlievo!H23+Bqla!H23+Dunav_Ruse!H23+Silistra!H23+Tutrakan!H23+Seslav!H23+Karakuz!H23+Razgrad!H23+Voden!H23 -> 48547.5 | J23: Бук по ГСП | K23: =Bujnovci!K23+Elena!K23+Bolqrka!K23+Gorna!K23+Svishtov!K23+Rosica!K23+Gabrovo!K23+Plachkovci!K23+Sevlievo!K23+Bqla!K23+Dunav_Ruse!K23+Silistra!K23+Tutrakan!K23+Seslav!K23+Karakuz!K23+Razgrad!K23+Voden!K23 -> 838.25 | L23: =Bujnovci!L23+Elena!L23+Bolqrka!L23+Gorna!L23+Svishtov!L23+Rosica!L23+Gabrovo!L23+Plachkovci!L23+Sevlievo!L23+Bqla!L23+Dunav_Ruse!L23+Silistra!L23+Tutrakan!L23+Seslav!L23+Karakuz!L23+Razgrad!L23+Voden!L23 -> 36665.5 | M23: =Bujnovci!M23+Elena!M23+Bolqrka!M23+Gorna!M23+Svishtov!M23+Rosica!M23+Gabrovo!M23+Plachkovci!M23+Sevlievo!M23+Bqla!M23+Dunav_Ruse!M23+Silistra!M23+Tutrakan!M23+Seslav!M23+Karakuz!M23+Razgrad!M23+Voden!M23 -> 28597 | N23: =Bujnovci!N23+Elena!N23+Bolqrka!N23+Gorna!N23+Svishtov!N23+Rosica!N23+Gabrovo!N23+Plachkovci!N23+Sevlievo!N23+Bqla!N23+Dunav_Ruse!N23+Silistra!N23+Tutrakan!N23+Seslav!N23+Karakuz!N23+Razgrad!N23+Voden!N23 -> 2771 | O23: =Bujnovci!O23+Elena!O23+Bolqrka!O23+Gorna!O23+Svishtov!O23+Rosica!O23+Gabrovo!O23+Plachkovci!O23+Sevlievo!O23+Bqla!O23+Dunav_Ruse!O23+Silistra!O23+Tutrakan!O23+Seslav!O23+Karakuz!O23+Razgrad!O23+Voden!O23 -> 6030.5 | P23: =Bujnovci!P23+Elena!P23+Bolqrka!P23+Gorna!P23+Svishtov!P23+Rosica!P23+Gabrovo!P23+Plachkovci!P23+Sevlievo!P23+Bqla!P23+Dunav_Ruse!P23+Silistra!P23+Tutrakan!P23+Seslav!P23+Karakuz!P23+Razgrad!P23+Voden!P23 -> 2448 | Q23: =Bujnovci!Q23+Elena!Q23+Bolqrka!Q23+Gorna!Q23+Svishtov!Q23+Rosica!Q23+Gabrovo!Q23+Plachkovci!Q23+Sevlievo!Q23+Bqla!Q23+Dunav_Ruse!Q23+Silistra!Q23+Tutrakan!Q23+Seslav!Q23+Karakuz!Q23+Razgrad!Q23+Voden!Q23 -> 17208.5 | R23: Бук по ГСП | S23: =Bujnovci!S23+Elena!S23+Bolqrka!S23+Gorna!S23+Svishtov!S23+Rosica!S23+Gabrovo!S23+Plachkovci!S23+Sevlievo!S23+Bqla!S23+Dunav_Ruse!S23+Silistra!S23+Tutrakan!S23+Seslav!S23+Karakuz!S23+Razgrad!S23+Voden!S23 -> 796.41 | T23: =Bujnovci!T23+Elena!T23+Bolqrka!T23+Gorna!T23+Svishtov!T23+Rosica!T23+Gabrovo!T23+Plachkovci!T23+Sevlievo!T23+Bqla!T23+Dunav_Ruse!T23+Silistra!T23+Tutrakan!T23+Seslav!T23+Karakuz!T23+Razgrad!T23+Voden!T23 -> 60261.5 | U23: =Bujnovci!U23+Elena!U23+Bolqrka!U23+Gorna!U23+Svishtov!U23+Rosica!U23+Gabrovo!U23+Plachkovci!U23+Sevlievo!U23+Bqla!U23+Dunav_Ruse!U23+Silistra!U23+Tutrakan!U23+Seslav!U23+Karakuz!U23+Razgrad!U23+Voden!U23 -> 51938 | V23: =Bujnovci!V23+Elena!V23+Bolqrka!V23+Gorna!V23+Svishtov!V23+Rosica!V23+Gabrovo!V23+Plachkovci!V23+Sevlievo!V23+Bqla!V23+Dunav_Ruse!V23+Silistra!V23+Tutrakan!V23+Seslav!V23+Karakuz!V23+Razgrad!V23+Voden!V23 -> 18549 | W23: =Bujnovci!W23+Elena!W23+Bolqrka!W23+Gorna!W23+Svishtov!W23+Rosica!W23+Gabrovo!W23+Plachkovci!W23+Sevlievo!W23+Bqla!W23+Dunav_Ruse!W23+Silistra!W23+Tutrakan!W23+Seslav!W23+Karakuz!W23+Razgrad!W23+Voden!W23 -> 3284 | X23: =Bujnovci!X23+Elena!X23+Bolqrka!X23+Gorna!X23+Svishtov!X23+Rosica!X23+Gabrovo!X23+Plachkovci!X23+Sevlievo!X23+Bqla!X23+Dunav_Ruse!X23+Silistra!X23+Tutrakan!X23+Seslav!X23+Karakuz!X23+Razgrad!X23+Voden!X23 -> 849 | Y23: =Bujnovci!Y23+Elena!Y23+Bolqrka!Y23+Gorna!Y23+Svishtov!Y23+Rosica!Y23+Gabrovo!Y23+Plachkovci!Y23+Sevlievo!Y23+Bqla!Y23+Dunav_Ruse!Y23+Silistra!Y23+Tutrakan!Y23+Seslav!Y23+Karakuz!Y23+Razgrad!Y23+Voden!Y23 -> 29211 | AA23: Бук по ГСП | AB23: =Bujnovci!AB23+Elena!AB23+Bolqrka!AB23+Gorna!AB23+Svishtov!AB23+Rosica!AB23+Gabrovo!AB23+Plachkovci!AB23+Sevlievo!AB23+Bqla!AB23+Dunav_Ruse!AB23+Silistra!AB23+Tutrakan!AB23+Seslav!AB23+Karakuz!AB23+Razgrad!AB23+Voden!AB23 -> 736.43 | AC23: =Bujnovci!AC23+Elena!AC23+Bolqrka!AC23+Gorna!AC23+Svishtov!AC23+Rosica!AC23+Gabrovo!AC23+Plachkovci!AC23+Sevlievo!AC23+Bqla!AC23+Dunav_Ruse!AC23+Silistra!AC23+Tutrakan!AC23+Seslav!AC23+Karakuz!AC23+Razgrad!AC23+Voden!AC23 -> 56516.5 | AD23: =Bujnovci!AD23+Elena!AD23+Bolqrka!AD23+Gorna!AD23+Svishtov!AD23+Rosica!AD23+Gabrovo!AD23+Plachkovci!AD23+Sevlievo!AD23+Bqla!AD23+Dunav_Ruse!AD23+Silistra!AD23+Tutrakan!AD23+Seslav!AD23+Karakuz!AD23+Razgrad!AD23+Voden!AD23 -> 48700.5 | AE23: =Bujnovci!AE23+Elena!AE23+Bolqrka!AE23+Gorna!AE23+Svishtov!AE23+Rosica!AE23+Gabrovo!AE23+Plachkovci!AE23+Sevlievo!AE23+Bqla!AE23+Dunav_Ruse!AE23+Silistra!AE23+Tutrakan!AE23+Seslav!AE23+Karakuz!AE23+Razgrad!AE23+Voden!AE23 -> 18275 | AF23: =Bujnovci!AF23+Elena!AF23+Bolqrka!AF23+Gorna!AF23+Svishtov!AF23+Rosica!AF23+Gabrovo!AF23+Plachkovci!AF23+Sevlievo!AF23+Bqla!AF23+Dunav_Ruse!AF23+Silistra!AF23+Tutrakan!AF23+Seslav!AF23+Karakuz!AF23+Razgrad!AF23+Voden!AF23 -> 2819 | AG23: =Bujnovci!AG23+Elena!AG23+Bolqrka!AG23+Gorna!AG23+Svishtov!AG23+Rosica!AG23+Gabrovo!AG23+Plachkovci!AG23+Sevlievo!AG23+Bqla!AG23+Dunav_Ruse!AG23+Silistra!AG23+Tutrakan!AG23+Seslav!AG23+Karakuz!AG23+Razgrad!AG23+Voden!AG23 -> 785.5 | AH23: =Bujnovci!AH23+Elena!AH23+Bolqrka!AH23+Gorna!AH23+Svishtov!AH23+Rosica!AH23+Gabrovo!AH23+Plachkovci!AH23+Sevlievo!AH23+Bqla!AH23+Dunav_Ruse!AH23+Silistra!AH23+Tutrakan!AH23+Seslav!AH23+Karakuz!AH23+Razgrad!AH23+Voden!AH23 -> 26783.5 | AJ23: Бук по ГСП | AK23: =Bujnovci!AK23+Elena!AK23+Bolqrka!AK23+Gorna!AK23+Svishtov!AK23+Rosica!AK23+Gabrovo!AK23+Plachkovci!AK23+Sevlievo!AK23+Bqla!AK23+Dunav_Ruse!AK23+Silistra!AK23+Tutrakan!AK23+Seslav!AK23+Karakuz!AK23+Razgrad!AK23+Voden!AK23 -> 30.1 | AL23: =Bujnovci!AL23+Elena!AL23+Bolqrka!AL23+Gorna!AL23+Svishtov!AL23+Rosica!AL23+Gabrovo!AL23+Plachkovci!AL23+Sevlievo!AL23+Bqla!AL23+Dunav_Ruse!AL23+Silistra!AL23+Tutrakan!AL23+Seslav!AL23+Karakuz!AL23+Razgrad!AL23+Voden!AL23 -> 3748 | AM23: =Bujnovci!AM23+Elena!AM23+Bolqrka!AM23+Gorna!AM23+Svishtov!AM23+Rosica!AM23+Gabrovo!AM23+Plachkovci!AM23+Sevlievo!AM23+Bqla!AM23+Dunav_Ruse!AM23+Silistra!AM23+Tutrakan!AM23+Seslav!AM23+Karakuz!AM23+Razgrad!AM23+Voden!AM23 -> 2820 | AN23: =Bujnovci!AN23+Elena!AN23+Bolqrka!AN23+Gorna!AN23+Svishtov!AN23+Rosica!AN23+Gabrovo!AN23+Plachkovci!AN23+Sevlievo!AN23+Bqla!AN23+Dunav_Ruse!AN23+Silistra!AN23+Tutrakan!AN23+Seslav!AN23+Karakuz!AN23+Razgrad!AN23+Voden!AN23 -> 268 | AO23: =Bujnovci!AO23+Elena!AO23+Bolqrka!AO23+Gorna!AO23+Svishtov!AO23+Rosica!AO23+Gabrovo!AO23+Plachkovci!AO23+Sevlievo!AO23+Bqla!AO23+Dunav_Ruse!AO23+Silistra!AO23+Tutrakan!AO23+Seslav!AO23+Karakuz!AO23+Razgrad!AO23+Voden!AO23 -> 215 | AP23: =Bujnovci!AP23+Elena!AP23+Bolqrka!AP23+Gorna!AP23+Svishtov!AP23+Rosica!AP23+Gabrovo!AP23+Plachkovci!AP23+Sevlievo!AP23+Bqla!AP23+Dunav_Ruse!AP23+Silistra!AP23+Tutrakan!AP23+Seslav!AP23+Karakuz!AP23+Razgrad!AP23+Voden!AP23 -> 209 | AQ23: =Bujnovci!AQ23+Elena!AQ23+Bolqrka!AQ23+Gorna!AQ23+Svishtov!AQ23+Rosica!AQ23+Gabrovo!AQ23+Plachkovci!AQ23+Sevlievo!AQ23+Bqla!AQ23+Dunav_Ruse!AQ23+Silistra!AQ23+Tutrakan!AQ23+Seslav!AQ23+Karakuz!AQ23+Razgrad!AQ23+Voden!AQ23 -> 2128
A24: Бук год. план | B24: =Bujnovci!B24+Elena!B24+Bolqrka!B24+Gorna!B24+Svishtov!B24+Rosica!B24+Gabrovo!B24+Plachkovci!B24+Sevlievo!B24+Bqla!B24+Dunav_Ruse!B24+Silistra!B24+Tutrakan!B24+Seslav!B24+Karakuz!B24+Razgrad!B24+Voden!B24 -> 1172.88 | C24: =Bujnovci!C24+Elena!C24+Bolqrka!C24+Gorna!C24+Svishtov!C24+Rosica!C24+Gabrovo!C24+Plachkovci!C24+Sevlievo!C24+Bqla!C24+Dunav_Ruse!C24+Silistra!C24+Tutrakan!C24+Seslav!C24+Karakuz!C24+Razgrad!C24+Voden!C24 -> 59601 | D24: =Bujnovci!D24+Elena!D24+Bolqrka!D24+Gorna!D24+Svishtov!D24+Rosica!D24+Gabrovo!D24+Plachkovci!D24+Sevlievo!D24+Bqla!D24+Dunav_Ruse!D24+Silistra!D24+Tutrakan!D24+Seslav!D24+Karakuz!D24+Razgrad!D24+Voden!D24 -> 52808 | E24: =Bujnovci!E24+Elena!E24+Bolqrka!E24+Gorna!E24+Svishtov!E24+Rosica!E24+Gabrovo!E24+Plachkovci!E24+Sevlievo!E24+Bqla!E24+Dunav_Ruse!E24+Silistra!E24+Tutrakan!E24+Seslav!E24+Karakuz!E24+Razgrad!E24+Voden!E24 -> 11562 | F24: =Bujnovci!F24+Elena!F24+Bolqrka!F24+Gorna!F24+Svishtov!F24+Rosica!F24+Gabrovo!F24+Plachkovci!F24+Sevlievo!F24+Bqla!F24+Dunav_Ruse!F24+Silistra!F24+Tutrakan!F24+Seslav!F24+Karakuz!F24+Razgrad!F24+Voden!F24 -> 4160 | G24: =Bujnovci!G24+Elena!G24+Bolqrka!G24+Gorna!G24+Svishtov!G24+Rosica!G24+Gabrovo!G24+Plachkovci!G24+Sevlievo!G24+Bqla!G24+Dunav_Ruse!G24+Silistra!G24+Tutrakan!G24+Seslav!G24+Karakuz!G24+Razgrad!G24+Voden!G24 -> 693 | H24: =Bujnovci!H24+Elena!H24+Bolqrka!H24+Gorna!H24+Svishtov!H24+Rosica!H24+Gabrovo!H24+Plachkovci!H24+Sevlievo!H24+Bqla!H24+Dunav_Ruse!H24+Silistra!H24+Tutrakan!H24+Seslav!H24+Karakuz!H24+Razgrad!H24+Voden!H24 -> 36393 | J24: Бук год. план | K24: =Bujnovci!K24+Elena!K24+Bolqrka!K24+Gorna!K24+Svishtov!K24+Rosica!K24+Gabrovo!K24+Plachkovci!K24+Sevlievo!K24+Bqla!K24+Dunav_Ruse!K24+Silistra!K24+Tutrakan!K24+Seslav!K24+Karakuz!K24+Razgrad!K24+Voden!K24 -> 604.1 | L24: =Bujnovci!L24+Elena!L24+Bolqrka!L24+Gorna!L24+Svishtov!L24+Rosica!L24+Gabrovo!L24+Plachkovci!L24+Sevlievo!L24+Bqla!L24+Dunav_Ruse!L24+Silistra!L24+Tutrakan!L24+Seslav!L24+Karakuz!L24+Razgrad!L24+Voden!L24 -> 22415 | M24: =Bujnovci!M24+Elena!M24+Bolqrka!M24+Gorna!M24+Svishtov!M24+Rosica!M24+Gabrovo!M24+Plachkovci!M24+Sevlievo!M24+Bqla!M24+Dunav_Ruse!M24+Silistra!M24+Tutrakan!M24+Seslav!M24+Karakuz!M24+Razgrad!M24+Voden!M24 -> 20149 | N24: =Bujnovci!N24+Elena!N24+Bolqrka!N24+Gorna!N24+Svishtov!N24+Rosica!N24+Gabrovo!N24+Plachkovci!N24+Sevlievo!N24+Bqla!N24+Dunav_Ruse!N24+Silistra!N24+Tutrakan!N24+Seslav!N24+Karakuz!N24+Razgrad!N24+Voden!N24 -> 1557 | O24: =Bujnovci!O24+Elena!O24+Bolqrka!O24+Gorna!O24+Svishtov!O24+Rosica!O24+Gabrovo!O24+Plachkovci!O24+Sevlievo!O24+Bqla!O24+Dunav_Ruse!O24+Silistra!O24+Tutrakan!O24+Seslav!O24+Karakuz!O24+Razgrad!O24+Voden!O24 -> 2231 | P24: =Bujnovci!P24+Elena!P24+Bolqrka!P24+Gorna!P24+Svishtov!P24+Rosica!P24+Gabrovo!P24+Plachkovci!P24+Sevlievo!P24+Bqla!P24+Dunav_Ruse!P24+Silistra!P24+Tutrakan!P24+Seslav!P24+Karakuz!P24+Razgrad!P24+Voden!P24 -> 223 | Q24: =Bujnovci!Q24+Elena!Q24+Bolqrka!Q24+Gorna!Q24+Svishtov!Q24+Rosica!Q24+Gabrovo!Q24+Plachkovci!Q24+Sevlievo!Q24+Bqla!Q24+Dunav_Ruse!Q24+Silistra!Q24+Tutrakan!Q24+Seslav!Q24+Karakuz!Q24+Razgrad!Q24+Voden!Q24 -> 16138 | R24: Бук год. план | S24: =Bujnovci!S24+Elena!S24+Bolqrka!S24+Gorna!S24+Svishtov!S24+Rosica!S24+Gabrovo!S24+Plachkovci!S24+Sevlievo!S24+Bqla!S24+Dunav_Ruse!S24+Silistra!S24+Tutrakan!S24+Seslav!S24+Karakuz!S24+Razgrad!S24+Voden!S24 -> 568.3 | T24: =Bujnovci!T24+Elena!T24+Bolqrka!T24+Gorna!T24+Svishtov!T24+Rosica!T24+Gabrovo!T24+Plachkovci!T24+Sevlievo!T24+Bqla!T24+Dunav_Ruse!T24+Silistra!T24+Tutrakan!T24+Seslav!T24+Karakuz!T24+Razgrad!T24+Voden!T24 -> 36985 | U24: =Bujnovci!U24+Elena!U24+Bolqrka!U24+Gorna!U24+Svishtov!U24+Rosica!U24+Gabrovo!U24+Plachkovci!U24+Sevlievo!U24+Bqla!U24+Dunav_Ruse!U24+Silistra!U24+Tutrakan!U24+Seslav!U24+Karakuz!U24+Razgrad!U24+Voden!U24 -> 32471 | V24: =Bujnovci!V24+Elena!V24+Bolqrka!V24+Gorna!V24+Svishtov!V24+Rosica!V24+Gabrovo!V24+Plachkovci!V24+Sevlievo!V24+Bqla!V24+Dunav_Ruse!V24+Silistra!V24+Tutrakan!V24+Seslav!V24+Karakuz!V24+Razgrad!V24+Voden!V24 -> 10005 | W24: =Bujnovci!W24+Elena!W24+Bolqrka!W24+Gorna!W24+Svishtov!W24+Rosica!W24+Gabrovo!W24+Plachkovci!W24+Sevlievo!W24+Bqla!W24+Dunav_Ruse!W24+Silistra!W24+Tutrakan!W24+Seslav!W24+Karakuz!W24+Razgrad!W24+Voden!W24 -> 1929 | X24: =Bujnovci!X24+Elena!X24+Bolqrka!X24+Gorna!X24+Svishtov!X24+Rosica!X24+Gabrovo!X24+Plachkovci!X24+Sevlievo!X24+Bqla!X24+Dunav_Ruse!X24+Silistra!X24+Tutrakan!X24+Seslav!X24+Karakuz!X24+Razgrad!X24+Voden!X24 -> 468 | Y24: =Bujnovci!Y24+Elena!Y24+Bolqrka!Y24+Gorna!Y24+Svishtov!Y24+Rosica!Y24+Gabrovo!Y24+Plachkovci!Y24+Sevlievo!Y24+Bqla!Y24+Dunav_Ruse!Y24+Silistra!Y24+Tutrakan!Y24+Seslav!Y24+Karakuz!Y24+Razgrad!Y24+Voden!Y24 -> 20069 | AA24: Бук год. план | AB24: =Bujnovci!AB24+Elena!AB24+Bolqrka!AB24+Gorna!AB24+Svishtov!AB24+Rosica!AB24+Gabrovo!AB24+Plachkovci!AB24+Sevlievo!AB24+Bqla!AB24+Dunav_Ruse!AB24+Silistra!AB24+Tutrakan!AB24+Seslav!AB24+Karakuz!AB24+Razgrad!AB24+Voden!AB24 -> 439.2 | AC24: =Bujnovci!AC24+Elena!AC24+Bolqrka!AC24+Gorna!AC24+Svishtov!AC24+Rosica!AC24+Gabrovo!AC24+Plachkovci!AC24+Sevlievo!AC24+Bqla!AC24+Dunav_Ruse!AC24+Silistra!AC24+Tutrakan!AC24+Seslav!AC24+Karakuz!AC24+Razgrad!AC24+Voden!AC24 -> 32031 | AD24: =Bujnovci!AD24+Elena!AD24+Bolqrka!AD24+Gorna!AD24+Svishtov!AD24+Rosica!AD24+Gabrovo!AD24+Plachkovci!AD24+Sevlievo!AD24+Bqla!AD24+Dunav_Ruse!AD24+Silistra!AD24+Tutrakan!AD24+Seslav!AD24+Karakuz!AD24+Razgrad!AD24+Voden!AD24 -> 28197 | AE24: =Bujnovci!AE24+Elena!AE24+Bolqrka!AE24+Gorna!AE24+Svishtov!AE24+Rosica!AE24+Gabrovo!AE24+Plachkovci!AE24+Sevlievo!AE24+Bqla!AE24+Dunav_Ruse!AE24+Silistra!AE24+Tutrakan!AE24+Seslav!AE24+Karakuz!AE24+Razgrad!AE24+Voden!AE24 -> 9559 | AF24: =Bujnovci!AF24+Elena!AF24+Bolqrka!AF24+Gorna!AF24+Svishtov!AF24+Rosica!AF24+Gabrovo!AF24+Plachkovci!AF24+Sevlievo!AF24+Bqla!AF24+Dunav_Ruse!AF24+Silistra!AF24+Tutrakan!AF24+Seslav!AF24+Karakuz!AF24+Razgrad!AF24+Voden!AF24 -> 1674 | AG24: =Bujnovci!AG24+Elena!AG24+Bolqrka!AG24+Gorna!AG24+Svishtov!AG24+Rosica!AG24+Gabrovo!AG24+Plachkovci!AG24+Sevlievo!AG24+Bqla!AG24+Dunav_Ruse!AG24+Silistra!AG24+Tutrakan!AG24+Seslav!AG24+Karakuz!AG24+Razgrad!AG24+Voden!AG24 -> 457 | AH24: =Bujnovci!AH24+Elena!AH24+Bolqrka!AH24+Gorna!AH24+Svishtov!AH24+Rosica!AH24+Gabrovo!AH24+Plachkovci!AH24+Sevlievo!AH24+Bqla!AH24+Dunav_Ruse!AH24+Silistra!AH24+Tutrakan!AH24+Seslav!AH24+Karakuz!AH24+Razgrad!AH24+Voden!AH24 -> 16507 | AJ24: Бук год. план | AK24: =Bujnovci!AK24+Elena!AK24+Bolqrka!AK24+Gorna!AK24+Svishtov!AK24+Rosica!AK24+Gabrovo!AK24+Plachkovci!AK24+Sevlievo!AK24+Bqla!AK24+Dunav_Ruse!AK24+Silistra!AK24+Tutrakan!AK24+Seslav!AK24+Karakuz!AK24+Razgrad!AK24+Voden!AK24 -> 0.48 | AL24: =Bujnovci!AL24+Elena!AL24+Bolqrka!AL24+Gorna!AL24+Svishtov!AL24+Rosica!AL24+Gabrovo!AL24+Plachkovci!AL24+Sevlievo!AL24+Bqla!AL24+Dunav_Ruse!AL24+Silistra!AL24+Tutrakan!AL24+Seslav!AL24+Karakuz!AL24+Razgrad!AL24+Voden!AL24 -> 201 | AM24: =Bujnovci!AM24+Elena!AM24+Bolqrka!AM24+Gorna!AM24+Svishtov!AM24+Rosica!AM24+Gabrovo!AM24+Plachkovci!AM24+Sevlievo!AM24+Bqla!AM24+Dunav_Ruse!AM24+Silistra!AM24+Tutrakan!AM24+Seslav!AM24+Karakuz!AM24+Razgrad!AM24+Voden!AM24 -> 188 | AN24: =Bujnovci!AN24+Elena!AN24+Bolqrka!AN24+Gorna!AN24+Svishtov!AN24+Rosica!AN24+Gabrovo!AN24+Plachkovci!AN24+Sevlievo!AN24+Bqla!AN24+Dunav_Ruse!AN24+Silistra!AN24+Tutrakan!AN24+Seslav!AN24+Karakuz!AN24+Razgrad!AN24+Voden!AN24 -> 0 | AO24: =Bujnovci!AO24+Elena!AO24+Bolqrka!AO24+Gorna!AO24+Svishtov!AO24+Rosica!AO24+Gabrovo!AO24+Plachkovci!AO24+Sevlievo!AO24+Bqla!AO24+Dunav_Ruse!AO24+Silistra!AO24+Tutrakan!AO24+Seslav!AO24+Karakuz!AO24+Razgrad!AO24+Voden!AO24 -> 0 | AP24: =Bujnovci!AP24+Elena!AP24+Bolqrka!AP24+Gorna!AP24+Svishtov!AP24+Rosica!AP24+Gabrovo!AP24+Plachkovci!AP24+Sevlievo!AP24+Bqla!AP24+Dunav_Ruse!AP24+Silistra!AP24+Tutrakan!AP24+Seslav!AP24+Karakuz!AP24+Razgrad!AP24+Voden!AP24 -> 2 | AQ24: =Bujnovci!AQ24+Elena!AQ24+Bolqrka!AQ24+Gorna!AQ24+Svishtov!AQ24+Rosica!AQ24+Gabrovo!AQ24+Plachkovci!AQ24+Sevlievo!AQ24+Bqla!AQ24+Dunav_Ruse!AQ24+Silistra!AQ24+Tutrakan!AQ24+Seslav!AQ24+Karakuz!AQ24+Razgrad!AQ24+Voden!AQ24 -> 186
A25: % | B25: =B24/B23*100 -> 70.453399 | C25: =C24/C23*100 -> 59.201391 | D25: =D24/D23*100 -> 63.353128 | E25: =E24/E23*100 -> 53.557532 | F25: =F24/F23*100 -> 43.653917 | G25: =G24/G23*100 -> 19.766115 | H25: =H24/H23*100 -> 74.963695 | J25: % | K25: =K24/K23*100 -> 72.066806 | L25: =L24/L23*100 -> 61.133763 | M25: =M24/M23*100 -> 70.45844 | N25: =N24/N23*100 -> 56.189101 | O25: =O24/O23*100 -> 36.995274 | P25: =P24/P23*100 -> 9.1094771 | Q25: =Q24/Q23*100 -> 93.779237 | R25: % | S25: =S24/S23*100 -> 71.357718 | T25: =T24/T23*100 -> 61.374178 | U25: =U24/U23*100 -> 62.518772 | V25: =V24/V23*100 -> 53.938218 | W25: =W24/W23*100 -> 58.739342 | X25: =X24/X23*100 -> 55.123675 | Y25: =Y24/Y23*100 -> 68.703571 | AA25: % | AB25: =AB24/AB23*100 -> 59.63907 | AC25: =AC24/AC23*100 -> 56.675484 | AD25: =AD24/AD23*100 -> 57.89879 | AE25: =AE24/AE23*100 -> 52.30643 | AF25: =AF24/AF23*100 -> 59.38276 | AG25: =AG24/AG23*100 -> 58.179504 | AH25: =AH24/AH23*100 -> 61.631228 | AJ25: % | AK25: =AK24/AK23*100 -> 1.5946844 | AL25: =AL24/AL23*100 -> 5.3628602 | AM25: =AM24/AM23*100 -> 6.6666667 | AN25: =AN24/AN23*100 -> 0 | AO25: =AO24/AO23*100 -> 0 | AP25: =AP24/AP23*100 -> 0.9569378 | AQ25: =AQ24/AQ23*100 -> 8.7406015
A26: Дъб по ГСП | B26: =Bujnovci!B26+Elena!B26+Bolqrka!B26+Gorna!B26+Svishtov!B26+Rosica!B26+Gabrovo!B26+Plachkovci!B26+Sevlievo!B26+Bqla!B26+Dunav_Ruse!B26+Silistra!B26+Tutrakan!B26+Seslav!B26+Karakuz!B26+Razgrad!B26+Voden!B26 -> 1031 | C26: =Bujnovci!C26+Elena!C26+Bolqrka!C26+Gorna!C26+Svishtov!C26+Rosica!C26+Gabrovo!C26+Plachkovci!C26+Sevlievo!C26+Bqla!C26+Dunav_Ruse!C26+Silistra!C26+Tutrakan!C26+Seslav!C26+Karakuz!C26+Razgrad!C26+Voden!C26 -> 41439 | D26: =Bujnovci!D26+Elena!D26+Bolqrka!D26+Gorna!D26+Svishtov!D26+Rosica!D26+Gabrovo!D26+Plachkovci!D26+Sevlievo!D26+Bqla!D26+Dunav_Ruse!D26+Silistra!D26+Tutrakan!D26+Seslav!D26+Karakuz!D26+Razgrad!D26+Voden!D26 -> 36175.5 | E26: =Bujnovci!E26+Elena!E26+Bolqrka!E26+Gorna!E26+Svishtov!E26+Rosica!E26+Gabrovo!E26+Plachkovci!E26+Sevlievo!E26+Bqla!E26+Dunav_Ruse!E26+Silistra!E26+Tutrakan!E26+Seslav!E26+Karakuz!E26+Razgrad!E26+Voden!E26 -> 3511.5 | F26: =Bujnovci!F26+Elena!F26+Bolqrka!F26+Gorna!F26+Svishtov!F26+Rosica!F26+Gabrovo!F26+Plachkovci!F26+Sevlievo!F26+Bqla!F26+Dunav_Ruse!F26+Silistra!F26+Tutrakan!F26+Seslav!F26+Karakuz!F26+Razgrad!F26+Voden!F26 -> 7411 | G26: =Bujnovci!G26+Elena!G26+Bolqrka!G26+Gorna!G26+Svishtov!G26+Rosica!G26+Gabrovo!G26+Plachkovci!G26+Sevlievo!G26+Bqla!G26+Dunav_Ruse!G26+Silistra!G26+Tutrakan!G26+Seslav!G26+Karakuz!G26+Razgrad!G26+Voden!G26 -> 1692.5 | H26: =Bujnovci!H26+Elena!H26+Bolqrka!H26+Gorna!H26+Svishtov!H26+Rosica!H26+Gabrovo!H26+Plachkovci!H26+Sevlievo!H26+Bqla!H26+Dunav_Ruse!H26+Silistra!H26+Tutrakan!H26+Seslav!H26+Karakuz!H26+Razgrad!H26+Voden!H26 -> 23537.5 | J26: Дъб по ГСП | K26: =Bujnovci!K26+Elena!K26+Bolqrka!K26+Gorna!K26+Svishtov!K26+Rosica!K26+Gabrovo!K26+Plachkovci!K26+Sevlievo!K26+Bqla!K26+Dunav_Ruse!K26+Silistra!K26+Tutrakan!K26+Seslav!K26+Karakuz!K26+Razgrad!K26+Voden!K26 -> 313.19 | L26: =Bujnovci!L26+Elena!L26+Bolqrka!L26+Gorna!L26+Svishtov!L26+Rosica!L26+Gabrovo!L26+Plachkovci!L26+Sevlievo!L26+Bqla!L26+Dunav_Ruse!L26+Silistra!L26+Tutrakan!L26+Seslav!L26+Karakuz!L26+Razgrad!L26+Voden!L26 -> 10852 | M26: =Bujnovci!M26+Elena!M26+Bolqrka!M26+Gorna!M26+Svishtov!M26+Rosica!M26+Gabrovo!M26+Plachkovci!M26+Sevlievo!M26+Bqla!M26+Dunav_Ruse!M26+Silistra!M26+Tutrakan!M26+Seslav!M26+Karakuz!M26+Razgrad!M26+Voden!M26 -> 9027 | N26: =Bujnovci!N26+Elena!N26+Bolqrka!N26+Gorna!N26+Svishtov!N26+Rosica!N26+Gabrovo!N26+Plachkovci!N26+Sevlievo!N26+Bqla!N26+Dunav_Ruse!N26+Silistra!N26+Tutrakan!N26+Seslav!N26+Karakuz!N26+Razgrad!N26+Voden!N26 -> 656 | O26: =Bujnovci!O26+Elena!O26+Bolqrka!O26+Gorna!O26+Svishtov!O26+Rosica!O26+Gabrovo!O26+Plachkovci!O26+Sevlievo!O26+Bqla!O26+Dunav_Ruse!O26+Silistra!O26+Tutrakan!O26+Seslav!O26+Karakuz!O26+Razgrad!O26+Voden!O26 -> 2076.5 | P26: =Bujnovci!P26+Elena!P26+Bolqrka!P26+Gorna!P26+Svishtov!P26+Rosica!P26+Gabrovo!P26+Plachkovci!P26+Sevlievo!P26+Bqla!P26+Dunav_Ruse!P26+Silistra!P26+Tutrakan!P26+Seslav!P26+Karakuz!P26+Razgrad!P26+Voden!P26 -> 471 | Q26: =Bujnovci!Q26+Elena!Q26+Bolqrka!Q26+Gorna!Q26+Svishtov!Q26+Rosica!Q26+Gabrovo!Q26+Plachkovci!Q26+Sevlievo!Q26+Bqla!Q26+Dunav_Ruse!Q26+Silistra!Q26+Tutrakan!Q26+Seslav!Q26+Karakuz!Q26+Razgrad!Q26+Voden!Q26 -> 5819.5 | R26: Дъб по ГСП | S26: =Bujnovci!S26+Elena!S26+Bolqrka!S26+Gorna!S26+Svishtov!S26+Rosica!S26+Gabrovo!S26+Plachkovci!S26+Sevlievo!S26+Bqla!S26+Dunav_Ruse!S26+Silistra!S26+Tutrakan!S26+Seslav!S26+Karakuz!S26+Razgrad!S26+Voden!S26 -> 689.41 | T26: =Bujnovci!T26+Elena!T26+Bolqrka!T26+Gorna!T26+Svishtov!T26+Rosica!T26+Gabrovo!T26+Plachkovci!T26+Sevlievo!T26+Bqla!T26+Dunav_Ruse!T26+Silistra!T26+Tutrakan!T26+Seslav!T26+Karakuz!T26+Razgrad!T26+Voden!T26 -> 28962 | U26: =Bujnovci!U26+Elena!U26+Bolqrka!U26+Gorna!U26+Svishtov!U26+Rosica!U26+Gabrovo!U26+Plachkovci!U26+Sevlievo!U26+Bqla!U26+Dunav_Ruse!U26+Silistra!U26+Tutrakan!U26+Seslav!U26+Karakuz!U26+Razgrad!U26+Voden!U26 -> 25725.5 | V26: =Bujnovci!V26+Elena!V26+Bolqrka!V26+Gorna!V26+Svishtov!V26+Rosica!V26+Gabrovo!V26+Plachkovci!V26+Sevlievo!V26+Bqla!V26+Dunav_Ruse!V26+Silistra!V26+Tutrakan!V26+Seslav!V26+Karakuz!V26+Razgrad!V26+Voden!V26 -> 2837.5 | W26: =Bujnovci!W26+Elena!W26+Bolqrka!W26+Gorna!W26+Svishtov!W26+Rosica!W26+Gabrovo!W26+Plachkovci!W26+Sevlievo!W26+Bqla!W26+Dunav_Ruse!W26+Silistra!W26+Tutrakan!W26+Seslav!W26+Karakuz!W26+Razgrad!W26+Voden!W26 -> 5272.5 | X26: =Bujnovci!X26+Elena!X26+Bolqrka!X26+Gorna!X26+Svishtov!X26+Rosica!X26+Gabrovo!X26+Plachkovci!X26+Sevlievo!X26+Bqla!X26+Dunav_Ruse!X26+Silistra!X26+Tutrakan!X26+Seslav!X26+Karakuz!X26+Razgrad!X26+Voden!X26 -> 1189.5 | Y26: =Bujnovci!Y26+Elena!Y26+Bolqrka!Y26+Gorna!Y26+Svishtov!Y26+Rosica!Y26+Gabrovo!Y26+Plachkovci!Y26+Sevlievo!Y26+Bqla!Y26+Dunav_Ruse!Y26+Silistra!Y26+Tutrakan!Y26+Seslav!Y26+Karakuz!Y26+Razgrad!Y26+Voden!Y26 -> 16408 | AA26: Дъб по ГСП | AB26: =Bujnovci!AB26+Elena!AB26+Bolqrka!AB26+Gorna!AB26+Svishtov!AB26+Rosica!AB26+Gabrovo!AB26+Plachkovci!AB26+Sevlievo!AB26+Bqla!AB26+Dunav_Ruse!AB26+Silistra!AB26+Tutrakan!AB26+Seslav!AB26+Karakuz!AB26+Razgrad!AB26+Voden!AB26 -> 149.31 | AC26: =Bujnovci!AC26+Elena!AC26+Bolqrka!AC26+Gorna!AC26+Svishtov!AC26+Rosica!AC26+Gabrovo!AC26+Plachkovci!AC26+Sevlievo!AC26+Bqla!AC26+Dunav_Ruse!AC26+Silistra!AC26+Tutrakan!AC26+Seslav!AC26+Karakuz!AC26+Razgrad!AC26+Voden!AC26 -> 5960.5 | AD26: =Bujnovci!AD26+Elena!AD26+Bolqrka!AD26+Gorna!AD26+Svishtov!AD26+Rosica!AD26+Gabrovo!AD26+Plachkovci!AD26+Sevlievo!AD26+Bqla!AD26+Dunav_Ruse!AD26+Silistra!AD26+Tutrakan!AD26+Seslav!AD26+Karakuz!AD26+Razgrad!AD26+Voden!AD26 -> 5442 | AE26: =Bujnovci!AE26+Elena!AE26+Bolqrka!AE26+Gorna!AE26+Svishtov!AE26+Rosica!AE26+Gabrovo!AE26+Plachkovci!AE26+Sevlievo!AE26+Bqla!AE26+Dunav_Ruse!AE26+Silistra!AE26+Tutrakan!AE26+Seslav!AE26+Karakuz!AE26+Razgrad!AE26+Voden!AE26 -> 1711.5 | AF26: =Bujnovci!AF26+Elena!AF26+Bolqrka!AF26+Gorna!AF26+Svishtov!AF26+Rosica!AF26+Gabrovo!AF26+Plachkovci!AF26+Sevlievo!AF26+Bqla!AF26+Dunav_Ruse!AF26+Silistra!AF26+Tutrakan!AF26+Seslav!AF26+Karakuz!AF26+Razgrad!AF26+Voden!AF26 -> 1064 | AG26: =Bujnovci!AG26+Elena!AG26+Bolqrka!AG26+Gorna!AG26+Svishtov!AG26+Rosica!AG26+Gabrovo!AG26+Plachkovci!AG26+Sevlievo!AG26+Bqla!AG26+Dunav_Ruse!AG26+Silistra!AG26+Tutrakan!AG26+Seslav!AG26+Karakuz!AG26+Razgrad!AG26+Voden!AG26 -> 247.5 | AH26: =Bujnovci!AH26+Elena!AH26+Bolqrka!AH26+Gorna!AH26+Svishtov!AH26+Rosica!AH26+Gabrovo!AH26+Plachkovci!AH26+Sevlievo!AH26+Bqla!AH26+Dunav_Ruse!AH26+Silistra!AH26+Tutrakan!AH26+Seslav!AH26+Karakuz!AH26+Razgrad!AH26+Voden!AH26 -> 2419 | AJ26: Дъб по ГСП | AK26: =Bujnovci!AK26+Elena!AK26+Bolqrka!AK26+Gorna!AK26+Svishtov!AK26+Rosica!AK26+Gabrovo!AK26+Plachkovci!AK26+Sevlievo!AK26+Bqla!AK26+Dunav_Ruse!AK26+Silistra!AK26+Tutrakan!AK26+Seslav!AK26+Karakuz!AK26+Razgrad!AK26+Voden!AK26 -> 28.4 | AL26: =Bujnovci!AL26+Elena!AL26+Bolqrka!AL26+Gorna!AL26+Svishtov!AL26+Rosica!AL26+Gabrovo!AL26+Plachkovci!AL26+Sevlievo!AL26+Bqla!AL26+Dunav_Ruse!AL26+Silistra!AL26+Tutrakan!AL26+Seslav!AL26+Karakuz!AL26+Razgrad!AL26+Voden!AL26 -> 1625 | AM26: =Bujnovci!AM26+Elena!AM26+Bolqrka!AM26+Gorna!AM26+Svishtov!AM26+Rosica!AM26+Gabrovo!AM26+Plachkovci!AM26+Sevlievo!AM26+Bqla!AM26+Dunav_Ruse!AM26+Silistra!AM26+Tutrakan!AM26+Seslav!AM26+Karakuz!AM26+Razgrad!AM26+Voden!AM26 -> 1422 | AN26: =Bujnovci!AN26+Elena!AN26+Bolqrka!AN26+Gorna!AN26+Svishtov!AN26+Rosica!AN26+Gabrovo!AN26+Plachkovci!AN26+Sevlievo!AN26+Bqla!AN26+Dunav_Ruse!AN26+Silistra!AN26+Tutrakan!AN26+Seslav!AN26+Karakuz!AN26+Razgrad!AN26+Voden!AN26 -> 18 | AO26: =Bujnovci!AO26+Elena!AO26+Bolqrka!AO26+Gorna!AO26+Svishtov!AO26+Rosica!AO26+Gabrovo!AO26+Plachkovci!AO26+Sevlievo!AO26+Bqla!AO26+Dunav_Ruse!AO26+Silistra!AO26+Tutrakan!AO26+Seslav!AO26+Karakuz!AO26+Razgrad!AO26+Voden!AO26 -> 62 | AP26: =Bujnovci!AP26+Elena!AP26+Bolqrka!AP26+Gorna!AP26+Svishtov!AP26+Rosica!AP26+Gabrovo!AP26+Plachkovci!AP26+Sevlievo!AP26+Bqla!AP26+Dunav_Ruse!AP26+Silistra!AP26+Tutrakan!AP26+Seslav!AP26+Karakuz!AP26+Razgrad!AP26+Voden!AP26 -> 32 | AQ26: =Bujnovci!AQ26+Elena!AQ26+Bolqrka!AQ26+Gorna!AQ26+Svishtov!AQ26+Rosica!AQ26+Gabrovo!AQ26+Plachkovci!AQ26+Sevlievo!AQ26+Bqla!AQ26+Dunav_Ruse!AQ26+Silistra!AQ26+Tutrakan!AQ26+Seslav!AQ26+Karakuz!AQ26+Razgrad!AQ26+Voden!AQ26 -> 1310
A27: Дъб год. план | B27: =Bujnovci!B27+Elena!B27+Bolqrka!B27+Gorna!B27+Svishtov!B27+Rosica!B27+Gabrovo!B27+Plachkovci!B27+Sevlievo!B27+Bqla!B27+Dunav_Ruse!B27+Silistra!B27+Tutrakan!B27+Seslav!B27+Karakuz!B27+Razgrad!B27+Voden!B27 -> 986.445 | C27: =Bujnovci!C27+Elena!C27+Bolqrka!C27+Gorna!C27+Svishtov!C27+Rosica!C27+Gabrovo!C27+Plachkovci!C27+Sevlievo!C27+Bqla!C27+Dunav_Ruse!C27+Silistra!C27+Tutrakan!C27+Seslav!C27+Karakuz!C27+Razgrad!C27+Voden!C27 -> 28526 | D27: =Bujnovci!D27+Elena!D27+Bolqrka!D27+Gorna!D27+Svishtov!D27+Rosica!D27+Gabrovo!D27+Plachkovci!D27+Sevlievo!D27+Bqla!D27+Dunav_Ruse!D27+Silistra!D27+Tutrakan!D27+Seslav!D27+Karakuz!D27+Razgrad!D27+Voden!D27 -> 25752 | E27: =Bujnovci!E27+Elena!E27+Bolqrka!E27+Gorna!E27+Svishtov!E27+Rosica!E27+Gabrovo!E27+Plachkovci!E27+Sevlievo!E27+Bqla!E27+Dunav_Ruse!E27+Silistra!E27+Tutrakan!E27+Seslav!E27+Karakuz!E27+Razgrad!E27+Voden!E27 -> 3358 | F27: =Bujnovci!F27+Elena!F27+Bolqrka!F27+Gorna!F27+Svishtov!F27+Rosica!F27+Gabrovo!F27+Plachkovci!F27+Sevlievo!F27+Bqla!F27+Dunav_Ruse!F27+Silistra!F27+Tutrakan!F27+Seslav!F27+Karakuz!F27+Razgrad!F27+Voden!F27 -> 3136 | G27: =Bujnovci!G27+Elena!G27+Bolqrka!G27+Gorna!G27+Svishtov!G27+Rosica!G27+Gabrovo!G27+Plachkovci!G27+Sevlievo!G27+Bqla!G27+Dunav_Ruse!G27+Silistra!G27+Tutrakan!G27+Seslav!G27+Karakuz!G27+Razgrad!G27+Voden!G27 -> 364 | H27: =Bujnovci!H27+Elena!H27+Bolqrka!H27+Gorna!H27+Svishtov!H27+Rosica!H27+Gabrovo!H27+Plachkovci!H27+Sevlievo!H27+Bqla!H27+Dunav_Ruse!H27+Silistra!H27+Tutrakan!H27+Seslav!H27+Karakuz!H27+Razgrad!H27+Voden!H27 -> 18894 | J27: Дъб год. план | K27: =Bujnovci!K27+Elena!K27+Bolqrka!K27+Gorna!K27+Svishtov!K27+Rosica!K27+Gabrovo!K27+Plachkovci!K27+Sevlievo!K27+Bqla!K27+Dunav_Ruse!K27+Silistra!K27+Tutrakan!K27+Seslav!K27+Karakuz!K27+Razgrad!K27+Voden!K27 -> 274.95 | L27: =Bujnovci!L27+Elena!L27+Bolqrka!L27+Gorna!L27+Svishtov!L27+Rosica!L27+Gabrovo!L27+Plachkovci!L27+Sevlievo!L27+Bqla!L27+Dunav_Ruse!L27+Silistra!L27+Tutrakan!L27+Seslav!L27+Karakuz!L27+Razgrad!L27+Voden!L27 -> 7528 | M27: =Bujnovci!M27+Elena!M27+Bolqrka!M27+Gorna!M27+Svishtov!M27+Rosica!M27+Gabrovo!M27+Plachkovci!M27+Sevlievo!M27+Bqla!M27+Dunav_Ruse!M27+Silistra!M27+Tutrakan!M27+Seslav!M27+Karakuz!M27+Razgrad!M27+Voden!M27 -> 6978 | N27: =Bujnovci!N27+Elena!N27+Bolqrka!N27+Gorna!N27+Svishtov!N27+Rosica!N27+Gabrovo!N27+Plachkovci!N27+Sevlievo!N27+Bqla!N27+Dunav_Ruse!N27+Silistra!N27+Tutrakan!N27+Seslav!N27+Karakuz!N27+Razgrad!N27+Voden!N27 -> 1233 | O27: =Bujnovci!O27+Elena!O27+Bolqrka!O27+Gorna!O27+Svishtov!O27+Rosica!O27+Gabrovo!O27+Plachkovci!O27+Sevlievo!O27+Bqla!O27+Dunav_Ruse!O27+Silistra!O27+Tutrakan!O27+Seslav!O27+Karakuz!O27+Razgrad!O27+Voden!O27 -> 1010 | P27: =Bujnovci!P27+Elena!P27+Bolqrka!P27+Gorna!P27+Svishtov!P27+Rosica!P27+Gabrovo!P27+Plachkovci!P27+Sevlievo!P27+Bqla!P27+Dunav_Ruse!P27+Silistra!P27+Tutrakan!P27+Seslav!P27+Karakuz!P27+Razgrad!P27+Voden!P27 -> 136 | Q27: =Bujnovci!Q27+Elena!Q27+Bolqrka!Q27+Gorna!Q27+Svishtov!Q27+Rosica!Q27+Gabrovo!Q27+Plachkovci!Q27+Sevlievo!Q27+Bqla!Q27+Dunav_Ruse!Q27+Silistra!Q27+Tutrakan!Q27+Seslav!Q27+Karakuz!Q27+Razgrad!Q27+Voden!Q27 -> 4599 | R27: Дъб год. план | S27: =Bujnovci!S27+Elena!S27+Bolqrka!S27+Gorna!S27+Svishtov!S27+Rosica!S27+Gabrovo!S27+Plachkovci!S27+Sevlievo!S27+Bqla!S27+Dunav_Ruse!S27+Silistra!S27+Tutrakan!S27+Seslav!S27+Karakuz!S27+Razgrad!S27+Voden!S27 -> 705.395 | T27: =Bujnovci!T27+Elena!T27+Bolqrka!T27+Gorna!T27+Svishtov!T27+Rosica!T27+Gabrovo!T27+Plachkovci!T27+Sevlievo!T27+Bqla!T27+Dunav_Ruse!T27+Silistra!T27+Tutrakan!T27+Seslav!T27+Karakuz!T27+Razgrad!T27+Voden!T27 -> 20838 | U27: =Bujnovci!U27+Elena!U27+Bolqrka!U27+Gorna!U27+Svishtov!U27+Rosica!U27+Gabrovo!U27+Plachkovci!U27+Sevlievo!U27+Bqla!U27+Dunav_Ruse!U27+Silistra!U27+Tutrakan!U27+Seslav!U27+Karakuz!U27+Razgrad!U27+Voden!U27 -> 18632 | V27: =Bujnovci!V27+Elena!V27+Bolqrka!V27+Gorna!V27+Svishtov!V27+Rosica!V27+Gabrovo!V27+Plachkovci!V27+Sevlievo!V27+Bqla!V27+Dunav_Ruse!V27+Silistra!V27+Tutrakan!V27+Seslav!V27+Karakuz!V27+Razgrad!V27+Voden!V27 -> 2125 | W27: =Bujnovci!W27+Elena!W27+Bolqrka!W27+Gorna!W27+Svishtov!W27+Rosica!W27+Gabrovo!W27+Plachkovci!W27+Sevlievo!W27+Bqla!W27+Dunav_Ruse!W27+Silistra!W27+Tutrakan!W27+Seslav!W27+Karakuz!W27+Razgrad!W27+Voden!W27 -> 2126 | X27: =Bujnovci!X27+Elena!X27+Bolqrka!X27+Gorna!X27+Svishtov!X27+Rosica!X27+Gabrovo!X27+Plachkovci!X27+Sevlievo!X27+Bqla!X27+Dunav_Ruse!X27+Silistra!X27+Tutrakan!X27+Seslav!X27+Karakuz!X27+Razgrad!X27+Voden!X27 -> 228 | Y27: =Bujnovci!Y27+Elena!Y27+Bolqrka!Y27+Gorna!Y27+Svishtov!Y27+Rosica!Y27+Gabrovo!Y27+Plachkovci!Y27+Sevlievo!Y27+Bqla!Y27+Dunav_Ruse!Y27+Silistra!Y27+Tutrakan!Y27+Seslav!Y27+Karakuz!Y27+Razgrad!Y27+Voden!Y27 -> 14155 | AA27: Дъб год. план | AB27: =Bujnovci!AB27+Elena!AB27+Bolqrka!AB27+Gorna!AB27+Svishtov!AB27+Rosica!AB27+Gabrovo!AB27+Plachkovci!AB27+Sevlievo!AB27+Bqla!AB27+Dunav_Ruse!AB27+Silistra!AB27+Tutrakan!AB27+Seslav!AB27+Karakuz!AB27+Razgrad!AB27+Voden!AB27 -> 59.6 | AC27: =Bujnovci!AC27+Elena!AC27+Bolqrka!AC27+Gorna!AC27+Svishtov!AC27+Rosica!AC27+Gabrovo!AC27+Plachkovci!AC27+Sevlievo!AC27+Bqla!AC27+Dunav_Ruse!AC27+Silistra!AC27+Tutrakan!AC27+Seslav!AC27+Karakuz!AC27+Razgrad!AC27+Voden!AC27 -> 1954 | AD27: =Bujnovci!AD27+Elena!AD27+Bolqrka!AD27+Gorna!AD27+Svishtov!AD27+Rosica!AD27+Gabrovo!AD27+Plachkovci!AD27+Sevlievo!AD27+Bqla!AD27+Dunav_Ruse!AD27+Silistra!AD27+Tutrakan!AD27+Seslav!AD27+Karakuz!AD27+Razgrad!AD27+Voden!AD27 -> 1725 | AE27: =Bujnovci!AE27+Elena!AE27+Bolqrka!AE27+Gorna!AE27+Svishtov!AE27+Rosica!AE27+Gabrovo!AE27+Plachkovci!AE27+Sevlievo!AE27+Bqla!AE27+Dunav_Ruse!AE27+Silistra!AE27+Tutrakan!AE27+Seslav!AE27+Karakuz!AE27+Razgrad!AE27+Voden!AE27 -> 325 | AF27: =Bujnovci!AF27+Elena!AF27+Bolqrka!AF27+Gorna!AF27+Svishtov!AF27+Rosica!AF27+Gabrovo!AF27+Plachkovci!AF27+Sevlievo!AF27+Bqla!AF27+Dunav_Ruse!AF27+Silistra!AF27+Tutrakan!AF27+Seslav!AF27+Karakuz!AF27+Razgrad!AF27+Voden!AF27 -> 115 | AG27: =Bujnovci!AG27+Elena!AG27+Bolqrka!AG27+Gorna!AG27+Svishtov!AG27+Rosica!AG27+Gabrovo!AG27+Plachkovci!AG27+Sevlievo!AG27+Bqla!AG27+Dunav_Ruse!AG27+Silistra!AG27+Tutrakan!AG27+Seslav!AG27+Karakuz!AG27+Razgrad!AG27+Voden!AG27 -> 19 | AH27: =Bujnovci!AH27+Elena!AH27+Bolqrka!AH27+Gorna!AH27+Svishtov!AH27+Rosica!AH27+Gabrovo!AH27+Plachkovci!AH27+Sevlievo!AH27+Bqla!AH27+Dunav_Ruse!AH27+Silistra!AH27+Tutrakan!AH27+Seslav!AH27+Karakuz!AH27+Razgrad!AH27+Voden!AH27 -> 1266 | AJ27: Дъб год. план | AK27: =Bujnovci!AK27+Elena!AK27+Bolqrka!AK27+Gorna!AK27+Svishtov!AK27+Rosica!AK27+Gabrovo!AK27+Plachkovci!AK27+Sevlievo!AK27+Bqla!AK27+Dunav_Ruse!AK27+Silistra!AK27+Tutrakan!AK27+Seslav!AK27+Karakuz!AK27+Razgrad!AK27+Voden!AK27 -> 6.1 | AL27: =Bujnovci!AL27+Elena!AL27+Bolqrka!AL27+Gorna!AL27+Svishtov!AL27+Rosica!AL27+Gabrovo!AL27+Plachkovci!AL27+Sevlievo!AL27+Bqla!AL27+Dunav_Ruse!AL27+Silistra!AL27+Tutrakan!AL27+Seslav!AL27+Karakuz!AL27+Razgrad!AL27+Voden!AL27 -> 160 | AM27: =Bujnovci!AM27+Elena!AM27+Bolqrka!AM27+Gorna!AM27+Svishtov!AM27+Rosica!AM27+Gabrovo!AM27+Plachkovci!AM27+Sevlievo!AM27+Bqla!AM27+Dunav_Ruse!AM27+Silistra!AM27+Tutrakan!AM27+Seslav!AM27+Karakuz!AM27+Razgrad!AM27+Voden!AM27 -> 140 | AN27: =Bujnovci!AN27+Elena!AN27+Bolqrka!AN27+Gorna!AN27+Svishtov!AN27+Rosica!AN27+Gabrovo!AN27+Plachkovci!AN27+Sevlievo!AN27+Bqla!AN27+Dunav_Ruse!AN27+Silistra!AN27+Tutrakan!AN27+Seslav!AN27+Karakuz!AN27+Razgrad!AN27+Voden!AN27 -> 0 | AO27: =Bujnovci!AO27+Elena!AO27+Bolqrka!AO27+Gorna!AO27+Svishtov!AO27+Rosica!AO27+Gabrovo!AO27+Plachkovci!AO27+Sevlievo!AO27+Bqla!AO27+Dunav_Ruse!AO27+Silistra!AO27+Tutrakan!AO27+Seslav!AO27+Karakuz!AO27+Razgrad!AO27+Voden!AO27 -> 0 | AP27: =Bujnovci!AP27+Elena!AP27+Bolqrka!AP27+Gorna!AP27+Svishtov!AP27+Rosica!AP27+Gabrovo!AP27+Plachkovci!AP27+Sevlievo!AP27+Bqla!AP27+Dunav_Ruse!AP27+Silistra!AP27+Tutrakan!AP27+Seslav!AP27+Karakuz!AP27+Razgrad!AP27+Voden!AP27 -> 0 | AQ27: =Bujnovci!AQ27+Elena!AQ27+Bolqrka!AQ27+Gorna!AQ27+Svishtov!AQ27+Rosica!AQ27+Gabrovo!AQ27+Plachkovci!AQ27+Sevlievo!AQ27+Bqla!AQ27+Dunav_Ruse!AQ27+Silistra!AQ27+Tutrakan!AQ27+Seslav!AQ27+Karakuz!AQ27+Razgrad!AQ27+Voden!AQ27 -> 140
A28: % | B28: =B27/B26*100 -> 95.678468 | C28: =C27/C26*100 -> 68.838534 | D28: =D27/D26*100 -> 71.1863 | E28: =E27/E26*100 -> 95.628649 | F28: =F27/F26*100 -> 42.315477 | G28: =G27/G26*100 -> 21.506647 | H28: =H27/H26*100 -> 80.271907 | J28: % | K28: =K27/K26*100 -> 87.790159 | L28: =L27/L26*100 -> 69.369701 | M28: =M27/M26*100 -> 77.301429 | N28: =N27/N26*100 -> 187.95732 | O28: =O27/O26*100 -> 48.639538 | P28: =P27/P26*100 -> 28.874735 | Q28: =Q27/Q26*100 -> 79.027408 | R28: % | S28: =S27/S26*100 -> 102.31865 | T28: =T27/T26*100 -> 71.949451 | U28: =U27/U26*100 -> 72.426192 | V28: =V27/V26*100 -> 74.889868 | W28: =W27/W26*100 -> 40.322428 | X28: =X27/X26*100 -> 19.167718 | Y28: =Y27/Y26*100 -> 86.268893 | AA28: % | AB28: =AB27/AB26*100 -> 39.916951 | AC28: =AC27/AC26*100 -> 32.782485 | AD28: =AD27/AD26*100 -> 31.697905 | AE28: =AE27/AE26*100 -> 18.989191 | AF28: =AF27/AF26*100 -> 10.808271 | AG28: =AG27/AG26*100 -> 7.6767677 | AH28: =AH27/AH26*100 -> 52.335676 | AJ28: % | AK28: =AK27/AK26*100 -> 21.478873 | AL28: =AL27/AL26*100 -> 9.8461538 | AM28: =AM27/AM26*100 -> 9.8452883 | AN28: =AN27/AN26*100 -> 0 | AO28: =AO27/AO26*100 -> 0 | AP28: =AP27/AP26*100 -> 0 | AQ28: =AQ27/AQ26*100 -> 10.687023
A29: Цер по ГСП | B29: =Bujnovci!B29+Elena!B29+Bolqrka!B29+Gorna!B29+Svishtov!B29+Rosica!B29+Gabrovo!B29+Plachkovci!B29+Sevlievo!B29+Bqla!B29+Dunav_Ruse!B29+Silistra!B29+Tutrakan!B29+Seslav!B29+Karakuz!B29+Razgrad!B29+Voden!B29 -> 2875.57 | C29: =Bujnovci!C29+Elena!C29+Bolqrka!C29+Gorna!C29+Svishtov!C29+Rosica!C29+Gabrovo!C29+Plachkovci!C29+Sevlievo!C29+Bqla!C29+Dunav_Ruse!C29+Silistra!C29+Tutrakan!C29+Seslav!C29+Karakuz!C29+Razgrad!C29+Voden!C29 -> 122525 | D29: =Bujnovci!D29+Elena!D29+Bolqrka!D29+Gorna!D29+Svishtov!D29+Rosica!D29+Gabrovo!D29+Plachkovci!D29+Sevlievo!D29+Bqla!D29+Dunav_Ruse!D29+Silistra!D29+Tutrakan!D29+Seslav!D29+Karakuz!D29+Razgrad!D29+Voden!D29 -> 108517 | E29: =Bujnovci!E29+Elena!E29+Bolqrka!E29+Gorna!E29+Svishtov!E29+Rosica!E29+Gabrovo!E29+Plachkovci!E29+Sevlievo!E29+Bqla!E29+Dunav_Ruse!E29+Silistra!E29+Tutrakan!E29+Seslav!E29+Karakuz!E29+Razgrad!E29+Voden!E29 -> 9884 | F29: =Bujnovci!F29+Elena!F29+Bolqrka!F29+Gorna!F29+Svishtov!F29+Rosica!F29+Gabrovo!F29+Plachkovci!F29+Sevlievo!F29+Bqla!F29+Dunav_Ruse!F29+Silistra!F29+Tutrakan!F29+Seslav!F29+Karakuz!F29+Razgrad!F29+Voden!F29 -> 23534.5 | G29: =Bujnovci!G29+Elena!G29+Bolqrka!G29+Gorna!G29+Svishtov!G29+Rosica!G29+Gabrovo!G29+Plachkovci!G29+Sevlievo!G29+Bqla!G29+Dunav_Ruse!G29+Silistra!G29+Tutrakan!G29+Seslav!G29+Karakuz!G29+Razgrad!G29+Voden!G29 -> 5439.5 | H29: =Bujnovci!H29+Elena!H29+Bolqrka!H29+Gorna!H29+Svishtov!H29+Rosica!H29+Gabrovo!H29+Plachkovci!H29+Sevlievo!H29+Bqla!H29+Dunav_Ruse!H29+Silistra!H29+Tutrakan!H29+Seslav!H29+Karakuz!H29+Razgrad!H29+Voden!H29 -> 69632 | J29: Цер по ГСП | K29: =Bujnovci!K29+Elena!K29+Bolqrka!K29+Gorna!K29+Svishtov!K29+Rosica!K29+Gabrovo!K29+Plachkovci!K29+Sevlievo!K29+Bqla!K29+Dunav_Ruse!K29+Silistra!K29+Tutrakan!K29+Seslav!K29+Karakuz!K29+Razgrad!K29+Voden!K29 -> 637.39 | L29: =Bujnovci!L29+Elena!L29+Bolqrka!L29+Gorna!L29+Svishtov!L29+Rosica!L29+Gabrovo!L29+Plachkovci!L29+Sevlievo!L29+Bqla!L29+Dunav_Ruse!L29+Silistra!L29+Tutrakan!L29+Seslav!L29+Karakuz!L29+Razgrad!L29+Voden!L29 -> 14828.5 | M29: =Bujnovci!M29+Elena!M29+Bolqrka!M29+Gorna!M29+Svishtov!M29+Rosica!M29+Gabrovo!M29+Plachkovci!M29+Sevlievo!M29+Bqla!M29+Dunav_Ruse!M29+Silistra!M29+Tutrakan!M29+Seslav!M29+Karakuz!M29+Razgrad!M29+Voden!M29 -> 12889.5 | N29: =Bujnovci!N29+Elena!N29+Bolqrka!N29+Gorna!N29+Svishtov!N29+Rosica!N29+Gabrovo!N29+Plachkovci!N29+Sevlievo!N29+Bqla!N29+Dunav_Ruse!N29+Silistra!N29+Tutrakan!N29+Seslav!N29+Karakuz!N29+Razgrad!N29+Voden!N29 -> 407.5 | O29: =Bujnovci!O29+Elena!O29+Bolqrka!O29+Gorna!O29+Svishtov!O29+Rosica!O29+Gabrovo!O29+Plachkovci!O29+Sevlievo!O29+Bqla!O29+Dunav_Ruse!O29+Silistra!O29+Tutrakan!O29+Seslav!O29+Karakuz!O29+Razgrad!O29+Voden!O29 -> 2377 | P29: =Bujnovci!P29+Elena!P29+Bolqrka!P29+Gorna!P29+Svishtov!P29+Rosica!P29+Gabrovo!P29+Plachkovci!P29+Sevlievo!P29+Bqla!P29+Dunav_Ruse!P29+Silistra!P29+Tutrakan!P29+Seslav!P29+Karakuz!P29+Razgrad!P29+Voden!P29 -> 699 | Q29: =Bujnovci!Q29+Elena!Q29+Bolqrka!Q29+Gorna!Q29+Svishtov!Q29+Rosica!Q29+Gabrovo!Q29+Plachkovci!Q29+Sevlievo!Q29+Bqla!Q29+Dunav_Ruse!Q29+Silistra!Q29+Tutrakan!Q29+Seslav!Q29+Karakuz!Q29+Razgrad!Q29+Voden!Q29 -> 9402.5 | R29: Цер по ГСП | S29: =Bujnovci!S29+Elena!S29+Bolqrka!S29+Gorna!S29+Svishtov!S29+Rosica!S29+Gabrovo!S29+Plachkovci!S29+Sevlievo!S29+Bqla!S29+Dunav_Ruse!S29+Silistra!S29+Tutrakan!S29+Seslav!S29+Karakuz!S29+Razgrad!S29+Voden!S29 -> 2197.78 | T29: =Bujnovci!T29+Elena!T29+Bolqrka!T29+Gorna!T29+Svishtov!T29+Rosica!T29+Gabrovo!T29+Plachkovci!T29+Sevlievo!T29+Bqla!T29+Dunav_Ruse!T29+Silistra!T29+Tutrakan!T29+Seslav!T29+Karakuz!T29+Razgrad!T29+Voden!T29 -> 105694.5 | U29: =Bujnovci!U29+Elena!U29+Bolqrka!U29+Gorna!U29+Svishtov!U29+Rosica!U29+Gabrovo!U29+Plachkovci!U29+Sevlievo!U29+Bqla!U29+Dunav_Ruse!U29+Silistra!U29+Tutrakan!U29+Seslav!U29+Karakuz!U29+Razgrad!U29+Voden!U29 -> 93950.5 | V29: =Bujnovci!V29+Elena!V29+Bolqrka!V29+Gorna!V29+Svishtov!V29+Rosica!V29+Gabrovo!V29+Plachkovci!V29+Sevlievo!V29+Bqla!V29+Dunav_Ruse!V29+Silistra!V29+Tutrakan!V29+Seslav!V29+Karakuz!V29+Razgrad!V29+Voden!V29 -> 9451.5 | W29: =Bujnovci!W29+Elena!W29+Bolqrka!W29+Gorna!W29+Svishtov!W29+Rosica!W29+Gabrovo!W29+Plachkovci!W29+Sevlievo!W29+Bqla!W29+Dunav_Ruse!W29+Silistra!W29+Tutrakan!W29+Seslav!W29+Karakuz!W29+Razgrad!W29+Voden!W29 -> 21009.5 | X29: =Bujnovci!X29+Elena!X29+Bolqrka!X29+Gorna!X29+Svishtov!X29+Rosica!X29+Gabrovo!X29+Plachkovci!X29+Sevlievo!X29+Bqla!X29+Dunav_Ruse!X29+Silistra!X29+Tutrakan!X29+Seslav!X29+Karakuz!X29+Razgrad!X29+Voden!X29 -> 4623.5 | Y29: =Bujnovci!Y29+Elena!Y29+Bolqrka!Y29+Gorna!Y29+Svishtov!Y29+Rosica!Y29+Gabrovo!Y29+Plachkovci!Y29+Sevlievo!Y29+Bqla!Y29+Dunav_Ruse!Y29+Silistra!Y29+Tutrakan!Y29+Seslav!Y29+Karakuz!Y29+Razgrad!Y29+Voden!Y29 -> 58842.5 | AA29: Цер по ГСП | AB29: =Bujnovci!AB29+Elena!AB29+Bolqrka!AB29+Gorna!AB29+Svishtov!AB29+Rosica!AB29+Gabrovo!AB29+Plachkovci!AB29+Sevlievo!AB29+Bqla!AB29+Dunav_Ruse!AB29+Silistra!AB29+Tutrakan!AB29+Seslav!AB29+Karakuz!AB29+Razgrad!AB29+Voden!AB29 -> 213.88 | AC29: =Bujnovci!AC29+Elena!AC29+Bolqrka!AC29+Gorna!AC29+Svishtov!AC29+Rosica!AC29+Gabrovo!AC29+Plachkovci!AC29+Sevlievo!AC29+Bqla!AC29+Dunav_Ruse!AC29+Silistra!AC29+Tutrakan!AC29+Seslav!AC29+Karakuz!AC29+Razgrad!AC29+Voden!AC29 -> 8564 | AD29: =Bujnovci!AD29+Elena!AD29+Bolqrka!AD29+Gorna!AD29+Svishtov!AD29+Rosica!AD29+Gabrovo!AD29+Plachkovci!AD29+Sevlievo!AD29+Bqla!AD29+Dunav_Ruse!AD29+Silistra!AD29+Tutrakan!AD29+Seslav!AD29+Karakuz!AD29+Razgrad!AD29+Voden!AD29 -> 7997 | AE29: =Bujnovci!AE29+Elena!AE29+Bolqrka!AE29+Gorna!AE29+Svishtov!AE29+Rosica!AE29+Gabrovo!AE29+Plachkovci!AE29+Sevlievo!AE29+Bqla!AE29+Dunav_Ruse!AE29+Silistra!AE29+Tutrakan!AE29+Seslav!AE29+Karakuz!AE29+Razgrad!AE29+Voden!AE29 -> 2730.5 | AF29: =Bujnovci!AF29+Elena!AF29+Bolqrka!AF29+Gorna!AF29+Svishtov!AF29+Rosica!AF29+Gabrovo!AF29+Plachkovci!AF29+Sevlievo!AF29+Bqla!AF29+Dunav_Ruse!AF29+Silistra!AF29+Tutrakan!AF29+Seslav!AF29+Karakuz!AF29+Razgrad!AF29+Voden!AF29 -> 1556 | AG29: =Bujnovci!AG29+Elena!AG29+Bolqrka!AG29+Gorna!AG29+Svishtov!AG29+Rosica!AG29+Gabrovo!AG29+Plachkovci!AG29+Sevlievo!AG29+Bqla!AG29+Dunav_Ruse!AG29+Silistra!AG29+Tutrakan!AG29+Seslav!AG29+Karakuz!AG29+Razgrad!AG29+Voden!AG29 -> 411.5 | AH29: =Bujnovci!AH29+Elena!AH29+Bolqrka!AH29+Gorna!AH29+Svishtov!AH29+Rosica!AH29+Gabrovo!AH29+Plachkovci!AH29+Sevlievo!AH29+Bqla!AH29+Dunav_Ruse!AH29+Silistra!AH29+Tutrakan!AH29+Seslav!AH29+Karakuz!AH29+Razgrad!AH29+Voden!AH29 -> 3298.5 | AJ29: Цер по ГСП | AK29: =Bujnovci!AK29+Elena!AK29+Bolqrka!AK29+Gorna!AK29+Svishtov!AK29+Rosica!AK29+Gabrovo!AK29+Plachkovci!AK29+Sevlievo!AK29+Bqla!AK29+Dunav_Ruse!AK29+Silistra!AK29+Tutrakan!AK29+Seslav!AK29+Karakuz!AK29+Razgrad!AK29+Voden!AK29 -> 40.4 | AL29: =Bujnovci!AL29+Elena!AL29+Bolqrka!AL29+Gorna!AL29+Svishtov!AL29+Rosica!AL29+Gabrovo!AL29+Plachkovci!AL29+Sevlievo!AL29+Bqla!AL29+Dunav_Ruse!AL29+Silistra!AL29+Tutrakan!AL29+Seslav!AL29+Karakuz!AL29+Razgrad!AL29+Voden!AL29 -> 2002 | AM29: =Bujnovci!AM29+Elena!AM29+Bolqrka!AM29+Gorna!AM29+Svishtov!AM29+Rosica!AM29+Gabrovo!AM29+Plachkovci!AM29+Sevlievo!AM29+Bqla!AM29+Dunav_Ruse!AM29+Silistra!AM29+Tutrakan!AM29+Seslav!AM29+Karakuz!AM29+Razgrad!AM29+Voden!AM29 -> 1677 | AN29: =Bujnovci!AN29+Elena!AN29+Bolqrka!AN29+Gorna!AN29+Svishtov!AN29+Rosica!AN29+Gabrovo!AN29+Plachkovci!AN29+Sevlievo!AN29+Bqla!AN29+Dunav_Ruse!AN29+Silistra!AN29+Tutrakan!AN29+Seslav!AN29+Karakuz!AN29+Razgrad!AN29+Voden!AN29 -> 25 | AO29: =Bujnovci!AO29+Elena!AO29+Bolqrka!AO29+Gorna!AO29+Svishtov!AO29+Rosica!AO29+Gabrovo!AO29+Plachkovci!AO29+Sevlievo!AO29+Bqla!AO29+Dunav_Ruse!AO29+Silistra!AO29+Tutrakan!AO29+Seslav!AO29+Karakuz!AO29+Razgrad!AO29+Voden!AO29 -> 148 | AP29: =Bujnovci!AP29+Elena!AP29+Bolqrka!AP29+Gorna!AP29+Svishtov!AP29+Rosica!AP29+Gabrovo!AP29+Plachkovci!AP29+Sevlievo!AP29+Bqla!AP29+Dunav_Ruse!AP29+Silistra!AP29+Tutrakan!AP29+Seslav!AP29+Karakuz!AP29+Razgrad!AP29+Voden!AP29 -> 117 | AQ29: =Bujnovci!AQ29+Elena!AQ29+Bolqrka!AQ29+Gorna!AQ29+Svishtov!AQ29+Rosica!AQ29+Gabrovo!AQ29+Plachkovci!AQ29+Sevlievo!AQ29+Bqla!AQ29+Dunav_Ruse!AQ29+Silistra!AQ29+Tutrakan!AQ29+Seslav!AQ29+Karakuz!AQ29+Razgrad!AQ29+Voden!AQ29 -> 1387
A30: Цер год. план | B30: =Bujnovci!B30+Elena!B30+Bolqrka!B30+Gorna!B30+Svishtov!B30+Rosica!B30+Gabrovo!B30+Plachkovci!B30+Sevlievo!B30+Bqla!B30+Dunav_Ruse!B30+Silistra!B30+Tutrakan!B30+Seslav!B30+Karakuz!B30+Razgrad!B30+Voden!B30 -> 3251.52 | C30: =Bujnovci!C30+Elena!C30+Bolqrka!C30+Gorna!C30+Svishtov!C30+Rosica!C30+Gabrovo!C30+Plachkovci!C30+Sevlievo!C30+Bqla!C30+Dunav_Ruse!C30+Silistra!C30+Tutrakan!C30+Seslav!C30+Karakuz!C30+Razgrad!C30+Voden!C30 -> 131626 | D30: =Bujnovci!D30+Elena!D30+Bolqrka!D30+Gorna!D30+Svishtov!D30+Rosica!D30+Gabrovo!D30+Plachkovci!D30+Sevlievo!D30+Bqla!D30+Dunav_Ruse!D30+Silistra!D30+Tutrakan!D30+Seslav!D30+Karakuz!D30+Razgrad!D30+Voden!D30 -> 119643 | E30: =Bujnovci!E30+Elena!E30+Bolqrka!E30+Gorna!E30+Svishtov!E30+Rosica!E30+Gabrovo!E30+Plachkovci!E30+Sevlievo!E30+Bqla!E30+Dunav_Ruse!E30+Silistra!E30+Tutrakan!E30+Seslav!E30+Karakuz!E30+Razgrad!E30+Voden!E30 -> 18401 | F30: =Bujnovci!F30+Elena!F30+Bolqrka!F30+Gorna!F30+Svishtov!F30+Rosica!F30+Gabrovo!F30+Plachkovci!F30+Sevlievo!F30+Bqla!F30+Dunav_Ruse!F30+Silistra!F30+Tutrakan!F30+Seslav!F30+Karakuz!F30+Razgrad!F30+Voden!F30 -> 9509 | G30: =Bujnovci!G30+Elena!G30+Bolqrka!G30+Gorna!G30+Svishtov!G30+Rosica!G30+Gabrovo!G30+Plachkovci!G30+Sevlievo!G30+Bqla!G30+Dunav_Ruse!G30+Silistra!G30+Tutrakan!G30+Seslav!G30+Karakuz!G30+Razgrad!G30+Voden!G30 -> 2346 | H30: =Bujnovci!H30+Elena!H30+Bolqrka!H30+Gorna!H30+Svishtov!H30+Rosica!H30+Gabrovo!H30+Plachkovci!H30+Sevlievo!H30+Bqla!H30+Dunav_Ruse!H30+Silistra!H30+Tutrakan!H30+Seslav!H30+Karakuz!H30+Razgrad!H30+Voden!H30 -> 89387 | J30: Цер год. план | K30: =Bujnovci!K30+Elena!K30+Bolqrka!K30+Gorna!K30+Svishtov!K30+Rosica!K30+Gabrovo!K30+Plachkovci!K30+Sevlievo!K30+Bqla!K30+Dunav_Ruse!K30+Silistra!K30+Tutrakan!K30+Seslav!K30+Karakuz!K30+Razgrad!K30+Voden!K30 -> 660.3 | L30: =Bujnovci!L30+Elena!L30+Bolqrka!L30+Gorna!L30+Svishtov!L30+Rosica!L30+Gabrovo!L30+Plachkovci!L30+Sevlievo!L30+Bqla!L30+Dunav_Ruse!L30+Silistra!L30+Tutrakan!L30+Seslav!L30+Karakuz!L30+Razgrad!L30+Voden!L30 -> 21807 | M30: =Bujnovci!M30+Elena!M30+Bolqrka!M30+Gorna!M30+Svishtov!M30+Rosica!M30+Gabrovo!M30+Plachkovci!M30+Sevlievo!M30+Bqla!M30+Dunav_Ruse!M30+Silistra!M30+Tutrakan!M30+Seslav!M30+Karakuz!M30+Razgrad!M30+Voden!M30 -> 19341 | N30: =Bujnovci!N30+Elena!N30+Bolqrka!N30+Gorna!N30+Svishtov!N30+Rosica!N30+Gabrovo!N30+Plachkovci!N30+Sevlievo!N30+Bqla!N30+Dunav_Ruse!N30+Silistra!N30+Tutrakan!N30+Seslav!N30+Karakuz!N30+Razgrad!N30+Voden!N30 -> 954 | O30: =Bujnovci!O30+Elena!O30+Bolqrka!O30+Gorna!O30+Svishtov!O30+Rosica!O30+Gabrovo!O30+Plachkovci!O30+Sevlievo!O30+Bqla!O30+Dunav_Ruse!O30+Silistra!O30+Tutrakan!O30+Seslav!O30+Karakuz!O30+Razgrad!O30+Voden!O30 -> 2331 | P30: =Bujnovci!P30+Elena!P30+Bolqrka!P30+Gorna!P30+Svishtov!P30+Rosica!P30+Gabrovo!P30+Plachkovci!P30+Sevlievo!P30+Bqla!P30+Dunav_Ruse!P30+Silistra!P30+Tutrakan!P30+Seslav!P30+Karakuz!P30+Razgrad!P30+Voden!P30 -> 703 | Q30: =Bujnovci!Q30+Elena!Q30+Bolqrka!Q30+Gorna!Q30+Svishtov!Q30+Rosica!Q30+Gabrovo!Q30+Plachkovci!Q30+Sevlievo!Q30+Bqla!Q30+Dunav_Ruse!Q30+Silistra!Q30+Tutrakan!Q30+Seslav!Q30+Karakuz!Q30+Razgrad!Q30+Voden!Q30 -> 15353 | R30: Цер год. план | S30: =Bujnovci!S30+Elena!S30+Bolqrka!S30+Gorna!S30+Svishtov!S30+Rosica!S30+Gabrovo!S30+Plachkovci!S30+Sevlievo!S30+Bqla!S30+Dunav_Ruse!S30+Silistra!S30+Tutrakan!S30+Seslav!S30+Karakuz!S30+Razgrad!S30+Voden!S30 -> 2581.52 | T30: =Bujnovci!T30+Elena!T30+Bolqrka!T30+Gorna!T30+Svishtov!T30+Rosica!T30+Gabrovo!T30+Plachkovci!T30+Sevlievo!T30+Bqla!T30+Dunav_Ruse!T30+Silistra!T30+Tutrakan!T30+Seslav!T30+Karakuz!T30+Razgrad!T30+Voden!T30 -> 109597 | U30: =Bujnovci!U30+Elena!U30+Bolqrka!U30+Gorna!U30+Svishtov!U30+Rosica!U30+Gabrovo!U30+Plachkovci!U30+Sevlievo!U30+Bqla!U30+Dunav_Ruse!U30+Silistra!U30+Tutrakan!U30+Seslav!U30+Karakuz!U30+Razgrad!U30+Voden!U30 -> 100105 | V30: =Bujnovci!V30+Elena!V30+Bolqrka!V30+Gorna!V30+Svishtov!V30+Rosica!V30+Gabrovo!V30+Plachkovci!V30+Sevlievo!V30+Bqla!V30+Dunav_Ruse!V30+Silistra!V30+Tutrakan!V30+Seslav!V30+Karakuz!V30+Razgrad!V30+Voden!V30 -> 17433 | W30: =Bujnovci!W30+Elena!W30+Bolqrka!W30+Gorna!W30+Svishtov!W30+Rosica!W30+Gabrovo!W30+Plachkovci!W30+Sevlievo!W30+Bqla!W30+Dunav_Ruse!W30+Silistra!W30+Tutrakan!W30+Seslav!W30+Karakuz!W30+Razgrad!W30+Voden!W30 -> 7176 | X30: =Bujnovci!X30+Elena!X30+Bolqrka!X30+Gorna!X30+Svishtov!X30+Rosica!X30+Gabrovo!X30+Plachkovci!X30+Sevlievo!X30+Bqla!X30+Dunav_Ruse!X30+Silistra!X30+Tutrakan!X30+Seslav!X30+Karakuz!X30+Razgrad!X30+Voden!X30 -> 1643 | Y30: =Bujnovci!Y30+Elena!Y30+Bolqrka!Y30+Gorna!Y30+Svishtov!Y30+Rosica!Y30+Gabrovo!Y30+Plachkovci!Y30+Sevlievo!Y30+Bqla!Y30+Dunav_Ruse!Y30+Silistra!Y30+Tutrakan!Y30+Seslav!Y30+Karakuz!Y30+Razgrad!Y30+Voden!Y30 -> 73853 | AA30: Цер год. план | AB30: =Bujnovci!AB30+Elena!AB30+Bolqrka!AB30+Gorna!AB30+Svishtov!AB30+Rosica!AB30+Gabrovo!AB30+Plachkovci!AB30+Sevlievo!AB30+Bqla!AB30+Dunav_Ruse!AB30+Silistra!AB30+Tutrakan!AB30+Seslav!AB30+Karakuz!AB30+Razgrad!AB30+Voden!AB30 -> 157 | AC30: =Bujnovci!AC30+Elena!AC30+Bolqrka!AC30+Gorna!AC30+Svishtov!AC30+Rosica!AC30+Gabrovo!AC30+Plachkovci!AC30+Sevlievo!AC30+Bqla!AC30+Dunav_Ruse!AC30+Silistra!AC30+Tutrakan!AC30+Seslav!AC30+Karakuz!AC30+Razgrad!AC30+Voden!AC30 -> 9746 | AD30: =Bujnovci!AD30+Elena!AD30+Bolqrka!AD30+Gorna!AD30+Svishtov!AD30+Rosica!AD30+Gabrovo!AD30+Plachkovci!AD30+Sevlievo!AD30+Bqla!AD30+Dunav_Ruse!AD30+Silistra!AD30+Tutrakan!AD30+Seslav!AD30+Karakuz!AD30+Razgrad!AD30+Voden!AD30 -> 8760 | AE30: =Bujnovci!AE30+Elena!AE30+Bolqrka!AE30+Gorna!AE30+Svishtov!AE30+Rosica!AE30+Gabrovo!AE30+Plachkovci!AE30+Sevlievo!AE30+Bqla!AE30+Dunav_Ruse!AE30+Silistra!AE30+Tutrakan!AE30+Seslav!AE30+Karakuz!AE30+Razgrad!AE30+Voden!AE30 -> 2543 | AF30: =Bujnovci!AF30+Elena!AF30+Bolqrka!AF30+Gorna!AF30+Svishtov!AF30+Rosica!AF30+Gabrovo!AF30+Plachkovci!AF30+Sevlievo!AF30+Bqla!AF30+Dunav_Ruse!AF30+Silistra!AF30+Tutrakan!AF30+Seslav!AF30+Karakuz!AF30+Razgrad!AF30+Voden!AF30 -> 435 | AG30: =Bujnovci!AG30+Elena!AG30+Bolqrka!AG30+Gorna!AG30+Svishtov!AG30+Rosica!AG30+Gabrovo!AG30+Plachkovci!AG30+Sevlievo!AG30+Bqla!AG30+Dunav_Ruse!AG30+Silistra!AG30+Tutrakan!AG30+Seslav!AG30+Karakuz!AG30+Razgrad!AG30+Voden!AG30 -> 65 | AH30: =Bujnovci!AH30+Elena!AH30+Bolqrka!AH30+Gorna!AH30+Svishtov!AH30+Rosica!AH30+Gabrovo!AH30+Plachkovci!AH30+Sevlievo!AH30+Bqla!AH30+Dunav_Ruse!AH30+Silistra!AH30+Tutrakan!AH30+Seslav!AH30+Karakuz!AH30+Razgrad!AH30+Voden!AH30 -> 5717 | AJ30: Цер год. план | AK30: =Bujnovci!AK30+Elena!AK30+Bolqrka!AK30+Gorna!AK30+Svishtov!AK30+Rosica!AK30+Gabrovo!AK30+Plachkovci!AK30+Sevlievo!AK30+Bqla!AK30+Dunav_Ruse!AK30+Silistra!AK30+Tutrakan!AK30+Seslav!AK30+Karakuz!AK30+Razgrad!AK30+Voden!AK30 -> 9.7 | AL30: =Bujnovci!AL30+Elena!AL30+Bolqrka!AL30+Gorna!AL30+Svishtov!AL30+Rosica!AL30+Gabrovo!AL30+Plachkovci!AL30+Sevlievo!AL30+Bqla!AL30+Dunav_Ruse!AL30+Silistra!AL30+Tutrakan!AL30+Seslav!AL30+Karakuz!AL30+Razgrad!AL30+Voden!AL30 -> 222 | AM30: =Bujnovci!AM30+Elena!AM30+Bolqrka!AM30+Gorna!AM30+Svishtov!AM30+Rosica!AM30+Gabrovo!AM30+Plachkovci!AM30+Sevlievo!AM30+Bqla!AM30+Dunav_Ruse!AM30+Silistra!AM30+Tutrakan!AM30+Seslav!AM30+Karakuz!AM30+Razgrad!AM30+Voden!AM30 -> 197 | AN30: =Bujnovci!AN30+Elena!AN30+Bolqrka!AN30+Gorna!AN30+Svishtov!AN30+Rosica!AN30+Gabrovo!AN30+Plachkovci!AN30+Sevlievo!AN30+Bqla!AN30+Dunav_Ruse!AN30+Silistra!AN30+Tutrakan!AN30+Seslav!AN30+Karakuz!AN30+Razgrad!AN30+Voden!AN30 -> 14 | AO30: =Bujnovci!AO30+Elena!AO30+Bolqrka!AO30+Gorna!AO30+Svishtov!AO30+Rosica!AO30+Gabrovo!AO30+Plachkovci!AO30+Sevlievo!AO30+Bqla!AO30+Dunav_Ruse!AO30+Silistra!AO30+Tutrakan!AO30+Seslav!AO30+Karakuz!AO30+Razgrad!AO30+Voden!AO30 -> 2 | AP30: =Bujnovci!AP30+Elena!AP30+Bolqrka!AP30+Gorna!AP30+Svishtov!AP30+Rosica!AP30+Gabrovo!AP30+Plachkovci!AP30+Sevlievo!AP30+Bqla!AP30+Dunav_Ruse!AP30+Silistra!AP30+Tutrakan!AP30+Seslav!AP30+Karakuz!AP30+Razgrad!AP30+Voden!AP30 -> 0 | AQ30: =Bujnovci!AQ30+Elena!AQ30+Bolqrka!AQ30+Gorna!AQ30+Svishtov!AQ30+Rosica!AQ30+Gabrovo!AQ30+Plachkovci!AQ30+Sevlievo!AQ30+Bqla!AQ30+Dunav_Ruse!AQ30+Silistra!AQ30+Tutrakan!AQ30+Seslav!AQ30+Karakuz!AQ30+Razgrad!AQ30+Voden!AQ30 -> 181
A31: % | B31: =B30/B29*100 -> 113.07393 | C31: =C30/C29*100 -> 107.42787 | D31: =D30/D29*100 -> 110.25277 | E31: =E30/E29*100 -> 186.16957 | F31: =F30/F29*100 -> 40.404513 | G31: =G30/G29*100 -> 43.128964 | H31: =H30/H29*100 -> 128.37058 | J31: % | K31: =K30/K29*100 -> 103.59435 | L31: =L30/L29*100 -> 147.0614 | M31: =M30/M29*100 -> 150.05237 | N31: =N30/N29*100 -> 234.11043 | O31: =O30/O29*100 -> 98.064788 | P31: =P30/P29*100 -> 100.57225 | Q31: =Q30/Q29*100 -> 163.28636 | R31: % | S31: =S30/S29*100 -> 117.46035 | T31: =T30/T29*100 -> 103.69225 | U31: =U30/U29*100 -> 106.55079 | V31: =V30/V29*100 -> 184.44691 | W31: =W30/W29*100 -> 34.155977 | X31: =X30/X29*100 -> 35.535849 | Y31: =Y30/Y29*100 -> 125.50962 | AA31: % | AB31: =AB30/AB29*100 -> 73.405648 | AC31: =AC30/AC29*100 -> 113.80196 | AD31: =AD30/AD29*100 -> 109.54108 | AE31: =AE30/AE29*100 -> 93.133126 | AF31: =AF30/AF29*100 -> 27.956298 | AG31: =AG30/AG29*100 -> 15.795869 | AH31: =AH30/AH29*100 -> 173.32121 | AJ31: % | AK31: =AK30/AK29*100 -> 24.009901 | AL31: =AL30/AL29*100 -> 11.088911 | AM31: =AM30/AM29*100 -> 11.747168 | AN31: =AN30/AN29*100 -> 56 | AO31: =AO30/AO29*100 -> 1.3513514 | AP31: =AP30/AP29*100 -> 0 | AQ31: =AQ30/AQ29*100 -> 13.049748
A32: Топола по ГСП | B32: =Bujnovci!B32+Elena!B32+Bolqrka!B32+Gorna!B32+Svishtov!B32+Rosica!B32+Gabrovo!B32+Plachkovci!B32+Sevlievo!B32+Bqla!B32+Dunav_Ruse!B32+Silistra!B32+Tutrakan!B32+Seslav!B32+Karakuz!B32+Razgrad!B32+Voden!B32 -> 233.11 | C32: =Bujnovci!C32+Elena!C32+Bolqrka!C32+Gorna!C32+Svishtov!C32+Rosica!C32+Gabrovo!C32+Plachkovci!C32+Sevlievo!C32+Bqla!C32+Dunav_Ruse!C32+Silistra!C32+Tutrakan!C32+Seslav!C32+Karakuz!C32+Razgrad!C32+Voden!C32 -> 53928 | D32: =Bujnovci!D32+Elena!D32+Bolqrka!D32+Gorna!D32+Svishtov!D32+Rosica!D32+Gabrovo!D32+Plachkovci!D32+Sevlievo!D32+Bqla!D32+Dunav_Ruse!D32+Silistra!D32+Tutrakan!D32+Seslav!D32+Karakuz!D32+Razgrad!D32+Voden!D32 -> 48462.5 | E32: =Bujnovci!E32+Elena!E32+Bolqrka!E32+Gorna!E32+Svishtov!E32+Rosica!E32+Gabrovo!E32+Plachkovci!E32+Sevlievo!E32+Bqla!E32+Dunav_Ruse!E32+Silistra!E32+Tutrakan!E32+Seslav!E32+Karakuz!E32+Razgrad!E32+Voden!E32 -> 31286.5 | F32: =Bujnovci!F32+Elena!F32+Bolqrka!F32+Gorna!F32+Svishtov!F32+Rosica!F32+Gabrovo!F32+Plachkovci!F32+Sevlievo!F32+Bqla!F32+Dunav_Ruse!F32+Silistra!F32+Tutrakan!F32+Seslav!F32+Karakuz!F32+Razgrad!F32+Voden!F32 -> 8795 | G32: =Bujnovci!G32+Elena!G32+Bolqrka!G32+Gorna!G32+Svishtov!G32+Rosica!G32+Gabrovo!G32+Plachkovci!G32+Sevlievo!G32+Bqla!G32+Dunav_Ruse!G32+Silistra!G32+Tutrakan!G32+Seslav!G32+Karakuz!G32+Razgrad!G32+Voden!G32 -> 1281 | H32: =Bujnovci!H32+Elena!H32+Bolqrka!H32+Gorna!H32+Svishtov!H32+Rosica!H32+Gabrovo!H32+Plachkovci!H32+Sevlievo!H32+Bqla!H32+Dunav_Ruse!H32+Silistra!H32+Tutrakan!H32+Seslav!H32+Karakuz!H32+Razgrad!H32+Voden!H32 -> 7098.5 | J32: Топола по ГСП | K32: =Bujnovci!K32+Elena!K32+Bolqrka!K32+Gorna!K32+Svishtov!K32+Rosica!K32+Gabrovo!K32+Plachkovci!K32+Sevlievo!K32+Bqla!K32+Dunav_Ruse!K32+Silistra!K32+Tutrakan!K32+Seslav!K32+Karakuz!K32+Razgrad!K32+Voden!K32 -> 2.32 | L32: =Bujnovci!L32+Elena!L32+Bolqrka!L32+Gorna!L32+Svishtov!L32+Rosica!L32+Gabrovo!L32+Plachkovci!L32+Sevlievo!L32+Bqla!L32+Dunav_Ruse!L32+Silistra!L32+Tutrakan!L32+Seslav!L32+Karakuz!L32+Razgrad!L32+Voden!L32 -> 85.5 | M32: =Bujnovci!M32+Elena!M32+Bolqrka!M32+Gorna!M32+Svishtov!M32+Rosica!M32+Gabrovo!M32+Plachkovci!M32+Sevlievo!M32+Bqla!M32+Dunav_Ruse!M32+Silistra!M32+Tutrakan!M32+Seslav!M32+Karakuz!M32+Razgrad!M32+Voden!M32 -> 75.5 | N32: =Bujnovci!N32+Elena!N32+Bolqrka!N32+Gorna!N32+Svishtov!N32+Rosica!N32+Gabrovo!N32+Plachkovci!N32+Sevlievo!N32+Bqla!N32+Dunav_Ruse!N32+Silistra!N32+Tutrakan!N32+Seslav!N32+Karakuz!N32+Razgrad!N32+Voden!N32 -> 28.5 | O32: =Bujnovci!O32+Elena!O32+Bolqrka!O32+Gorna!O32+Svishtov!O32+Rosica!O32+Gabrovo!O32+Plachkovci!O32+Sevlievo!O32+Bqla!O32+Dunav_Ruse!O32+Silistra!O32+Tutrakan!O32+Seslav!O32+Karakuz!O32+Razgrad!O32+Voden!O32 -> 11 | P32: =Bujnovci!P32+Elena!P32+Bolqrka!P32+Gorna!P32+Svishtov!P32+Rosica!P32+Gabrovo!P32+Plachkovci!P32+Sevlievo!P32+Bqla!P32+Dunav_Ruse!P32+Silistra!P32+Tutrakan!P32+Seslav!P32+Karakuz!P32+Razgrad!P32+Voden!P32 -> 2 | Q32: =Bujnovci!Q32+Elena!Q32+Bolqrka!Q32+Gorna!Q32+Svishtov!Q32+Rosica!Q32+Gabrovo!Q32+Plachkovci!Q32+Sevlievo!Q32+Bqla!Q32+Dunav_Ruse!Q32+Silistra!Q32+Tutrakan!Q32+Seslav!Q32+Karakuz!Q32+Razgrad!Q32+Voden!Q32 -> 34 | R32: Топола по ГСП | S32: =Bujnovci!S32+Elena!S32+Bolqrka!S32+Gorna!S32+Svishtov!S32+Rosica!S32+Gabrovo!S32+Plachkovci!S32+Sevlievo!S32+Bqla!S32+Dunav_Ruse!S32+Silistra!S32+Tutrakan!S32+Seslav!S32+Karakuz!S32+Razgrad!S32+Voden!S32 -> 228.69 | T32: =Bujnovci!T32+Elena!T32+Bolqrka!T32+Gorna!T32+Svishtov!T32+Rosica!T32+Gabrovo!T32+Plachkovci!T32+Sevlievo!T32+Bqla!T32+Dunav_Ruse!T32+Silistra!T32+Tutrakan!T32+Seslav!T32+Karakuz!T32+Razgrad!T32+Voden!T32 -> 53689.5 | U32: =Bujnovci!U32+Elena!U32+Bolqrka!U32+Gorna!U32+Svishtov!U32+Rosica!U32+Gabrovo!U32+Plachkovci!U32+Sevlievo!U32+Bqla!U32+Dunav_Ruse!U32+Silistra!U32+Tutrakan!U32+Seslav!U32+Karakuz!U32+Razgrad!U32+Voden!U32 -> 48248 | V32: =Bujnovci!V32+Elena!V32+Bolqrka!V32+Gorna!V32+Svishtov!V32+Rosica!V32+Gabrovo!V32+Plachkovci!V32+Sevlievo!V32+Bqla!V32+Dunav_Ruse!V32+Silistra!V32+Tutrakan!V32+Seslav!V32+Karakuz!V32+Razgrad!V32+Voden!V32 -> 31188 | W32: =Bujnovci!W32+Elena!W32+Bolqrka!W32+Gorna!W32+Svishtov!W32+Rosica!W32+Gabrovo!W32+Plachkovci!W32+Sevlievo!W32+Bqla!W32+Dunav_Ruse!W32+Silistra!W32+Tutrakan!W32+Seslav!W32+Karakuz!W32+Razgrad!W32+Voden!W32 -> 8755 | X32: =Bujnovci!X32+Elena!X32+Bolqrka!X32+Gorna!X32+Svishtov!X32+Rosica!X32+Gabrovo!X32+Plachkovci!X32+Sevlievo!X32+Bqla!X32+Dunav_Ruse!X32+Silistra!X32+Tutrakan!X32+Seslav!X32+Karakuz!X32+Razgrad!X32+Voden!X32 -> 1270 | Y32: =Bujnovci!Y32+Elena!Y32+Bolqrka!Y32+Gorna!Y32+Svishtov!Y32+Rosica!Y32+Gabrovo!Y32+Plachkovci!Y32+Sevlievo!Y32+Bqla!Y32+Dunav_Ruse!Y32+Silistra!Y32+Tutrakan!Y32+Seslav!Y32+Karakuz!Y32+Razgrad!Y32+Voden!Y32 -> 7033.5 | AA32: Топола по ГСП | AB32: =Bujnovci!AB32+Elena!AB32+Bolqrka!AB32+Gorna!AB32+Svishtov!AB32+Rosica!AB32+Gabrovo!AB32+Plachkovci!AB32+Sevlievo!AB32+Bqla!AB32+Dunav_Ruse!AB32+Silistra!AB32+Tutrakan!AB32+Seslav!AB32+Karakuz!AB32+Razgrad!AB32+Voden!AB32 -> 224.54 | AC32: =Bujnovci!AC32+Elena!AC32+Bolqrka!AC32+Gorna!AC32+Svishtov!AC32+Rosica!AC32+Gabrovo!AC32+Plachkovci!AC32+Sevlievo!AC32+Bqla!AC32+Dunav_Ruse!AC32+Silistra!AC32+Tutrakan!AC32+Seslav!AC32+Karakuz!AC32+Razgrad!AC32+Voden!AC32 -> 53626.5 | AD32: =Bujnovci!AD32+Elena!AD32+Bolqrka!AD32+Gorna!AD32+Svishtov!AD32+Rosica!AD32+Gabrovo!AD32+Plachkovci!AD32+Sevlievo!AD32+Bqla!AD32+Dunav_Ruse!AD32+Silistra!AD32+Tutrakan!AD32+Seslav!AD32+Karakuz!AD32+Razgrad!AD32+Voden!AD32 -> 48179.5 | AE32: =Bujnovci!AE32+Elena!AE32+Bolqrka!AE32+Gorna!AE32+Svishtov!AE32+Rosica!AE32+Gabrovo!AE32+Plachkovci!AE32+Sevlievo!AE32+Bqla!AE32+Dunav_Ruse!AE32+Silistra!AE32+Tutrakan!AE32+Seslav!AE32+Karakuz!AE32+Razgrad!AE32+Voden!AE32 -> 31151 | AF32: =Bujnovci!AF32+Elena!AF32+Bolqrka!AF32+Gorna!AF32+Svishtov!AF32+Rosica!AF32+Gabrovo!AF32+Plachkovci!AF32+Sevlievo!AF32+Bqla!AF32+Dunav_Ruse!AF32+Silistra!AF32+Tutrakan!AF32+Seslav!AF32+Karakuz!AF32+Razgrad!AF32+Voden!AF32 -> 8744.5 | AG32: =Bujnovci!AG32+Elena!AG32+Bolqrka!AG32+Gorna!AG32+Svishtov!AG32+Rosica!AG32+Gabrovo!AG32+Plachkovci!AG32+Sevlievo!AG32+Bqla!AG32+Dunav_Ruse!AG32+Silistra!AG32+Tutrakan!AG32+Seslav!AG32+Karakuz!AG32+Razgrad!AG32+Voden!AG32 -> 1268.5 | AH32: =Bujnovci!AH32+Elena!AH32+Bolqrka!AH32+Gorna!AH32+Svishtov!AH32+Rosica!AH32+Gabrovo!AH32+Plachkovci!AH32+Sevlievo!AH32+Bqla!AH32+Dunav_Ruse!AH32+Silistra!AH32+Tutrakan!AH32+Seslav!AH32+Karakuz!AH32+Razgrad!AH32+Voden!AH32 -> 7014 | AJ32: Топола по ГСП | AK32: =Bujnovci!AK32+Elena!AK32+Bolqrka!AK32+Gorna!AK32+Svishtov!AK32+Rosica!AK32+Gabrovo!AK32+Plachkovci!AK32+Sevlievo!AK32+Bqla!AK32+Dunav_Ruse!AK32+Silistra!AK32+Tutrakan!AK32+Seslav!AK32+Karakuz!AK32+Razgrad!AK32+Voden!AK32 -> 2.1 | AL32: =Bujnovci!AL32+Elena!AL32+Bolqrka!AL32+Gorna!AL32+Svishtov!AL32+Rosica!AL32+Gabrovo!AL32+Plachkovci!AL32+Sevlievo!AL32+Bqla!AL32+Dunav_Ruse!AL32+Silistra!AL32+Tutrakan!AL32+Seslav!AL32+Karakuz!AL32+Razgrad!AL32+Voden!AL32 -> 153 | AM32: =Bujnovci!AM32+Elena!AM32+Bolqrka!AM32+Gorna!AM32+Svishtov!AM32+Rosica!AM32+Gabrovo!AM32+Plachkovci!AM32+Sevlievo!AM32+Bqla!AM32+Dunav_Ruse!AM32+Silistra!AM32+Tutrakan!AM32+Seslav!AM32+Karakuz!AM32+Razgrad!AM32+Voden!AM32 -> 139 | AN32: =Bujnovci!AN32+Elena!AN32+Bolqrka!AN32+Gorna!AN32+Svishtov!AN32+Rosica!AN32+Gabrovo!AN32+Plachkovci!AN32+Sevlievo!AN32+Bqla!AN32+Dunav_Ruse!AN32+Silistra!AN32+Tutrakan!AN32+Seslav!AN32+Karakuz!AN32+Razgrad!AN32+Voden!AN32 -> 70 | AO32: =Bujnovci!AO32+Elena!AO32+Bolqrka!AO32+Gorna!AO32+Svishtov!AO32+Rosica!AO32+Gabrovo!AO32+Plachkovci!AO32+Sevlievo!AO32+Bqla!AO32+Dunav_Ruse!AO32+Silistra!AO32+Tutrakan!AO32+Seslav!AO32+Karakuz!AO32+Razgrad!AO32+Voden!AO32 -> 29 | AP32: =Bujnovci!AP32+Elena!AP32+Bolqrka!AP32+Gorna!AP32+Svishtov!AP32+Rosica!AP32+Gabrovo!AP32+Plachkovci!AP32+Sevlievo!AP32+Bqla!AP32+Dunav_Ruse!AP32+Silistra!AP32+Tutrakan!AP32+Seslav!AP32+Karakuz!AP32+Razgrad!AP32+Voden!AP32 -> 9 | AQ32: =Bujnovci!AQ32+Elena!AQ32+Bolqrka!AQ32+Gorna!AQ32+Svishtov!AQ32+Rosica!AQ32+Gabrovo!AQ32+Plachkovci!AQ32+Sevlievo!AQ32+Bqla!AQ32+Dunav_Ruse!AQ32+Silistra!AQ32+Tutrakan!AQ32+Seslav!AQ32+Karakuz!AQ32+Razgrad!AQ32+Voden!AQ32 -> 31
A33: Топола год. план | B33: =Bujnovci!B33+Elena!B33+Bolqrka!B33+Gorna!B33+Svishtov!B33+Rosica!B33+Gabrovo!B33+Plachkovci!B33+Sevlievo!B33+Bqla!B33+Dunav_Ruse!B33+Silistra!B33+Tutrakan!B33+Seslav!B33+Karakuz!B33+Razgrad!B33+Voden!B33 -> 200.08 | C33: =Bujnovci!C33+Elena!C33+Bolqrka!C33+Gorna!C33+Svishtov!C33+Rosica!C33+Gabrovo!C33+Plachkovci!C33+Sevlievo!C33+Bqla!C33+Dunav_Ruse!C33+Silistra!C33+Tutrakan!C33+Seslav!C33+Karakuz!C33+Razgrad!C33+Voden!C33 -> 55359 | D33: =Bujnovci!D33+Elena!D33+Bolqrka!D33+Gorna!D33+Svishtov!D33+Rosica!D33+Gabrovo!D33+Plachkovci!D33+Sevlievo!D33+Bqla!D33+Dunav_Ruse!D33+Silistra!D33+Tutrakan!D33+Seslav!D33+Karakuz!D33+Razgrad!D33+Voden!D33 -> 53914 | E33: =Bujnovci!E33+Elena!E33+Bolqrka!E33+Gorna!E33+Svishtov!E33+Rosica!E33+Gabrovo!E33+Plachkovci!E33+Sevlievo!E33+Bqla!E33+Dunav_Ruse!E33+Silistra!E33+Tutrakan!E33+Seslav!E33+Karakuz!E33+Razgrad!E33+Voden!E33 -> 38790 | F33: =Bujnovci!F33+Elena!F33+Bolqrka!F33+Gorna!F33+Svishtov!F33+Rosica!F33+Gabrovo!F33+Plachkovci!F33+Sevlievo!F33+Bqla!F33+Dunav_Ruse!F33+Silistra!F33+Tutrakan!F33+Seslav!F33+Karakuz!F33+Razgrad!F33+Voden!F33 -> 5769 | G33: =Bujnovci!G33+Elena!G33+Bolqrka!G33+Gorna!G33+Svishtov!G33+Rosica!G33+Gabrovo!G33+Plachkovci!G33+Sevlievo!G33+Bqla!G33+Dunav_Ruse!G33+Silistra!G33+Tutrakan!G33+Seslav!G33+Karakuz!G33+Razgrad!G33+Voden!G33 -> 1566 | H33: =Bujnovci!H33+Elena!H33+Bolqrka!H33+Gorna!H33+Svishtov!H33+Rosica!H33+Gabrovo!H33+Plachkovci!H33+Sevlievo!H33+Bqla!H33+Dunav_Ruse!H33+Silistra!H33+Tutrakan!H33+Seslav!H33+Karakuz!H33+Razgrad!H33+Voden!H33 -> 7789 | J33: Топола год. план | K33: =Bujnovci!K33+Elena!K33+Bolqrka!K33+Gorna!K33+Svishtov!K33+Rosica!K33+Gabrovo!K33+Plachkovci!K33+Sevlievo!K33+Bqla!K33+Dunav_Ruse!K33+Silistra!K33+Tutrakan!K33+Seslav!K33+Karakuz!K33+Razgrad!K33+Voden!K33 -> 0.79 | L33: =Bujnovci!L33+Elena!L33+Bolqrka!L33+Gorna!L33+Svishtov!L33+Rosica!L33+Gabrovo!L33+Plachkovci!L33+Sevlievo!L33+Bqla!L33+Dunav_Ruse!L33+Silistra!L33+Tutrakan!L33+Seslav!L33+Karakuz!L33+Razgrad!L33+Voden!L33 -> 17 | M33: =Bujnovci!M33+Elena!M33+Bolqrka!M33+Gorna!M33+Svishtov!M33+Rosica!M33+Gabrovo!M33+Plachkovci!M33+Sevlievo!M33+Bqla!M33+Dunav_Ruse!M33+Silistra!M33+Tutrakan!M33+Seslav!M33+Karakuz!M33+Razgrad!M33+Voden!M33 -> 15 | N33: =Bujnovci!N33+Elena!N33+Bolqrka!N33+Gorna!N33+Svishtov!N33+Rosica!N33+Gabrovo!N33+Plachkovci!N33+Sevlievo!N33+Bqla!N33+Dunav_Ruse!N33+Silistra!N33+Tutrakan!N33+Seslav!N33+Karakuz!N33+Razgrad!N33+Voden!N33 -> 2 | O33: =Bujnovci!O33+Elena!O33+Bolqrka!O33+Gorna!O33+Svishtov!O33+Rosica!O33+Gabrovo!O33+Plachkovci!O33+Sevlievo!O33+Bqla!O33+Dunav_Ruse!O33+Silistra!O33+Tutrakan!O33+Seslav!O33+Karakuz!O33+Razgrad!O33+Voden!O33 -> 1 | P33: =Bujnovci!P33+Elena!P33+Bolqrka!P33+Gorna!P33+Svishtov!P33+Rosica!P33+Gabrovo!P33+Plachkovci!P33+Sevlievo!P33+Bqla!P33+Dunav_Ruse!P33+Silistra!P33+Tutrakan!P33+Seslav!P33+Karakuz!P33+Razgrad!P33+Voden!P33 -> 1 | Q33: =Bujnovci!Q33+Elena!Q33+Bolqrka!Q33+Gorna!Q33+Svishtov!Q33+Rosica!Q33+Gabrovo!Q33+Plachkovci!Q33+Sevlievo!Q33+Bqla!Q33+Dunav_Ruse!Q33+Silistra!Q33+Tutrakan!Q33+Seslav!Q33+Karakuz!Q33+Razgrad!Q33+Voden!Q33 -> 11 | R33: Топола год. план | S33: =Bujnovci!S33+Elena!S33+Bolqrka!S33+Gorna!S33+Svishtov!S33+Rosica!S33+Gabrovo!S33+Plachkovci!S33+Sevlievo!S33+Bqla!S33+Dunav_Ruse!S33+Silistra!S33+Tutrakan!S33+Seslav!S33+Karakuz!S33+Razgrad!S33+Voden!S33 -> 199.29 | T33: =Bujnovci!T33+Elena!T33+Bolqrka!T33+Gorna!T33+Svishtov!T33+Rosica!T33+Gabrovo!T33+Plachkovci!T33+Sevlievo!T33+Bqla!T33+Dunav_Ruse!T33+Silistra!T33+Tutrakan!T33+Seslav!T33+Karakuz!T33+Razgrad!T33+Voden!T33 -> 55274 | U33: =Bujnovci!U33+Elena!U33+Bolqrka!U33+Gorna!U33+Svishtov!U33+Rosica!U33+Gabrovo!U33+Plachkovci!U33+Sevlievo!U33+Bqla!U33+Dunav_Ruse!U33+Silistra!U33+Tutrakan!U33+Seslav!U33+Karakuz!U33+Razgrad!U33+Voden!U33 -> 53834 | V33: =Bujnovci!V33+Elena!V33+Bolqrka!V33+Gorna!V33+Svishtov!V33+Rosica!V33+Gabrovo!V33+Plachkovci!V33+Sevlievo!V33+Bqla!V33+Dunav_Ruse!V33+Silistra!V33+Tutrakan!V33+Seslav!V33+Karakuz!V33+Razgrad!V33+Voden!V33 -> 38783 | W33: =Bujnovci!W33+Elena!W33+Bolqrka!W33+Gorna!W33+Svishtov!W33+Rosica!W33+Gabrovo!W33+Plachkovci!W33+Sevlievo!W33+Bqla!W33+Dunav_Ruse!W33+Silistra!W33+Tutrakan!W33+Seslav!W33+Karakuz!W33+Razgrad!W33+Voden!W33 -> 5768 | X33: =Bujnovci!X33+Elena!X33+Bolqrka!X33+Gorna!X33+Svishtov!X33+Rosica!X33+Gabrovo!X33+Plachkovci!X33+Sevlievo!X33+Bqla!X33+Dunav_Ruse!X33+Silistra!X33+Tutrakan!X33+Seslav!X33+Karakuz!X33+Razgrad!X33+Voden!X33 -> 1565 | Y33: =Bujnovci!Y33+Elena!Y33+Bolqrka!Y33+Gorna!Y33+Svishtov!Y33+Rosica!Y33+Gabrovo!Y33+Plachkovci!Y33+Sevlievo!Y33+Bqla!Y33+Dunav_Ruse!Y33+Silistra!Y33+Tutrakan!Y33+Seslav!Y33+Karakuz!Y33+Razgrad!Y33+Voden!Y33 -> 7718 | AA33: Топола год. план | AB33: =Bujnovci!AB33+Elena!AB33+Bolqrka!AB33+Gorna!AB33+Svishtov!AB33+Rosica!AB33+Gabrovo!AB33+Plachkovci!AB33+Sevlievo!AB33+Bqla!AB33+Dunav_Ruse!AB33+Silistra!AB33+Tutrakan!AB33+Seslav!AB33+Karakuz!AB33+Razgrad!AB33+Voden!AB33 -> 187.29 | AC33: =Bujnovci!AC33+Elena!AC33+Bolqrka!AC33+Gorna!AC33+Svishtov!AC33+Rosica!AC33+Gabrovo!AC33+Plachkovci!AC33+Sevlievo!AC33+Bqla!AC33+Dunav_Ruse!AC33+Silistra!AC33+Tutrakan!AC33+Seslav!AC33+Karakuz!AC33+Razgrad!AC33+Voden!AC33 -> 52881 | AD33: =Bujnovci!AD33+Elena!AD33+Bolqrka!AD33+Gorna!AD33+Svishtov!AD33+Rosica!AD33+Gabrovo!AD33+Plachkovci!AD33+Sevlievo!AD33+Bqla!AD33+Dunav_Ruse!AD33+Silistra!AD33+Tutrakan!AD33+Seslav!AD33+Karakuz!AD33+Razgrad!AD33+Voden!AD33 -> 51478 | AE33: =Bujnovci!AE33+Elena!AE33+Bolqrka!AE33+Gorna!AE33+Svishtov!AE33+Rosica!AE33+Gabrovo!AE33+Plachkovci!AE33+Sevlievo!AE33+Bqla!AE33+Dunav_Ruse!AE33+Silistra!AE33+Tutrakan!AE33+Seslav!AE33+Karakuz!AE33+Razgrad!AE33+Voden!AE33 -> 36959 | AF33: =Bujnovci!AF33+Elena!AF33+Bolqrka!AF33+Gorna!AF33+Svishtov!AF33+Rosica!AF33+Gabrovo!AF33+Plachkovci!AF33+Sevlievo!AF33+Bqla!AF33+Dunav_Ruse!AF33+Silistra!AF33+Tutrakan!AF33+Seslav!AF33+Karakuz!AF33+Razgrad!AF33+Voden!AF33 -> 5627 | AG33: =Bujnovci!AG33+Elena!AG33+Bolqrka!AG33+Gorna!AG33+Svishtov!AG33+Rosica!AG33+Gabrovo!AG33+Plachkovci!AG33+Sevlievo!AG33+Bqla!AG33+Dunav_Ruse!AG33+Silistra!AG33+Tutrakan!AG33+Seslav!AG33+Karakuz!AG33+Razgrad!AG33+Voden!AG33 -> 1587 | AH33: =Bujnovci!AH33+Elena!AH33+Bolqrka!AH33+Gorna!AH33+Svishtov!AH33+Rosica!AH33+Gabrovo!AH33+Plachkovci!AH33+Sevlievo!AH33+Bqla!AH33+Dunav_Ruse!AH33+Silistra!AH33+Tutrakan!AH33+Seslav!AH33+Karakuz!AH33+Razgrad!AH33+Voden!AH33 -> 7305 | AJ33: Топола год. план | AK33: =Bujnovci!AK33+Elena!AK33+Bolqrka!AK33+Gorna!AK33+Svishtov!AK33+Rosica!AK33+Gabrovo!AK33+Plachkovci!AK33+Sevlievo!AK33+Bqla!AK33+Dunav_Ruse!AK33+Silistra!AK33+Tutrakan!AK33+Seslav!AK33+Karakuz!AK33+Razgrad!AK33+Voden!AK33 -> 0 | AL33: =Bujnovci!AL33+Elena!AL33+Bolqrka!AL33+Gorna!AL33+Svishtov!AL33+Rosica!AL33+Gabrovo!AL33+Plachkovci!AL33+Sevlievo!AL33+Bqla!AL33+Dunav_Ruse!AL33+Silistra!AL33+Tutrakan!AL33+Seslav!AL33+Karakuz!AL33+Razgrad!AL33+Voden!AL33 -> 68 | AM33: =Bujnovci!AM33+Elena!AM33+Bolqrka!AM33+Gorna!AM33+Svishtov!AM33+Rosica!AM33+Gabrovo!AM33+Plachkovci!AM33+Sevlievo!AM33+Bqla!AM33+Dunav_Ruse!AM33+Silistra!AM33+Tutrakan!AM33+Seslav!AM33+Karakuz!AM33+Razgrad!AM33+Voden!AM33 -> 65 | AN33: =Bujnovci!AN33+Elena!AN33+Bolqrka!AN33+Gorna!AN33+Svishtov!AN33+Rosica!AN33+Gabrovo!AN33+Plachkovci!AN33+Sevlievo!AN33+Bqla!AN33+Dunav_Ruse!AN33+Silistra!AN33+Tutrakan!AN33+Seslav!AN33+Karakuz!AN33+Razgrad!AN33+Voden!AN33 -> 5 | AO33: =Bujnovci!AO33+Elena!AO33+Bolqrka!AO33+Gorna!AO33+Svishtov!AO33+Rosica!AO33+Gabrovo!AO33+Plachkovci!AO33+Sevlievo!AO33+Bqla!AO33+Dunav_Ruse!AO33+Silistra!AO33+Tutrakan!AO33+Seslav!AO33+Karakuz!AO33+Razgrad!AO33+Voden!AO33 -> 0 | AP33: =Bujnovci!AP33+Elena!AP33+Bolqrka!AP33+Gorna!AP33+Svishtov!AP33+Rosica!AP33+Gabrovo!AP33+Plachkovci!AP33+Sevlievo!AP33+Bqla!AP33+Dunav_Ruse!AP33+Silistra!AP33+Tutrakan!AP33+Seslav!AP33+Karakuz!AP33+Razgrad!AP33+Voden!AP33 -> 0 | AQ33: =Bujnovci!AQ33+Elena!AQ33+Bolqrka!AQ33+Gorna!AQ33+Svishtov!AQ33+Rosica!AQ33+Gabrovo!AQ33+Plachkovci!AQ33+Sevlievo!AQ33+Bqla!AQ33+Dunav_Ruse!AQ33+Silistra!AQ33+Tutrakan!AQ33+Seslav!AQ33+Karakuz!AQ33+Razgrad!AQ33+Voden!AQ33 -> 60
A34: % | B34: =B33/B32*100 -> 85.830724 | C34: =C33/C32*100 -> 102.65354 | D34: =D33/D32*100 -> 111.2489 | E34: =E33/E32*100 -> 123.98319 | F34: =F33/F32*100 -> 65.594088 | G34: =G33/G32*100 -> 122.24824 | H34: =H33/H32*100 -> 109.72741 | J34: % | K34: =K33/K32*100 -> 34.051724 | L34: =L33/L32*100 -> 19.883041 | M34: =M33/M32*100 -> 19.86755 | N34: =N33/N32*100 -> 7.0175439 | O34: =O33/O32*100 -> 9.0909091 | P34: =P33/P32*100 -> 50 | Q34: =Q33/Q32*100 -> 32.352941 | R34: % | S34: =S33/S32*100 -> 87.144169 | T34: =T33/T32*100 -> 102.95123 | U34: =U33/U32*100 -> 111.57768 | V34: =V33/V32*100 -> 124.35231 | W34: =W33/W32*100 -> 65.882353 | X34: =X33/X32*100 -> 123.22835 | Y34: =Y33/Y32*100 -> 109.732 | AA34: % | AB34: =AB33/AB32*100 -> 83.410528 | AC34: =AC33/AC32*100 -> 98.609829 | AD34: =AD33/AD32*100 -> 106.84627 | AE34: =AE33/AE32*100 -> 118.64467 | AF34: =AF33/AF32*100 -> 64.349019 | AG34: =AG33/AG32*100 -> 125.1084 | AH34: =AH33/AH32*100 -> 104.14885 | AJ34: % | AK34: =AK33/AK32*100 -> 0 | AL34: =AL33/AL32*100 -> 44.444444 | AM34: =AM33/AM32*100 -> 46.76259 | AN34: =AN33/AN32*100 -> 7.1428571 | AO34: =AO33/AO32*100 -> 0 | AP34: =AP33/AP32*100 -> 0 | AQ34: =AQ33/AQ32*100 -> 193.54839
A35: Акация по ГСП | B35: =Bujnovci!B35+Elena!B35+Bolqrka!B35+Gorna!B35+Svishtov!B35+Rosica!B35+Gabrovo!B35+Plachkovci!B35+Sevlievo!B35+Bqla!B35+Dunav_Ruse!B35+Silistra!B35+Tutrakan!B35+Seslav!B35+Karakuz!B35+Razgrad!B35+Voden!B35 -> 1696.15 | C35: =Bujnovci!C35+Elena!C35+Bolqrka!C35+Gorna!C35+Svishtov!C35+Rosica!C35+Gabrovo!C35+Plachkovci!C35+Sevlievo!C35+Bqla!C35+Dunav_Ruse!C35+Silistra!C35+Tutrakan!C35+Seslav!C35+Karakuz!C35+Razgrad!C35+Voden!C35 -> 136000.5 | D35: =Bujnovci!D35+Elena!D35+Bolqrka!D35+Gorna!D35+Svishtov!D35+Rosica!D35+Gabrovo!D35+Plachkovci!D35+Sevlievo!D35+Bqla!D35+Dunav_Ruse!D35+Silistra!D35+Tutrakan!D35+Seslav!D35+Karakuz!D35+Razgrad!D35+Voden!D35 -> 119384.5 | E35: =Bujnovci!E35+Elena!E35+Bolqrka!E35+Gorna!E35+Svishtov!E35+Rosica!E35+Gabrovo!E35+Plachkovci!E35+Sevlievo!E35+Bqla!E35+Dunav_Ruse!E35+Silistra!E35+Tutrakan!E35+Seslav!E35+Karakuz!E35+Razgrad!E35+Voden!E35 -> 5581 | F35: =Bujnovci!F35+Elena!F35+Bolqrka!F35+Gorna!F35+Svishtov!F35+Rosica!F35+Gabrovo!F35+Plachkovci!F35+Sevlievo!F35+Bqla!F35+Dunav_Ruse!F35+Silistra!F35+Tutrakan!F35+Seslav!F35+Karakuz!F35+Razgrad!F35+Voden!F35 -> 32315.5 | G35: =Bujnovci!G35+Elena!G35+Bolqrka!G35+Gorna!G35+Svishtov!G35+Rosica!G35+Gabrovo!G35+Plachkovci!G35+Sevlievo!G35+Bqla!G35+Dunav_Ruse!G35+Silistra!G35+Tutrakan!G35+Seslav!G35+Karakuz!G35+Razgrad!G35+Voden!G35 -> 10732 | H35: =Bujnovci!H35+Elena!H35+Bolqrka!H35+Gorna!H35+Svishtov!H35+Rosica!H35+Gabrovo!H35+Plachkovci!H35+Sevlievo!H35+Bqla!H35+Dunav_Ruse!H35+Silistra!H35+Tutrakan!H35+Seslav!H35+Karakuz!H35+Razgrad!H35+Voden!H35 -> 70741 | J35: Акация по ГСП | K35: =Bujnovci!K35+Elena!K35+Bolqrka!K35+Gorna!K35+Svishtov!K35+Rosica!K35+Gabrovo!K35+Plachkovci!K35+Sevlievo!K35+Bqla!K35+Dunav_Ruse!K35+Silistra!K35+Tutrakan!K35+Seslav!K35+Karakuz!K35+Razgrad!K35+Voden!K35 -> 13.67 | L35: =Bujnovci!L35+Elena!L35+Bolqrka!L35+Gorna!L35+Svishtov!L35+Rosica!L35+Gabrovo!L35+Plachkovci!L35+Sevlievo!L35+Bqla!L35+Dunav_Ruse!L35+Silistra!L35+Tutrakan!L35+Seslav!L35+Karakuz!L35+Razgrad!L35+Voden!L35 -> 907 | M35: =Bujnovci!M35+Elena!M35+Bolqrka!M35+Gorna!M35+Svishtov!M35+Rosica!M35+Gabrovo!M35+Plachkovci!M35+Sevlievo!M35+Bqla!M35+Dunav_Ruse!M35+Silistra!M35+Tutrakan!M35+Seslav!M35+Karakuz!M35+Razgrad!M35+Voden!M35 -> 774 | N35: =Bujnovci!N35+Elena!N35+Bolqrka!N35+Gorna!N35+Svishtov!N35+Rosica!N35+Gabrovo!N35+Plachkovci!N35+Sevlievo!N35+Bqla!N35+Dunav_Ruse!N35+Silistra!N35+Tutrakan!N35+Seslav!N35+Karakuz!N35+Razgrad!N35+Voden!N35 -> 7 | O35: =Bujnovci!O35+Elena!O35+Bolqrka!O35+Gorna!O35+Svishtov!O35+Rosica!O35+Gabrovo!O35+Plachkovci!O35+Sevlievo!O35+Bqla!O35+Dunav_Ruse!O35+Silistra!O35+Tutrakan!O35+Seslav!O35+Karakuz!O35+Razgrad!O35+Voden!O35 -> 121 | P35: =Bujnovci!P35+Elena!P35+Bolqrka!P35+Gorna!P35+Svishtov!P35+Rosica!P35+Gabrovo!P35+Plachkovci!P35+Sevlievo!P35+Bqla!P35+Dunav_Ruse!P35+Silistra!P35+Tutrakan!P35+Seslav!P35+Karakuz!P35+Razgrad!P35+Voden!P35 -> 85 | Q35: =Bujnovci!Q35+Elena!Q35+Bolqrka!Q35+Gorna!Q35+Svishtov!Q35+Rosica!Q35+Gabrovo!Q35+Plachkovci!Q35+Sevlievo!Q35+Bqla!Q35+Dunav_Ruse!Q35+Silistra!Q35+Tutrakan!Q35+Seslav!Q35+Karakuz!Q35+Razgrad!Q35+Voden!Q35 -> 561 | R35: Акация по ГСП | S35: =Bujnovci!S35+Elena!S35+Bolqrka!S35+Gorna!S35+Svishtov!S35+Rosica!S35+Gabrovo!S35+Plachkovci!S35+Sevlievo!S35+Bqla!S35+Dunav_Ruse!S35+Silistra!S35+Tutrakan!S35+Seslav!S35+Karakuz!S35+Razgrad!S35+Voden!S35 -> 1675.08 | T35: =Bujnovci!T35+Elena!T35+Bolqrka!T35+Gorna!T35+Svishtov!T35+Rosica!T35+Gabrovo!T35+Plachkovci!T35+Sevlievo!T35+Bqla!T35+Dunav_Ruse!T35+Silistra!T35+Tutrakan!T35+Seslav!T35+Karakuz!T35+Razgrad!T35+Voden!T35 -> 134622.5 | U35: =Bujnovci!U35+Elena!U35+Bolqrka!U35+Gorna!U35+Svishtov!U35+Rosica!U35+Gabrovo!U35+Plachkovci!U35+Sevlievo!U35+Bqla!U35+Dunav_Ruse!U35+Silistra!U35+Tutrakan!U35+Seslav!U35+Karakuz!U35+Razgrad!U35+Voden!U35 -> 118193.5 | V35: =Bujnovci!V35+Elena!V35+Bolqrka!V35+Gorna!V35+Svishtov!V35+Rosica!V35+Gabrovo!V35+Plachkovci!V35+Sevlievo!V35+Bqla!V35+Dunav_Ruse!V35+Silistra!V35+Tutrakan!V35+Seslav!V35+Karakuz!V35+Razgrad!V35+Voden!V35 -> 5563 | W35: =Bujnovci!W35+Elena!W35+Bolqrka!W35+Gorna!W35+Svishtov!W35+Rosica!W35+Gabrovo!W35+Plachkovci!W35+Sevlievo!W35+Bqla!W35+Dunav_Ruse!W35+Silistra!W35+Tutrakan!W35+Seslav!W35+Karakuz!W35+Razgrad!W35+Voden!W35 -> 32113.5 | X35: =Bujnovci!X35+Elena!X35+Bolqrka!X35+Gorna!X35+Svishtov!X35+Rosica!X35+Gabrovo!X35+Plachkovci!X35+Sevlievo!X35+Bqla!X35+Dunav_Ruse!X35+Silistra!X35+Tutrakan!X35+Seslav!X35+Karakuz!X35+Razgrad!X35+Voden!X35 -> 10586 | Y35: =Bujnovci!Y35+Elena!Y35+Bolqrka!Y35+Gorna!Y35+Svishtov!Y35+Rosica!Y35+Gabrovo!Y35+Plachkovci!Y35+Sevlievo!Y35+Bqla!Y35+Dunav_Ruse!Y35+Silistra!Y35+Tutrakan!Y35+Seslav!Y35+Karakuz!Y35+Razgrad!Y35+Voden!Y35 -> 69916 | AA35: Акация по ГСП | AB35: =Bujnovci!AB35+Elena!AB35+Bolqrka!AB35+Gorna!AB35+Svishtov!AB35+Rosica!AB35+Gabrovo!AB35+Plachkovci!AB35+Sevlievo!AB35+Bqla!AB35+Dunav_Ruse!AB35+Silistra!AB35+Tutrakan!AB35+Seslav!AB35+Karakuz!AB35+Razgrad!AB35+Voden!AB35 -> 6.84 | AC35: =Bujnovci!AC35+Elena!AC35+Bolqrka!AC35+Gorna!AC35+Svishtov!AC35+Rosica!AC35+Gabrovo!AC35+Plachkovci!AC35+Sevlievo!AC35+Bqla!AC35+Dunav_Ruse!AC35+Silistra!AC35+Tutrakan!AC35+Seslav!AC35+Karakuz!AC35+Razgrad!AC35+Voden!AC35 -> 371 | AD35: =Bujnovci!AD35+Elena!AD35+Bolqrka!AD35+Gorna!AD35+Svishtov!AD35+Rosica!AD35+Gabrovo!AD35+Plachkovci!AD35+Sevlievo!AD35+Bqla!AD35+Dunav_Ruse!AD35+Silistra!AD35+Tutrakan!AD35+Seslav!AD35+Karakuz!AD35+Razgrad!AD35+Voden!AD35 -> 333 | AE35: =Bujnovci!AE35+Elena!AE35+Bolqrka!AE35+Gorna!AE35+Svishtov!AE35+Rosica!AE35+Gabrovo!AE35+Plachkovci!AE35+Sevlievo!AE35+Bqla!AE35+Dunav_Ruse!AE35+Silistra!AE35+Tutrakan!AE35+Seslav!AE35+Karakuz!AE35+Razgrad!AE35+Voden!AE35 -> 17 | AF35: =Bujnovci!AF35+Elena!AF35+Bolqrka!AF35+Gorna!AF35+Svishtov!AF35+Rosica!AF35+Gabrovo!AF35+Plachkovci!AF35+Sevlievo!AF35+Bqla!AF35+Dunav_Ruse!AF35+Silistra!AF35+Tutrakan!AF35+Seslav!AF35+Karakuz!AF35+Razgrad!AF35+Voden!AF35 -> 87.5 | AG35: =Bujnovci!AG35+Elena!AG35+Bolqrka!AG35+Gorna!AG35+Svishtov!AG35+Rosica!AG35+Gabrovo!AG35+Plachkovci!AG35+Sevlievo!AG35+Bqla!AG35+Dunav_Ruse!AG35+Silistra!AG35+Tutrakan!AG35+Seslav!AG35+Karakuz!AG35+Razgrad!AG35+Voden!AG35 -> 31 | AH35: =Bujnovci!AH35+Elena!AH35+Bolqrka!AH35+Gorna!AH35+Svishtov!AH35+Rosica!AH35+Gabrovo!AH35+Plachkovci!AH35+Sevlievo!AH35+Bqla!AH35+Dunav_Ruse!AH35+Silistra!AH35+Tutrakan!AH35+Seslav!AH35+Karakuz!AH35+Razgrad!AH35+Voden!AH35 -> 198.5 | AJ35: Акация по ГСП | AK35: =Bujnovci!AK35+Elena!AK35+Bolqrka!AK35+Gorna!AK35+Svishtov!AK35+Rosica!AK35+Gabrovo!AK35+Plachkovci!AK35+Sevlievo!AK35+Bqla!AK35+Dunav_Ruse!AK35+Silistra!AK35+Tutrakan!AK35+Seslav!AK35+Karakuz!AK35+Razgrad!AK35+Voden!AK35 -> 7.4 | AL35: =Bujnovci!AL35+Elena!AL35+Bolqrka!AL35+Gorna!AL35+Svishtov!AL35+Rosica!AL35+Gabrovo!AL35+Plachkovci!AL35+Sevlievo!AL35+Bqla!AL35+Dunav_Ruse!AL35+Silistra!AL35+Tutrakan!AL35+Seslav!AL35+Karakuz!AL35+Razgrad!AL35+Voden!AL35 -> 471 | AM35: =Bujnovci!AM35+Elena!AM35+Bolqrka!AM35+Gorna!AM35+Svishtov!AM35+Rosica!AM35+Gabrovo!AM35+Plachkovci!AM35+Sevlievo!AM35+Bqla!AM35+Dunav_Ruse!AM35+Silistra!AM35+Tutrakan!AM35+Seslav!AM35+Karakuz!AM35+Razgrad!AM35+Voden!AM35 -> 417 | AN35: =Bujnovci!AN35+Elena!AN35+Bolqrka!AN35+Gorna!AN35+Svishtov!AN35+Rosica!AN35+Gabrovo!AN35+Plachkovci!AN35+Sevlievo!AN35+Bqla!AN35+Dunav_Ruse!AN35+Silistra!AN35+Tutrakan!AN35+Seslav!AN35+Karakuz!AN35+Razgrad!AN35+Voden!AN35 -> 11 | AO35: =Bujnovci!AO35+Elena!AO35+Bolqrka!AO35+Gorna!AO35+Svishtov!AO35+Rosica!AO35+Gabrovo!AO35+Plachkovci!AO35+Sevlievo!AO35+Bqla!AO35+Dunav_Ruse!AO35+Silistra!AO35+Tutrakan!AO35+Seslav!AO35+Karakuz!AO35+Razgrad!AO35+Voden!AO35 -> 81 | AP35: =Bujnovci!AP35+Elena!AP35+Bolqrka!AP35+Gorna!AP35+Svishtov!AP35+Rosica!AP35+Gabrovo!AP35+Plachkovci!AP35+Sevlievo!AP35+Bqla!AP35+Dunav_Ruse!AP35+Silistra!AP35+Tutrakan!AP35+Seslav!AP35+Karakuz!AP35+Razgrad!AP35+Voden!AP35 -> 61 | AQ35: =Bujnovci!AQ35+Elena!AQ35+Bolqrka!AQ35+Gorna!AQ35+Svishtov!AQ35+Rosica!AQ35+Gabrovo!AQ35+Plachkovci!AQ35+Sevlievo!AQ35+Bqla!AQ35+Dunav_Ruse!AQ35+Silistra!AQ35+Tutrakan!AQ35+Seslav!AQ35+Karakuz!AQ35+Razgrad!AQ35+Voden!AQ35 -> 264
A36: Акация год. план | B36: =Bujnovci!B36+Elena!B36+Bolqrka!B36+Gorna!B36+Svishtov!B36+Rosica!B36+Gabrovo!B36+Plachkovci!B36+Sevlievo!B36+Bqla!B36+Dunav_Ruse!B36+Silistra!B36+Tutrakan!B36+Seslav!B36+Karakuz!B36+Razgrad!B36+Voden!B36 -> 1263.855 | C36: =Bujnovci!C36+Elena!C36+Bolqrka!C36+Gorna!C36+Svishtov!C36+Rosica!C36+Gabrovo!C36+Plachkovci!C36+Sevlievo!C36+Bqla!C36+Dunav_Ruse!C36+Silistra!C36+Tutrakan!C36+Seslav!C36+Karakuz!C36+Razgrad!C36+Voden!C36 -> 110220 | D36: =Bujnovci!D36+Elena!D36+Bolqrka!D36+Gorna!D36+Svishtov!D36+Rosica!D36+Gabrovo!D36+Plachkovci!D36+Sevlievo!D36+Bqla!D36+Dunav_Ruse!D36+Silistra!D36+Tutrakan!D36+Seslav!D36+Karakuz!D36+Razgrad!D36+Voden!D36 -> 99463 | E36: =Bujnovci!E36+Elena!E36+Bolqrka!E36+Gorna!E36+Svishtov!E36+Rosica!E36+Gabrovo!E36+Plachkovci!E36+Sevlievo!E36+Bqla!E36+Dunav_Ruse!E36+Silistra!E36+Tutrakan!E36+Seslav!E36+Karakuz!E36+Razgrad!E36+Voden!E36 -> 3240 | F36: =Bujnovci!F36+Elena!F36+Bolqrka!F36+Gorna!F36+Svishtov!F36+Rosica!F36+Gabrovo!F36+Plachkovci!F36+Sevlievo!F36+Bqla!F36+Dunav_Ruse!F36+Silistra!F36+Tutrakan!F36+Seslav!F36+Karakuz!F36+Razgrad!F36+Voden!F36 -> 23697 | G36: =Bujnovci!G36+Elena!G36+Bolqrka!G36+Gorna!G36+Svishtov!G36+Rosica!G36+Gabrovo!G36+Plachkovci!G36+Sevlievo!G36+Bqla!G36+Dunav_Ruse!G36+Silistra!G36+Tutrakan!G36+Seslav!G36+Karakuz!G36+Razgrad!G36+Voden!G36 -> 7695 | H36: =Bujnovci!H36+Elena!H36+Bolqrka!H36+Gorna!H36+Svishtov!H36+Rosica!H36+Gabrovo!H36+Plachkovci!H36+Sevlievo!H36+Bqla!H36+Dunav_Ruse!H36+Silistra!H36+Tutrakan!H36+Seslav!H36+Karakuz!H36+Razgrad!H36+Voden!H36 -> 64831 | J36: Акация год. план | K36: =Bujnovci!K36+Elena!K36+Bolqrka!K36+Gorna!K36+Svishtov!K36+Rosica!K36+Gabrovo!K36+Plachkovci!K36+Sevlievo!K36+Bqla!K36+Dunav_Ruse!K36+Silistra!K36+Tutrakan!K36+Seslav!K36+Karakuz!K36+Razgrad!K36+Voden!K36 -> 15.46 | L36: =Bujnovci!L36+Elena!L36+Bolqrka!L36+Gorna!L36+Svishtov!L36+Rosica!L36+Gabrovo!L36+Plachkovci!L36+Sevlievo!L36+Bqla!L36+Dunav_Ruse!L36+Silistra!L36+Tutrakan!L36+Seslav!L36+Karakuz!L36+Razgrad!L36+Voden!L36 -> 2059 | M36: =Bujnovci!M36+Elena!M36+Bolqrka!M36+Gorna!M36+Svishtov!M36+Rosica!M36+Gabrovo!M36+Plachkovci!M36+Sevlievo!M36+Bqla!M36+Dunav_Ruse!M36+Silistra!M36+Tutrakan!M36+Seslav!M36+Karakuz!M36+Razgrad!M36+Voden!M36 -> 1816 | N36: =Bujnovci!N36+Elena!N36+Bolqrka!N36+Gorna!N36+Svishtov!N36+Rosica!N36+Gabrovo!N36+Plachkovci!N36+Sevlievo!N36+Bqla!N36+Dunav_Ruse!N36+Silistra!N36+Tutrakan!N36+Seslav!N36+Karakuz!N36+Razgrad!N36+Voden!N36 -> 50 | O36: =Bujnovci!O36+Elena!O36+Bolqrka!O36+Gorna!O36+Svishtov!O36+Rosica!O36+Gabrovo!O36+Plachkovci!O36+Sevlievo!O36+Bqla!O36+Dunav_Ruse!O36+Silistra!O36+Tutrakan!O36+Seslav!O36+Karakuz!O36+Razgrad!O36+Voden!O36 -> 363 | P36: =Bujnovci!P36+Elena!P36+Bolqrka!P36+Gorna!P36+Svishtov!P36+Rosica!P36+Gabrovo!P36+Plachkovci!P36+Sevlievo!P36+Bqla!P36+Dunav_Ruse!P36+Silistra!P36+Tutrakan!P36+Seslav!P36+Karakuz!P36+Razgrad!P36+Voden!P36 -> 129 | Q36: =Bujnovci!Q36+Elena!Q36+Bolqrka!Q36+Gorna!Q36+Svishtov!Q36+Rosica!Q36+Gabrovo!Q36+Plachkovci!Q36+Sevlievo!Q36+Bqla!Q36+Dunav_Ruse!Q36+Silistra!Q36+Tutrakan!Q36+Seslav!Q36+Karakuz!Q36+Razgrad!Q36+Voden!Q36 -> 1274 | R36: Акация год. план | S36: =Bujnovci!S36+Elena!S36+Bolqrka!S36+Gorna!S36+Svishtov!S36+Rosica!S36+Gabrovo!S36+Plachkovci!S36+Sevlievo!S36+Bqla!S36+Dunav_Ruse!S36+Silistra!S36+Tutrakan!S36+Seslav!S36+Karakuz!S36+Razgrad!S36+Voden!S36 -> 1247.795 | T36: =Bujnovci!T36+Elena!T36+Bolqrka!T36+Gorna!T36+Svishtov!T36+Rosica!T36+Gabrovo!T36+Plachkovci!T36+Sevlievo!T36+Bqla!T36+Dunav_Ruse!T36+Silistra!T36+Tutrakan!T36+Seslav!T36+Karakuz!T36+Razgrad!T36+Voden!T36 -> 108117 | U36: =Bujnovci!U36+Elena!U36+Bolqrka!U36+Gorna!U36+Svishtov!U36+Rosica!U36+Gabrovo!U36+Plachkovci!U36+Sevlievo!U36+Bqla!U36+Dunav_Ruse!U36+Silistra!U36+Tutrakan!U36+Seslav!U36+Karakuz!U36+Razgrad!U36+Voden!U36 -> 97605 | V36: =Bujnovci!V36+Elena!V36+Bolqrka!V36+Gorna!V36+Svishtov!V36+Rosica!V36+Gabrovo!V36+Plachkovci!V36+Sevlievo!V36+Bqla!V36+Dunav_Ruse!V36+Silistra!V36+Tutrakan!V36+Seslav!V36+Karakuz!V36+Razgrad!V36+Voden!V36 -> 3190 | W36: =Bujnovci!W36+Elena!W36+Bolqrka!W36+Gorna!W36+Svishtov!W36+Rosica!W36+Gabrovo!W36+Plachkovci!W36+Sevlievo!W36+Bqla!W36+Dunav_Ruse!W36+Silistra!W36+Tutrakan!W36+Seslav!W36+Karakuz!W36+Razgrad!W36+Voden!W36 -> 23327 | X36: =Bujnovci!X36+Elena!X36+Bolqrka!X36+Gorna!X36+Svishtov!X36+Rosica!X36+Gabrovo!X36+Plachkovci!X36+Sevlievo!X36+Bqla!X36+Dunav_Ruse!X36+Silistra!X36+Tutrakan!X36+Seslav!X36+Karakuz!X36+Razgrad!X36+Voden!X36 -> 7565 | Y36: =Bujnovci!Y36+Elena!Y36+Bolqrka!Y36+Gorna!Y36+Svishtov!Y36+Rosica!Y36+Gabrovo!Y36+Plachkovci!Y36+Sevlievo!Y36+Bqla!Y36+Dunav_Ruse!Y36+Silistra!Y36+Tutrakan!Y36+Seslav!Y36+Karakuz!Y36+Razgrad!Y36+Voden!Y36 -> 63523 | AA36: Акация год. план | AB36: =Bujnovci!AB36+Elena!AB36+Bolqrka!AB36+Gorna!AB36+Svishtov!AB36+Rosica!AB36+Gabrovo!AB36+Plachkovci!AB36+Sevlievo!AB36+Bqla!AB36+Dunav_Ruse!AB36+Silistra!AB36+Tutrakan!AB36+Seslav!AB36+Karakuz!AB36+Razgrad!AB36+Voden!AB36 -> 3.82 | AC36: =Bujnovci!AC36+Elena!AC36+Bolqrka!AC36+Gorna!AC36+Svishtov!AC36+Rosica!AC36+Gabrovo!AC36+Plachkovci!AC36+Sevlievo!AC36+Bqla!AC36+Dunav_Ruse!AC36+Silistra!AC36+Tutrakan!AC36+Seslav!AC36+Karakuz!AC36+Razgrad!AC36+Voden!AC36 -> 604 | AD36: =Bujnovci!AD36+Elena!AD36+Bolqrka!AD36+Gorna!AD36+Svishtov!AD36+Rosica!AD36+Gabrovo!AD36+Plachkovci!AD36+Sevlievo!AD36+Bqla!AD36+Dunav_Ruse!AD36+Silistra!AD36+Tutrakan!AD36+Seslav!AD36+Karakuz!AD36+Razgrad!AD36+Voden!AD36 -> 536 | AE36: =Bujnovci!AE36+Elena!AE36+Bolqrka!AE36+Gorna!AE36+Svishtov!AE36+Rosica!AE36+Gabrovo!AE36+Plachkovci!AE36+Sevlievo!AE36+Bqla!AE36+Dunav_Ruse!AE36+Silistra!AE36+Tutrakan!AE36+Seslav!AE36+Karakuz!AE36+Razgrad!AE36+Voden!AE36 -> 59 | AF36: =Bujnovci!AF36+Elena!AF36+Bolqrka!AF36+Gorna!AF36+Svishtov!AF36+Rosica!AF36+Gabrovo!AF36+Plachkovci!AF36+Sevlievo!AF36+Bqla!AF36+Dunav_Ruse!AF36+Silistra!AF36+Tutrakan!AF36+Seslav!AF36+Karakuz!AF36+Razgrad!AF36+Voden!AF36 -> 91 | AG36: =Bujnovci!AG36+Elena!AG36+Bolqrka!AG36+Gorna!AG36+Svishtov!AG36+Rosica!AG36+Gabrovo!AG36+Plachkovci!AG36+Sevlievo!AG36+Bqla!AG36+Dunav_Ruse!AG36+Silistra!AG36+Tutrakan!AG36+Seslav!AG36+Karakuz!AG36+Razgrad!AG36+Voden!AG36 -> 24 | AH36: =Bujnovci!AH36+Elena!AH36+Bolqrka!AH36+Gorna!AH36+Svishtov!AH36+Rosica!AH36+Gabrovo!AH36+Plachkovci!AH36+Sevlievo!AH36+Bqla!AH36+Dunav_Ruse!AH36+Silistra!AH36+Tutrakan!AH36+Seslav!AH36+Karakuz!AH36+Razgrad!AH36+Voden!AH36 -> 362 | AJ36: Акация год. план | AK36: =Bujnovci!AK36+Elena!AK36+Bolqrka!AK36+Gorna!AK36+Svishtov!AK36+Rosica!AK36+Gabrovo!AK36+Plachkovci!AK36+Sevlievo!AK36+Bqla!AK36+Dunav_Ruse!AK36+Silistra!AK36+Tutrakan!AK36+Seslav!AK36+Karakuz!AK36+Razgrad!AK36+Voden!AK36 -> 0.6 | AL36: =Bujnovci!AL36+Elena!AL36+Bolqrka!AL36+Gorna!AL36+Svishtov!AL36+Rosica!AL36+Gabrovo!AL36+Plachkovci!AL36+Sevlievo!AL36+Bqla!AL36+Dunav_Ruse!AL36+Silistra!AL36+Tutrakan!AL36+Seslav!AL36+Karakuz!AL36+Razgrad!AL36+Voden!AL36 -> 44 | AM36: =Bujnovci!AM36+Elena!AM36+Bolqrka!AM36+Gorna!AM36+Svishtov!AM36+Rosica!AM36+Gabrovo!AM36+Plachkovci!AM36+Sevlievo!AM36+Bqla!AM36+Dunav_Ruse!AM36+Silistra!AM36+Tutrakan!AM36+Seslav!AM36+Karakuz!AM36+Razgrad!AM36+Voden!AM36 -> 42 | AN36: =Bujnovci!AN36+Elena!AN36+Bolqrka!AN36+Gorna!AN36+Svishtov!AN36+Rosica!AN36+Gabrovo!AN36+Plachkovci!AN36+Sevlievo!AN36+Bqla!AN36+Dunav_Ruse!AN36+Silistra!AN36+Tutrakan!AN36+Seslav!AN36+Karakuz!AN36+Razgrad!AN36+Voden!AN36 -> 0 | AO36: =Bujnovci!AO36+Elena!AO36+Bolqrka!AO36+Gorna!AO36+Svishtov!AO36+Rosica!AO36+Gabrovo!AO36+Plachkovci!AO36+Sevlievo!AO36+Bqla!AO36+Dunav_Ruse!AO36+Silistra!AO36+Tutrakan!AO36+Seslav!AO36+Karakuz!AO36+Razgrad!AO36+Voden!AO36 -> 7 | AP36: =Bujnovci!AP36+Elena!AP36+Bolqrka!AP36+Gorna!AP36+Svishtov!AP36+Rosica!AP36+Gabrovo!AP36+Plachkovci!AP36+Sevlievo!AP36+Bqla!AP36+Dunav_Ruse!AP36+Silistra!AP36+Tutrakan!AP36+Seslav!AP36+Karakuz!AP36+Razgrad!AP36+Voden!AP36 -> 1 | AQ36: =Bujnovci!AQ36+Elena!AQ36+Bolqrka!AQ36+Gorna!AQ36+Svishtov!AQ36+Rosica!AQ36+Gabrovo!AQ36+Plachkovci!AQ36+Sevlievo!AQ36+Bqla!AQ36+Dunav_Ruse!AQ36+Silistra!AQ36+Tutrakan!AQ36+Seslav!AQ36+Karakuz!AQ36+Razgrad!AQ36+Voden!AQ36 -> 34
A37: % | B37: =B36/B35*100 -> 74.513162 | C37: =C36/C35*100 -> 81.04382 | D37: =D36/D35*100 -> 83.31316 | E37: =E36/E35*100 -> 58.054112 | F37: =F36/F35*100 -> 73.330136 | G37: =G36/G35*100 -> 71.701454 | H37: =H36/H35*100 -> 91.64558 | K37: =K36/K35*100 -> 113.09437 | L37: =L36/L35*100 -> 227.01213 | M37: =M36/M35*100 -> 234.62532 | N37: =N36/N35*100 -> 714.28571 | O37: =O36/O35*100 -> 300 | P37: =P36/P35*100 -> 151.76471 | Q37: =Q36/Q35*100 -> 227.09447 | S37: =S36/S35*100 -> 74.491666 | T37: =T36/T35*100 -> 80.311241 | U37: =U36/U35*100 -> 82.580683 | V37: =V36/V35*100 -> 57.34316 | W37: =W36/W35*100 -> 72.639233 | X37: =X36/X35*100 -> 71.462309 | Y37: =Y36/Y35*100 -> 90.85617 | AB37: =AB36/AB35*100 -> 55.847953 | AC37: =AC36/AC35*100 -> 162.80323 | AD37: =AD36/AD35*100 -> 160.96096 | AE37: =AE36/AE35*100 -> 347.05882 | AF37: =AF36/AF35*100 -> 104 | AG37: =AG36/AG35*100 -> 77.419355 | AH37: =AH36/AH35*100 -> 182.36776 | AK37: =AK36/AK35*100 -> 8.1081081 | AL37: =AL36/AL35*100 -> 9.3418259 | AM37: =AM36/AM35*100 -> 10.071942 | AN37: =AN36/AN35*100 -> 0 | AO37: =AO36/AO35*100 -> 8.6419753 | AP37: =AP36/AP35*100 -> 1.6393443 | AQ37: =AQ36/AQ35*100 -> 12.878788
A38: Др.шир.по ГСП | B38: =Bujnovci!B38+Elena!B38+Bolqrka!B38+Gorna!B38+Svishtov!B38+Rosica!B38+Gabrovo!B38+Plachkovci!B38+Sevlievo!B38+Bqla!B38+Dunav_Ruse!B38+Silistra!B38+Tutrakan!B38+Seslav!B38+Karakuz!B38+Razgrad!B38+Voden!B38 -> 2686.17 | C38: =Bujnovci!C38+Elena!C38+Bolqrka!C38+Gorna!C38+Svishtov!C38+Rosica!C38+Gabrovo!C38+Plachkovci!C38+Sevlievo!C38+Bqla!C38+Dunav_Ruse!C38+Silistra!C38+Tutrakan!C38+Seslav!C38+Karakuz!C38+Razgrad!C38+Voden!C38 -> 118411 | D38: =Bujnovci!D38+Elena!D38+Bolqrka!D38+Gorna!D38+Svishtov!D38+Rosica!D38+Gabrovo!D38+Plachkovci!D38+Sevlievo!D38+Bqla!D38+Dunav_Ruse!D38+Silistra!D38+Tutrakan!D38+Seslav!D38+Karakuz!D38+Razgrad!D38+Voden!D38 -> 99060 | E38: =Bujnovci!E38+Elena!E38+Bolqrka!E38+Gorna!E38+Svishtov!E38+Rosica!E38+Gabrovo!E38+Plachkovci!E38+Sevlievo!E38+Bqla!E38+Dunav_Ruse!E38+Silistra!E38+Tutrakan!E38+Seslav!E38+Karakuz!E38+Razgrad!E38+Voden!E38 -> 15379 | F38: =Bujnovci!F38+Elena!F38+Bolqrka!F38+Gorna!F38+Svishtov!F38+Rosica!F38+Gabrovo!F38+Plachkovci!F38+Sevlievo!F38+Bqla!F38+Dunav_Ruse!F38+Silistra!F38+Tutrakan!F38+Seslav!F38+Karakuz!F38+Razgrad!F38+Voden!F38 -> 24346.5 | G38: =Bujnovci!G38+Elena!G38+Bolqrka!G38+Gorna!G38+Svishtov!G38+Rosica!G38+Gabrovo!G38+Plachkovci!G38+Sevlievo!G38+Bqla!G38+Dunav_Ruse!G38+Silistra!G38+Tutrakan!G38+Seslav!G38+Karakuz!G38+Razgrad!G38+Voden!G38 -> 6712 | H38: =Bujnovci!H38+Elena!H38+Bolqrka!H38+Gorna!H38+Svishtov!H38+Rosica!H38+Gabrovo!H38+Plachkovci!H38+Sevlievo!H38+Bqla!H38+Dunav_Ruse!H38+Silistra!H38+Tutrakan!H38+Seslav!H38+Karakuz!H38+Razgrad!H38+Voden!H38 -> 52590.5 | J38: Др.шир.по ГСП | K38: =Bujnovci!K38+Elena!K38+Bolqrka!K38+Gorna!K38+Svishtov!K38+Rosica!K38+Gabrovo!K38+Plachkovci!K38+Sevlievo!K38+Bqla!K38+Dunav_Ruse!K38+Silistra!K38+Tutrakan!K38+Seslav!K38+Karakuz!K38+Razgrad!K38+Voden!K38 -> 1484.42 | L38: =Bujnovci!L38+Elena!L38+Bolqrka!L38+Gorna!L38+Svishtov!L38+Rosica!L38+Gabrovo!L38+Plachkovci!L38+Sevlievo!L38+Bqla!L38+Dunav_Ruse!L38+Silistra!L38+Tutrakan!L38+Seslav!L38+Karakuz!L38+Razgrad!L38+Voden!L38 -> 50023 | M38: =Bujnovci!M38+Elena!M38+Bolqrka!M38+Gorna!M38+Svishtov!M38+Rosica!M38+Gabrovo!M38+Plachkovci!M38+Sevlievo!M38+Bqla!M38+Dunav_Ruse!M38+Silistra!M38+Tutrakan!M38+Seslav!M38+Karakuz!M38+Razgrad!M38+Voden!M38 -> 41884.5 | N38: =Bujnovci!N38+Elena!N38+Bolqrka!N38+Gorna!N38+Svishtov!N38+Rosica!N38+Gabrovo!N38+Plachkovci!N38+Sevlievo!N38+Bqla!N38+Dunav_Ruse!N38+Silistra!N38+Tutrakan!N38+Seslav!N38+Karakuz!N38+Razgrad!N38+Voden!N38 -> 4046.5 | O38: =Bujnovci!O38+Elena!O38+Bolqrka!O38+Gorna!O38+Svishtov!O38+Rosica!O38+Gabrovo!O38+Plachkovci!O38+Sevlievo!O38+Bqla!O38+Dunav_Ruse!O38+Silistra!O38+Tutrakan!O38+Seslav!O38+Karakuz!O38+Razgrad!O38+Voden!O38 -> 12097 | P38: =Bujnovci!P38+Elena!P38+Bolqrka!P38+Gorna!P38+Svishtov!P38+Rosica!P38+Gabrovo!P38+Plachkovci!P38+Sevlievo!P38+Bqla!P38+Dunav_Ruse!P38+Silistra!P38+Tutrakan!P38+Seslav!P38+Karakuz!P38+Razgrad!P38+Voden!P38 -> 3477.5 | Q38: =Bujnovci!Q38+Elena!Q38+Bolqrka!Q38+Gorna!Q38+Svishtov!Q38+Rosica!Q38+Gabrovo!Q38+Plachkovci!Q38+Sevlievo!Q38+Bqla!Q38+Dunav_Ruse!Q38+Silistra!Q38+Tutrakan!Q38+Seslav!Q38+Karakuz!Q38+Razgrad!Q38+Voden!Q38 -> 22244.5 | R38: Др.шир.по ГСП | S38: =Bujnovci!S38+Elena!S38+Bolqrka!S38+Gorna!S38+Svishtov!S38+Rosica!S38+Gabrovo!S38+Plachkovci!S38+Sevlievo!S38+Bqla!S38+Dunav_Ruse!S38+Silistra!S38+Tutrakan!S38+Seslav!S38+Karakuz!S38+Razgrad!S38+Voden!S38 -> 1044.05 | T38: =Bujnovci!T38+Elena!T38+Bolqrka!T38+Gorna!T38+Svishtov!T38+Rosica!T38+Gabrovo!T38+Plachkovci!T38+Sevlievo!T38+Bqla!T38+Dunav_Ruse!T38+Silistra!T38+Tutrakan!T38+Seslav!T38+Karakuz!T38+Razgrad!T38+Voden!T38 -> 64442 | U38: =Bujnovci!U38+Elena!U38+Bolqrka!U38+Gorna!U38+Svishtov!U38+Rosica!U38+Gabrovo!U38+Plachkovci!U38+Sevlievo!U38+Bqla!U38+Dunav_Ruse!U38+Silistra!U38+Tutrakan!U38+Seslav!U38+Karakuz!U38+Razgrad!U38+Voden!U38 -> 53840.5 | V38: =Bujnovci!V38+Elena!V38+Bolqrka!V38+Gorna!V38+Svishtov!V38+Rosica!V38+Gabrovo!V38+Plachkovci!V38+Sevlievo!V38+Bqla!V38+Dunav_Ruse!V38+Silistra!V38+Tutrakan!V38+Seslav!V38+Karakuz!V38+Razgrad!V38+Voden!V38 -> 11244.5 | W38: =Bujnovci!W38+Elena!W38+Bolqrka!W38+Gorna!W38+Svishtov!W38+Rosica!W38+Gabrovo!W38+Plachkovci!W38+Sevlievo!W38+Bqla!W38+Dunav_Ruse!W38+Silistra!W38+Tutrakan!W38+Seslav!W38+Karakuz!W38+Razgrad!W38+Voden!W38 -> 11843.5 | X38: =Bujnovci!X38+Elena!X38+Bolqrka!X38+Gorna!X38+Svishtov!X38+Rosica!X38+Gabrovo!X38+Plachkovci!X38+Sevlievo!X38+Bqla!X38+Dunav_Ruse!X38+Silistra!X38+Tutrakan!X38+Seslav!X38+Karakuz!X38+Razgrad!X38+Voden!X38 -> 2962.5 | Y38: =Bujnovci!Y38+Elena!Y38+Bolqrka!Y38+Gorna!Y38+Svishtov!Y38+Rosica!Y38+Gabrovo!Y38+Plachkovci!Y38+Sevlievo!Y38+Bqla!Y38+Dunav_Ruse!Y38+Silistra!Y38+Tutrakan!Y38+Seslav!Y38+Karakuz!Y38+Razgrad!Y38+Voden!Y38 -> 27777 | AA38: Др.шир.по ГСП | AB38: =Bujnovci!AB38+Elena!AB38+Bolqrka!AB38+Gorna!AB38+Svishtov!AB38+Rosica!AB38+Gabrovo!AB38+Plachkovci!AB38+Sevlievo!AB38+Bqla!AB38+Dunav_Ruse!AB38+Silistra!AB38+Tutrakan!AB38+Seslav!AB38+Karakuz!AB38+Razgrad!AB38+Voden!AB38 -> 415 | AC38: =Bujnovci!AC38+Elena!AC38+Bolqrka!AC38+Gorna!AC38+Svishtov!AC38+Rosica!AC38+Gabrovo!AC38+Plachkovci!AC38+Sevlievo!AC38+Bqla!AC38+Dunav_Ruse!AC38+Silistra!AC38+Tutrakan!AC38+Seslav!AC38+Karakuz!AC38+Razgrad!AC38+Voden!AC38 -> 35703.5 | AD38: =Bujnovci!AD38+Elena!AD38+Bolqrka!AD38+Gorna!AD38+Svishtov!AD38+Rosica!AD38+Gabrovo!AD38+Plachkovci!AD38+Sevlievo!AD38+Bqla!AD38+Dunav_Ruse!AD38+Silistra!AD38+Tutrakan!AD38+Seslav!AD38+Karakuz!AD38+Razgrad!AD38+Voden!AD38 -> 30962 | AE38: =Bujnovci!AE38+Elena!AE38+Bolqrka!AE38+Gorna!AE38+Svishtov!AE38+Rosica!AE38+Gabrovo!AE38+Plachkovci!AE38+Sevlievo!AE38+Bqla!AE38+Dunav_Ruse!AE38+Silistra!AE38+Tutrakan!AE38+Seslav!AE38+Karakuz!AE38+Razgrad!AE38+Voden!AE38 -> 8522.5 | AF38: =Bujnovci!AF38+Elena!AF38+Bolqrka!AF38+Gorna!AF38+Svishtov!AF38+Rosica!AF38+Gabrovo!AF38+Plachkovci!AF38+Sevlievo!AF38+Bqla!AF38+Dunav_Ruse!AF38+Silistra!AF38+Tutrakan!AF38+Seslav!AF38+Karakuz!AF38+Razgrad!AF38+Voden!AF38 -> 7095 | AG38: =Bujnovci!AG38+Elena!AG38+Bolqrka!AG38+Gorna!AG38+Svishtov!AG38+Rosica!AG38+Gabrovo!AG38+Plachkovci!AG38+Sevlievo!AG38+Bqla!AG38+Dunav_Ruse!AG38+Silistra!AG38+Tutrakan!AG38+Seslav!AG38+Karakuz!AG38+Razgrad!AG38+Voden!AG38 -> 1643 | AH38: =Bujnovci!AH38+Elena!AH38+Bolqrka!AH38+Gorna!AH38+Svishtov!AH38+Rosica!AH38+Gabrovo!AH38+Plachkovci!AH38+Sevlievo!AH38+Bqla!AH38+Dunav_Ruse!AH38+Silistra!AH38+Tutrakan!AH38+Seslav!AH38+Karakuz!AH38+Razgrad!AH38+Voden!AH38 -> 13698.5 | AJ38: Др.шир.по ГСП | AK38: =Bujnovci!AK38+Elena!AK38+Bolqrka!AK38+Gorna!AK38+Svishtov!AK38+Rosica!AK38+Gabrovo!AK38+Plachkovci!AK38+Sevlievo!AK38+Bqla!AK38+Dunav_Ruse!AK38+Silistra!AK38+Tutrakan!AK38+Seslav!AK38+Karakuz!AK38+Razgrad!AK38+Voden!AK38 -> 157.7 | AL38: =Bujnovci!AL38+Elena!AL38+Bolqrka!AL38+Gorna!AL38+Svishtov!AL38+Rosica!AL38+Gabrovo!AL38+Plachkovci!AL38+Sevlievo!AL38+Bqla!AL38+Dunav_Ruse!AL38+Silistra!AL38+Tutrakan!AL38+Seslav!AL38+Karakuz!AL38+Razgrad!AL38+Voden!AL38 -> 3946 | AM38: =Bujnovci!AM38+Elena!AM38+Bolqrka!AM38+Gorna!AM38+Svishtov!AM38+Rosica!AM38+Gabrovo!AM38+Plachkovci!AM38+Sevlievo!AM38+Bqla!AM38+Dunav_Ruse!AM38+Silistra!AM38+Tutrakan!AM38+Seslav!AM38+Karakuz!AM38+Razgrad!AM38+Voden!AM38 -> 3335 | AN38: =Bujnovci!AN38+Elena!AN38+Bolqrka!AN38+Gorna!AN38+Svishtov!AN38+Rosica!AN38+Gabrovo!AN38+Plachkovci!AN38+Sevlievo!AN38+Bqla!AN38+Dunav_Ruse!AN38+Silistra!AN38+Tutrakan!AN38+Seslav!AN38+Karakuz!AN38+Razgrad!AN38+Voden!AN38 -> 88 | AO38: =Bujnovci!AO38+Elena!AO38+Bolqrka!AO38+Gorna!AO38+Svishtov!AO38+Rosica!AO38+Gabrovo!AO38+Plachkovci!AO38+Sevlievo!AO38+Bqla!AO38+Dunav_Ruse!AO38+Silistra!AO38+Tutrakan!AO38+Seslav!AO38+Karakuz!AO38+Razgrad!AO38+Voden!AO38 -> 406 | AP38: =Bujnovci!AP38+Elena!AP38+Bolqrka!AP38+Gorna!AP38+Svishtov!AP38+Rosica!AP38+Gabrovo!AP38+Plachkovci!AP38+Sevlievo!AP38+Bqla!AP38+Dunav_Ruse!AP38+Silistra!AP38+Tutrakan!AP38+Seslav!AP38+Karakuz!AP38+Razgrad!AP38+Voden!AP38 -> 272 | AQ38: =Bujnovci!AQ38+Elena!AQ38+Bolqrka!AQ38+Gorna!AQ38+Svishtov!AQ38+Rosica!AQ38+Gabrovo!AQ38+Plachkovci!AQ38+Sevlievo!AQ38+Bqla!AQ38+Dunav_Ruse!AQ38+Silistra!AQ38+Tutrakan!AQ38+Seslav!AQ38+Karakuz!AQ38+Razgrad!AQ38+Voden!AQ38 -> 2569
A39: Др.шир. год. план | B39: =Bujnovci!B39+Elena!B39+Bolqrka!B39+Gorna!B39+Svishtov!B39+Rosica!B39+Gabrovo!B39+Plachkovci!B39+Sevlievo!B39+Bqla!B39+Dunav_Ruse!B39+Silistra!B39+Tutrakan!B39+Seslav!B39+Karakuz!B39+Razgrad!B39+Voden!B39 -> 2014.95 | C39: =Bujnovci!C39+Elena!C39+Bolqrka!C39+Gorna!C39+Svishtov!C39+Rosica!C39+Gabrovo!C39+Plachkovci!C39+Sevlievo!C39+Bqla!C39+Dunav_Ruse!C39+Silistra!C39+Tutrakan!C39+Seslav!C39+Karakuz!C39+Razgrad!C39+Voden!C39 -> 112450 | D39: =Bujnovci!D39+Elena!D39+Bolqrka!D39+Gorna!D39+Svishtov!D39+Rosica!D39+Gabrovo!D39+Plachkovci!D39+Sevlievo!D39+Bqla!D39+Dunav_Ruse!D39+Silistra!D39+Tutrakan!D39+Seslav!D39+Karakuz!D39+Razgrad!D39+Voden!D39 -> 98489 | E39: =Bujnovci!E39+Elena!E39+Bolqrka!E39+Gorna!E39+Svishtov!E39+Rosica!E39+Gabrovo!E39+Plachkovci!E39+Sevlievo!E39+Bqla!E39+Dunav_Ruse!E39+Silistra!E39+Tutrakan!E39+Seslav!E39+Karakuz!E39+Razgrad!E39+Voden!E39 -> 12763 | F39: =Bujnovci!F39+Elena!F39+Bolqrka!F39+Gorna!F39+Svishtov!F39+Rosica!F39+Gabrovo!F39+Plachkovci!F39+Sevlievo!F39+Bqla!F39+Dunav_Ruse!F39+Silistra!F39+Tutrakan!F39+Seslav!F39+Karakuz!F39+Razgrad!F39+Voden!F39 -> 12850 | G39: =Bujnovci!G39+Elena!G39+Bolqrka!G39+Gorna!G39+Svishtov!G39+Rosica!G39+Gabrovo!G39+Plachkovci!G39+Sevlievo!G39+Bqla!G39+Dunav_Ruse!G39+Silistra!G39+Tutrakan!G39+Seslav!G39+Karakuz!G39+Razgrad!G39+Voden!G39 -> 2395 | H39: =Bujnovci!H39+Elena!H39+Bolqrka!H39+Gorna!H39+Svishtov!H39+Rosica!H39+Gabrovo!H39+Plachkovci!H39+Sevlievo!H39+Bqla!H39+Dunav_Ruse!H39+Silistra!H39+Tutrakan!H39+Seslav!H39+Karakuz!H39+Razgrad!H39+Voden!H39 -> 70481 | J39: Др.шир. год. план | K39: =Bujnovci!K39+Elena!K39+Bolqrka!K39+Gorna!K39+Svishtov!K39+Rosica!K39+Gabrovo!K39+Plachkovci!K39+Sevlievo!K39+Bqla!K39+Dunav_Ruse!K39+Silistra!K39+Tutrakan!K39+Seslav!K39+Karakuz!K39+Razgrad!K39+Voden!K39 -> 1064.4 | L39: =Bujnovci!L39+Elena!L39+Bolqrka!L39+Gorna!L39+Svishtov!L39+Rosica!L39+Gabrovo!L39+Plachkovci!L39+Sevlievo!L39+Bqla!L39+Dunav_Ruse!L39+Silistra!L39+Tutrakan!L39+Seslav!L39+Karakuz!L39+Razgrad!L39+Voden!L39 -> 44702 | M39: =Bujnovci!M39+Elena!M39+Bolqrka!M39+Gorna!M39+Svishtov!M39+Rosica!M39+Gabrovo!M39+Plachkovci!M39+Sevlievo!M39+Bqla!M39+Dunav_Ruse!M39+Silistra!M39+Tutrakan!M39+Seslav!M39+Karakuz!M39+Razgrad!M39+Voden!M39 -> 40446 | N39: =Bujnovci!N39+Elena!N39+Bolqrka!N39+Gorna!N39+Svishtov!N39+Rosica!N39+Gabrovo!N39+Plachkovci!N39+Sevlievo!N39+Bqla!N39+Dunav_Ruse!N39+Silistra!N39+Tutrakan!N39+Seslav!N39+Karakuz!N39+Razgrad!N39+Voden!N39 -> 4103 | O39: =Bujnovci!O39+Elena!O39+Bolqrka!O39+Gorna!O39+Svishtov!O39+Rosica!O39+Gabrovo!O39+Plachkovci!O39+Sevlievo!O39+Bqla!O39+Dunav_Ruse!O39+Silistra!O39+Tutrakan!O39+Seslav!O39+Karakuz!O39+Razgrad!O39+Voden!O39 -> 5710 | P39: =Bujnovci!P39+Elena!P39+Bolqrka!P39+Gorna!P39+Svishtov!P39+Rosica!P39+Gabrovo!P39+Plachkovci!P39+Sevlievo!P39+Bqla!P39+Dunav_Ruse!P39+Silistra!P39+Tutrakan!P39+Seslav!P39+Karakuz!P39+Razgrad!P39+Voden!P39 -> 937 | Q39: =Bujnovci!Q39+Elena!Q39+Bolqrka!Q39+Gorna!Q39+Svishtov!Q39+Rosica!Q39+Gabrovo!Q39+Plachkovci!Q39+Sevlievo!Q39+Bqla!Q39+Dunav_Ruse!Q39+Silistra!Q39+Tutrakan!Q39+Seslav!Q39+Karakuz!Q39+Razgrad!Q39+Voden!Q39 -> 29696 | R39: Др.шир. год. план | S39: =Bujnovci!S39+Elena!S39+Bolqrka!S39+Gorna!S39+Svishtov!S39+Rosica!S39+Gabrovo!S39+Plachkovci!S39+Sevlievo!S39+Bqla!S39+Dunav_Ruse!S39+Silistra!S39+Tutrakan!S39+Seslav!S39+Karakuz!S39+Razgrad!S39+Voden!S39 -> 934.95 | T39: =Bujnovci!T39+Elena!T39+Bolqrka!T39+Gorna!T39+Svishtov!T39+Rosica!T39+Gabrovo!T39+Plachkovci!T39+Sevlievo!T39+Bqla!T39+Dunav_Ruse!T39+Silistra!T39+Tutrakan!T39+Seslav!T39+Karakuz!T39+Razgrad!T39+Voden!T39 -> 65768 | U39: =Bujnovci!U39+Elena!U39+Bolqrka!U39+Gorna!U39+Svishtov!U39+Rosica!U39+Gabrovo!U39+Plachkovci!U39+Sevlievo!U39+Bqla!U39+Dunav_Ruse!U39+Silistra!U39+Tutrakan!U39+Seslav!U39+Karakuz!U39+Razgrad!U39+Voden!U39 -> 56160 | V39: =Bujnovci!V39+Elena!V39+Bolqrka!V39+Gorna!V39+Svishtov!V39+Rosica!V39+Gabrovo!V39+Plachkovci!V39+Sevlievo!V39+Bqla!V39+Dunav_Ruse!V39+Silistra!V39+Tutrakan!V39+Seslav!V39+Karakuz!V39+Razgrad!V39+Voden!V39 -> 8206 | W39: =Bujnovci!W39+Elena!W39+Bolqrka!W39+Gorna!W39+Svishtov!W39+Rosica!W39+Gabrovo!W39+Plachkovci!W39+Sevlievo!W39+Bqla!W39+Dunav_Ruse!W39+Silistra!W39+Tutrakan!W39+Seslav!W39+Karakuz!W39+Razgrad!W39+Voden!W39 -> 6966 | X39: =Bujnovci!X39+Elena!X39+Bolqrka!X39+Gorna!X39+Svishtov!X39+Rosica!X39+Gabrovo!X39+Plachkovci!X39+Sevlievo!X39+Bqla!X39+Dunav_Ruse!X39+Silistra!X39+Tutrakan!X39+Seslav!X39+Karakuz!X39+Razgrad!X39+Voden!X39 -> 1431 | Y39: =Bujnovci!Y39+Elena!Y39+Bolqrka!Y39+Gorna!Y39+Svishtov!Y39+Rosica!Y39+Gabrovo!Y39+Plachkovci!Y39+Sevlievo!Y39+Bqla!Y39+Dunav_Ruse!Y39+Silistra!Y39+Tutrakan!Y39+Seslav!Y39+Karakuz!Y39+Razgrad!Y39+Voden!Y39 -> 39565 | AA39: Др.шир. год. план | AB39: =Bujnovci!AB39+Elena!AB39+Bolqrka!AB39+Gorna!AB39+Svishtov!AB39+Rosica!AB39+Gabrovo!AB39+Plachkovci!AB39+Sevlievo!AB39+Bqla!AB39+Dunav_Ruse!AB39+Silistra!AB39+Tutrakan!AB39+Seslav!AB39+Karakuz!AB39+Razgrad!AB39+Voden!AB39 -> 333.89 | AC39: =Bujnovci!AC39+Elena!AC39+Bolqrka!AC39+Gorna!AC39+Svishtov!AC39+Rosica!AC39+Gabrovo!AC39+Plachkovci!AC39+Sevlievo!AC39+Bqla!AC39+Dunav_Ruse!AC39+Silistra!AC39+Tutrakan!AC39+Seslav!AC39+Karakuz!AC39+Razgrad!AC39+Voden!AC39 -> 29031 | AD39: =Bujnovci!AD39+Elena!AD39+Bolqrka!AD39+Gorna!AD39+Svishtov!AD39+Rosica!AD39+Gabrovo!AD39+Plachkovci!AD39+Sevlievo!AD39+Bqla!AD39+Dunav_Ruse!AD39+Silistra!AD39+Tutrakan!AD39+Seslav!AD39+Karakuz!AD39+Razgrad!AD39+Voden!AD39 -> 24515 | AE39: =Bujnovci!AE39+Elena!AE39+Bolqrka!AE39+Gorna!AE39+Svishtov!AE39+Rosica!AE39+Gabrovo!AE39+Plachkovci!AE39+Sevlievo!AE39+Bqla!AE39+Dunav_Ruse!AE39+Silistra!AE39+Tutrakan!AE39+Seslav!AE39+Karakuz!AE39+Razgrad!AE39+Voden!AE39 -> 4817 | AF39: =Bujnovci!AF39+Elena!AF39+Bolqrka!AF39+Gorna!AF39+Svishtov!AF39+Rosica!AF39+Gabrovo!AF39+Plachkovci!AF39+Sevlievo!AF39+Bqla!AF39+Dunav_Ruse!AF39+Silistra!AF39+Tutrakan!AF39+Seslav!AF39+Karakuz!AF39+Razgrad!AF39+Voden!AF39 -> 4490 | AG39: =Bujnovci!AG39+Elena!AG39+Bolqrka!AG39+Gorna!AG39+Svishtov!AG39+Rosica!AG39+Gabrovo!AG39+Plachkovci!AG39+Sevlievo!AG39+Bqla!AG39+Dunav_Ruse!AG39+Silistra!AG39+Tutrakan!AG39+Seslav!AG39+Karakuz!AG39+Razgrad!AG39+Voden!AG39 -> 913 | AH39: =Bujnovci!AH39+Elena!AH39+Bolqrka!AH39+Gorna!AH39+Svishtov!AH39+Rosica!AH39+Gabrovo!AH39+Plachkovci!AH39+Sevlievo!AH39+Bqla!AH39+Dunav_Ruse!AH39+Silistra!AH39+Tutrakan!AH39+Seslav!AH39+Karakuz!AH39+Razgrad!AH39+Voden!AH39 -> 14295 | AJ39: Др.шир. год. план | AK39: =Bujnovci!AK39+Elena!AK39+Bolqrka!AK39+Gorna!AK39+Svishtov!AK39+Rosica!AK39+Gabrovo!AK39+Plachkovci!AK39+Sevlievo!AK39+Bqla!AK39+Dunav_Ruse!AK39+Silistra!AK39+Tutrakan!AK39+Seslav!AK39+Karakuz!AK39+Razgrad!AK39+Voden!AK39 -> 15.6 | AL39: =Bujnovci!AL39+Elena!AL39+Bolqrka!AL39+Gorna!AL39+Svishtov!AL39+Rosica!AL39+Gabrovo!AL39+Plachkovci!AL39+Sevlievo!AL39+Bqla!AL39+Dunav_Ruse!AL39+Silistra!AL39+Tutrakan!AL39+Seslav!AL39+Karakuz!AL39+Razgrad!AL39+Voden!AL39 -> 1980 | AM39: =Bujnovci!AM39+Elena!AM39+Bolqrka!AM39+Gorna!AM39+Svishtov!AM39+Rosica!AM39+Gabrovo!AM39+Plachkovci!AM39+Sevlievo!AM39+Bqla!AM39+Dunav_Ruse!AM39+Silistra!AM39+Tutrakan!AM39+Seslav!AM39+Karakuz!AM39+Razgrad!AM39+Voden!AM39 -> 1875 | AN39: =Bujnovci!AN39+Elena!AN39+Bolqrka!AN39+Gorna!AN39+Svishtov!AN39+Rosica!AN39+Gabrovo!AN39+Plachkovci!AN39+Sevlievo!AN39+Bqla!AN39+Dunav_Ruse!AN39+Silistra!AN39+Tutrakan!AN39+Seslav!AN39+Karakuz!AN39+Razgrad!AN39+Voden!AN39 -> 454 | AO39: =Bujnovci!AO39+Elena!AO39+Bolqrka!AO39+Gorna!AO39+Svishtov!AO39+Rosica!AO39+Gabrovo!AO39+Plachkovci!AO39+Sevlievo!AO39+Bqla!AO39+Dunav_Ruse!AO39+Silistra!AO39+Tutrakan!AO39+Seslav!AO39+Karakuz!AO39+Razgrad!AO39+Voden!AO39 -> 174 | AP39: =Bujnovci!AP39+Elena!AP39+Bolqrka!AP39+Gorna!AP39+Svishtov!AP39+Rosica!AP39+Gabrovo!AP39+Plachkovci!AP39+Sevlievo!AP39+Bqla!AP39+Dunav_Ruse!AP39+Silistra!AP39+Tutrakan!AP39+Seslav!AP39+Karakuz!AP39+Razgrad!AP39+Voden!AP39 -> 27 | AQ39: =Bujnovci!AQ39+Elena!AQ39+Bolqrka!AQ39+Gorna!AQ39+Svishtov!AQ39+Rosica!AQ39+Gabrovo!AQ39+Plachkovci!AQ39+Sevlievo!AQ39+Bqla!AQ39+Dunav_Ruse!AQ39+Silistra!AQ39+Tutrakan!AQ39+Seslav!AQ39+Karakuz!AQ39+Razgrad!AQ39+Voden!AQ39 -> 1220 | AT39: Обобщил:………………………………
A40: % | B40: =B39/B38*100 -> 75.012006 | C40: =C39/C38*100 -> 94.965839 | D40: =D39/D38*100 -> 99.423582 | E40: =E39/E38*100 -> 82.989791 | F40: =F39/F38*100 -> 52.77966 | G40: =G39/G38*100 -> 35.68236 | H40: =H39/H38*100 -> 134.0185 | J40: % | K40: =K39/K38*100 -> 71.704774 | L40: =L39/L38*100 -> 89.362893 | M40: =M39/M38*100 -> 96.565555 | N40: =N39/N38*100 -> 101.39627 | O40: =O39/O38*100 -> 47.201786 | P40: =P39/P38*100 -> 26.944644 | Q40: =Q39/Q38*100 -> 133.49817 | R40: % | S40: =S39/S38*100 -> 89.550309 | T40: =T39/T38*100 -> 102.05766 | U40: =U39/U38*100 -> 104.3081 | V40: =V39/V38*100 -> 72.9779 | W40: =W39/W38*100 -> 58.817073 | X40: =X39/X38*100 -> 48.303797 | Y40: =Y39/Y38*100 -> 142.43799 | AA40: % | AB40: =AB39/AB38*100 -> 80.455422 | AC40: =AC39/AC38*100 -> 81.311356 | AD40: =AD39/AD38*100 -> 79.177702 | AE40: =AE39/AE38*100 -> 56.520974 | AF40: =AF39/AF38*100 -> 63.284003 | AG40: =AG39/AG38*100 -> 55.569081 | AH40: =AH39/AH38*100 -> 104.35449 | AJ40: % | AK40: =AK39/AK38*100 -> 9.8922004 | AL40: =AL39/AL38*100 -> 50.177395 | AM40: =AM39/AM38*100 -> 56.221889 | AN40: =AN39/AN38*100 -> 515.90909 | AO40: =AO39/AO38*100 -> 42.857143 | AP40: =AP39/AP38*100 -> 9.9264706 | AQ40: =AQ39/AQ38*100 -> 47.489295 | AT40: /Невелин Неделчев/
A42: ВСИЧКО/І+ІІ+ІV/
A43: Показатели | B43: Площ | C43: Ст.маса | D43: Лежаща | E43: Едра | F43: Средна | G43: Дребна | H43: Дърва
B44: ха | C44: м3 | D44: маса м3 | E44: м3 | F44: м3 | G44: м3 | H44: м3
A45: Общо А+Б
A46: 1.По ГСП | B46: =K9+S9+AK9 -> 11221.13 | C46: =L9+T9+AL9 -> 644211 | D46: =M9+U9+AM9 -> 547079.5 | E46: =N9+V9+AN9 -> 97620 | F46: =O9+W9+AO9 -> 125477.5 | G46: =P9+X9+AP9 -> 36312 | H46: =Q9+Y9+AQ9 -> 287247
A47: 2.Год.план | B47: =K10+S10+AK10 -> 9878.43 | C47: =L10+T10+AL10 -> 561759 | D47: =M10+U10+AM10 -> 503611 | E47: =N10+V10+AN10 -> 103434 | F47: =O10+W10+AO10 -> 69189 | G47: =P10+X10+AP10 -> 16035 | H47: =Q10+Y10+AQ10 -> 314963
A48: %(2/1) | B48: =B47/B46*100 -> 88.034182 | C48: =C47/C46*100 -> 87.201088 | D48: =D47/D46*100 -> 92.054445 | E48: =E47/E46*100 -> 105.95575 | F48: =F47/F46*100 -> 55.140563 | G48: =G47/G46*100 -> 44.158956 | H48: =H47/H46*100 -> 109.64884
A49: А.Иглолистни
A50: 1.По ГСП | B50: =K13+S13+AK13 -> 1034.37 | C50: =L13+T13+AL13 -> 71232.5 | D50: =M13+U13+AM13 -> 52126 | E50: =N13+V13+AN13 -> 10390 | F50: =O13+W13+AO13 -> 19545.5 | G50: =P13+X13+AP13 -> 6949 | H50: =Q13+Y13+AQ13 -> 15100
A51: 2.Год.план | B51: =K14+S14+AK14 -> 988.7 | C51: =L14+T14+AL14 -> 63977 | D51: =M14+U14+AM14 -> 53552 | E51: =N14+V14+AN14 -> 15320 | F51: =O14+W14+AO14 -> 10068 | G51: =P14+X14+AP14 -> 976 | H51: =Q14+Y14+AQ14 -> 27188
A52: %(2/1) | B52: =B51/B50*100 -> 95.584752 | C52: =C51/C50*100 -> 89.81434 | D52: =D51/D50*100 -> 102.73568 | E52: =E51/E50*100 -> 147.44947 | F52: =F51/F50*100 -> 51.510578 | G52: =G51/G50*100 -> 14.045186 | H52: =H51/H50*100 -> 180.05298
A53: в т.ч. бял бор | B53: =K16+S16+AK16 -> 431.65 | C53: =L16+T16+AL16 -> 23861 | D53: =M16+U16+AM16 -> 21291 | E53: =N16+V16+AN16 -> 7880 | F53: =O16+W16+AO16 -> 5596 | G53: =P16+X16+AP16 -> 228 | H53: =Q16+Y16+AQ16 -> 7585
A54: смърч | B54: =K17+S17+AK17 -> 35.4 | C54: =L17+T17+AL17 -> 4104 | D54: =M17+U17+AM17 -> 3417 | E54: =N17+V17+AN17 -> 988 | F54: =O17+W17+AO17 -> 664 | G54: =P17+X17+AP17 -> 101 | H54: =Q17+Y17+AQ17 -> 1664
A55: ела | B55: =K18+S18+AK18 -> 14.8 | C55: =L18+T18+AL18 -> 1232 | D55: =M18+U18+AM18 -> 1054 | E55: =N18+V18+AN18 -> 717 | F55: =O18+W18+AO18 -> 142 | G55: =P18+X18+AP18 -> 28 | H55: =Q18+Y18+AQ18 -> 161
A56: Б.Широколистни
A57: 1.По ГСП | B57: =K20+S20+AK20 -> 10186.76 | C57: =L20+T20+AL20 -> 572978.5 | D57: =M20+U20+AM20 -> 494953.5 | E57: =N20+V20+AN20 -> 87230 | F57: =O20+W20+AO20 -> 105932 | G57: =P20+X20+AP20 -> 29363 | H57: =Q20+Y20+AQ20 -> 272147
A58: 2.Год.план | B58: =K21+S21+AK21 -> 8889.73 | C58: =L21+T21+AL21 -> 497782 | D58: =M21+U21+AM21 -> 450059 | E58: =N21+V21+AN21 -> 88114 | F58: =O21+W21+AO21 -> 59121 | G58: =P21+X21+AP21 -> 15059 | H58: =Q21+Y21+AQ21 -> 287775
A59: %(2/1) | B59: =B58/B57*100 -> 87.267492 | C59: =C58/C57*100 -> 86.876209 | D59: =D58/D57*100 -> 90.929552 | E59: =E58/E57*100 -> 101.01341 | F59: =F58/F57*100 -> 55.810331 | G59: =G58/G57*100 -> 51.285632 | H59: =H58/H57*100 -> 105.74248
A60: Бук по ГСП | B60: =K23+S23+AK23 -> 1664.76 | C60: =L23+T23+AL23 -> 100675 | D60: =M23+U23+AM23 -> 83355 | E60: =N23+V23+AN23 -> 21588 | F60: =O23+W23+AO23 -> 9529.5 | G60: =P23+X23+AP23 -> 3506 | H60: =Q23+Y23+AQ23 -> 48547.5
A61: Бук год.план. | B61: =K24+S24+AK24 -> 1172.88 | C61: =L24+T24+AL24 -> 59601 | D61: =M24+U24+AM24 -> 52808 | E61: =N24+V24+AN24 -> 11562 | F61: =O24+W24+AO24 -> 4160 | G61: =P24+X24+AP24 -> 693 | H61: =Q24+Y24+AQ24 -> 36393
A62: % | B62: =B61/B60*100 -> 70.453399 | C62: =C61/C60*100 -> 59.201391 | D62: =D61/D60*100 -> 63.353128 | E62: =E61/E60*100 -> 53.557532 | F62: =F61/F60*100 -> 43.653917 | G62: =G61/G60*100 -> 19.766115 | H62: =H61/H60*100 -> 74.963695
A63: Дъб по ГСП | B63: =K26+S26+AK26 -> 1031 | C63: =L26+T26+AL26 -> 41439 | D63: =M26+U26+AM26 -> 36174.5 | E63: =N26+V26+AN26 -> 3511.5 | F63: =O26+W26+AO26 -> 7411 | G63: =P26+X26+AP26 -> 1692.5 | H63: =Q26+Y26+AQ26 -> 23537.5
A64: Дъб год.план | B64: =K27+S27+AK27 -> 986.445 | C64: =L27+T27+AL27 -> 28526 | D64: =M27+U27+AM27 -> 25750 | E64: =N27+V27+AN27 -> 3358 | F64: =O27+W27+AO27 -> 3136 | G64: =P27+X27+AP27 -> 364 | H64: =Q27+Y27+AQ27 -> 18894
A65: % | B65: =B64/B63*100 -> 95.678468 | C65: =C64/C63*100 -> 68.838534 | D65: =D64/D63*100 -> 71.182739 | E65: =E64/E63*100 -> 95.628649 | F65: =F64/F63*100 -> 42.315477 | G65: =G64/G63*100 -> 21.506647 | H65: =H64/H63*100 -> 80.271907
A66: Цер по ГСП | B66: =K29+S29+AK29 -> 2875.57 | C66: =L29+T29+AL29 -> 122525 | D66: =M29+U29+AM29 -> 108517 | E66: =N29+V29+AN29 -> 9884 | F66: =O29+W29+AO29 -> 23534.5 | G66: =P29+X29+AP29 -> 5439.5 | H66: =Q29+Y29+AQ29 -> 69632
A67: Цер год.план. | B67: =K30+S30+AK30 -> 3251.52 | C67: =L30+T30+AL30 -> 131626 | D67: =M30+U30+AM30 -> 119643 | E67: =N30+V30+AN30 -> 18401 | F67: =O30+W30+AO30 -> 9509 | G67: =P30+X30+AP30 -> 2346 | H67: =Q30+Y30+AQ30 -> 89387
A68: % | B68: =B67/B66*100 -> 113.07393 | C68: =C67/C66*100 -> 107.42787 | D68: =D67/D66*100 -> 110.25277 | E68: =E67/E66*100 -> 186.16957 | F68: =F67/F66*100 -> 40.404513 | G68: =G67/G66*100 -> 43.128964 | H68: =H67/H66*100 -> 128.37058
A69: Топола по ГСП | B69: =K32+S32+AK32 -> 233.11 | C69: =L32+T32+AL32 -> 53928 | D69: =M32+U32+AM32 -> 48462.5 | E69: =N32+V32+AN32 -> 31286.5 | F69: =O32+W32+AO32 -> 8795 | G69: =P32+X32+AP32 -> 1281 | H69: =Q32+Y32+AQ32 -> 7098.5
A70: Топола год.план. | B70: =K33+S33+AK33 -> 200.08 | C70: =L33+T33+AL33 -> 55359 | D70: =M33+U33+AM33 -> 53914 | E70: =N33+V33+AN33 -> 38790 | F70: =O33+W33+AO33 -> 5769 | G70: =P33+X33+AP33 -> 1566 | H70: =Q33+Y33+AQ33 -> 7789
A71: % | B71: =B70/B69*100 -> 85.830724 | C71: =C70/C69*100 -> 102.65354 | D71: =D70/D69*100 -> 111.2489 | E71: =E70/E69*100 -> 123.98319 | F71: =F70/F69*100 -> 65.594088 | G71: =G70/G69*100 -> 122.24824 | H71: =H70/H69*100 -> 109.72741
A72: Акация по ГСП | B72: =K35+S35+AK35 -> 1696.15 | C72: =L35+T35+AL35 -> 136000.5 | D72: =M35+U35+AM35 -> 119384.5 | E72: =N35+V35+AN35 -> 5581 | F72: =O35+W35+AO35 -> 32315.5 | G72: =P35+X35+AP35 -> 10732 | H72: =Q35+Y35+AQ35 -> 70741
A73: Акация год.план. | B73: =K36+S36+AK36 -> 1263.855 | C73: =L36+T36+AL36 -> 110220 | D73: =M36+U36+AM36 -> 99463 | E73: =N36+V36+AN36 -> 3240 | F73: =O36+W36+AO36 -> 23697 | G73: =P36+X36+AP36 -> 7695 | H73: =Q36+Y36+AQ36 -> 64831
A74: % | B74: =B73/B72*100 -> 74.513162 | C74: =C73/C72*100 -> 81.04382 | D74: =D73/D72*100 -> 83.31316 | E74: =E73/E72*100 -> 58.054112 | F74: =F73/F72*100 -> 73.330136 | G74: =G73/G72*100 -> 71.701454 | H74: =H73/H72*100 -> 91.64558
A75: Др.шир.по ГСП | B75: =K38+S38+AK38 -> 2686.17 | C75: =L38+T38+AL38 -> 118411 | D75: =M38+U38+AM38 -> 99060 | E75: =N38+V38+AN38 -> 15379 | F75: =O38+W38+AO38 -> 24346.5 | G75: =P38+X38+AP38 -> 6712 | H75: =Q38+Y38+AQ38 -> 52590.5
A76: Др.шир. год.план | B76: =K39+S39+AK39 -> 2014.95 | C76: =L39+T39+AL39 -> 112450 | D76: =M39+U39+AM39 -> 98481 | E76: =N39+V39+AN39 -> 12763 | F76: =O39+W39+AO39 -> 12850 | G76: =P39+X39+AP39 -> 2395 | H76: =Q39+Y39+AQ39 -> 70481
A77: % | B77: =B76/B75*100 -> 75.012006 | C77: =C76/C75*100 -> 94.965839 | D77: =D76/D75*100 -> 99.415506 | E77: =E76/E75*100 -> 82.989791 | F77: =F76/F75*100 -> 52.77966 | G77: =G76/G75*100 -> 35.68236 | H77: =H76/H75*100 -> 134.0185
A80: Показатели | B80: Площ | C80: Ст.маса | D80: Лежаща | E80: Едра | F80: Средна | G80: Дребна | H80: Дърва
B81: ха | C81: м3 | D81: маса м3 | E81: м3 | F81: м3 | G81: м3 | H81: м3
A82: Общо А+Б
A83: 1.По ГСП | B83: =B9-B46 -> 0 | C83: =C9-C46 -> 0 | D83: =D9-D46 -> 0 | E83: =E9-E46 -> 0 | F83: =F9-F46 -> 0 | G83: =G9-G46 -> 0 | H83: =H9-H46 -> 0
A84: 2.Год.план | B84: =B10-B47 -> 0 | C84: =C10-C47 -> 0 | D84: =D10-D47 -> 10 | E84: =E10-E47 -> 0 | F84: =F10-F47 -> 0 | G84: =G10-G47 -> 0 | H84: =H10-H47 -> 0
A85: %(2/1) | B85: =B11-B48 -> 0 | C85: =C11-C48 -> 0 | D85: =D11-D48 -> 0.0018278879 | E85: =E11-E48 -> 0 | F85: =F11-F48 -> 0 | G85: =G11-G48 -> 0 | H85: =H11-H48 -> 0
A86: А.Иглолистни | B86: =B12-B49 -> 0 | C86: =C12-C49 -> 0 | D86: =D12-D49 -> 0 | E86: =E12-E49 -> 0 | F86: =F12-F49 -> 0 | G86: =G12-G49 -> 0 | H86: =H12-H49 -> 0
A87: 1.По ГСП | B87: =B13-B50 -> 0 | C87: =C13-C50 -> 0 | D87: =D13-D50 -> 0 | E87: =E13-E50 -> 0 | F87: =F13-F50 -> 0 | G87: =G13-G50 -> 0 | H87: =H13-H50 -> 0
A88: 2.Год.план | B88: =B14-B51 -> 0 | C88: =C14-C51 -> 0 | D88: =D14-D51 -> 0 | E88: =E14-E51 -> 0 | F88: =F14-F51 -> 0 | G88: =G14-G51 -> 0 | H88: =H14-H51 -> 0
A89: %(2/1) | B89: =B15-B52 -> 0 | C89: =C15-C52 -> 0 | D89: =D15-D52 -> 0 | E89: =E15-E52 -> 0 | F89: =F15-F52 -> 0 | G89: =G15-G52 -> 0 | H89: =H15-H52 -> 0
A90: в т.ч. бял бор | B90: =B16-B53 -> 0 | C90: =C16-C53 -> 0 | D90: =D16-D53 -> -2 | E90: =E16-E53 -> 0 | F90: =F16-F53 -> 0 | G90: =G16-G53 -> 0 | H90: =H16-H53 -> 0
A91: смърч | B91: =B17-B54 -> 0 | C91: =C17-C54 -> 0 | D91: =D17-D54 -> 0 | E91: =E17-E54 -> 0 | F91: =F17-F54 -> 0 | G91: =G17-G54 -> 0 | H91: =H17-H54 -> 0
A92: ела | B92: =B18-B55 -> 0 | C92: =C18-C55 -> 0 | D92: =D18-D55 -> -6 | E92: =E18-E55 -> 0 | F92: =F18-F55 -> 0 | G92: =G18-G55 -> 0 | H92: =H18-H55 -> 0
A93: Б.Широколистни | B93: =B19-B56 -> 0 | C93: =C19-C56 -> 0 | D93: =D19-D56 -> 0 | E93: =E19-E56 -> 0 | F93: =F19-F56 -> 0 | G93: =G19-G56 -> 0 | H93: =H19-H56 -> 0
A94: 1.По ГСП | B94: =B20-B57 -> 0 | C94: =C20-C57 -> 0 | D94: =D20-D57 -> 0 | E94: =E20-E57 -> 0 | F94: =F20-F57 -> 0 | G94: =G20-G57 -> 0 | H94: =H20-H57 -> 0
... A114: % | B114: =B40-B77 -> 0 | C114: =C40-C77 -> 0 | D114: =D40-D77 -> 0.0080759136 | E114: =E40-E77 -> 0 | F114: =F40-F77 -> 0 | G114: =G40-G77 -> 0 | H114: =H40-H77 -> 0

Sheet Bolqrka
A1: Одобрил:.................................... | Q1: Образец по чл. 6, ал.1 от Наредбата по чл. 95, ал. 1 от ЗГ
E2: Директор СЦДП ДП Габрово инж. Тодор Бонев
A3: ГОДИШЕН ПЛАН ЗА ПОЛЗВАНЕ НА ДЪРВЕСИНА НА ТП ДГС"Болярка"-В.Търново за 2024г.
A5: ВСИЧКО / І + ІІ + ІV / | J5: І. ОТГЛЕДНИ СЕЧИ | R5: ІІ. ВЪЗОБНОВИТЕЛНИ СЕЧИ | AA5: ІІІ. В. Т.Ч. ВЪЗОБНОВИТЕЛНИ СЕЧИ ВЪВ ВИСОКОСТЪБЛЕНИ ГОРИ | AJ5: ІV. ДРУГИ СЕЧИ
A6: Показатели | B6: Площ | C6: Ст.маса | D6: Лежаща | E6: Едра | F6: Средна | G6: Дребна | H6: Дърва | J6: Показатели | K6: Площ | L6: Ст.маса | M6: Лежаща | N6: Едра | O6: Средна | P6: Дребна | Q6: Дърва | R6: Показатели | S6: Площ | T6: Ст.маса | U6: Лежаща | V6: Едра | W6: Средна | X6: Дребна | Y6: Дърва | AA6: Показатели | AB6: Площ | AC6: Ст.маса | AD6: Лежаща | AE6: Едра | AF6: Средна | AG6: Дребна | AH6: Дърва | AJ6: Показатели | AK6: Площ | AL6: Ст.маса | AM6: Лежаща | AN6: Едра | AO6: Средна | AP6: Дребна | AQ6: Дърва
B7: ха | C7: м3 | D7: маса м3 | E7: м3 | F7: м3 | G7: м3 | H7: м3 | K7: ха | L7: м3 | M7: маса м3 | N7: м3 | O7: м3 | P7: м3 | Q7: м3 | S7: ха | T7: м3 | U7: маса м3 | V7: м3 | W7: м3 | X7: м3 | Y7: м3 | AB7: ха | AC7: м3 | AD7: маса м3 | AE7: м3 | AF7: м3 | AG7: м3 | AH7: м3 | AK7: ха | AL7: м3 | AM7: маса м3 | AN7: м3 | AO7: м3 | AP7: м3 | AQ7: м3
A8: Общо А+Б | J8: Общо А+Б | R8: Общо А+Б | AA8: Общо А+Б | AJ8: Общо А+Б
A9: 1. По ГСП | B9: =B13+B20 -> 625.5 | C9: =C13+C20 -> 28968 | D9: =D13+D20 -> 24647 | E9: =E13+E20 -> 3729 | F9: =F13+F20 -> 5359 | G9: =G13+G20 -> 1561 | H9: =H13+H20 -> 13998 | J9: 1. По ГСП | K9: =K13+K20 -> 248.6 | L9: =L13+L20 -> 9673 | M9: =M13+M20 -> 7798 | N9: =N13+N20 -> 972 | O9: =O13+O20 -> 1968 | P9: =P13+P20 -> 751 | Q9: =Q13+Q20 -> 4107 | R9: 1. По ГСП | S9: =S13+S20 -> 376.9 | T9: =T13+T20 -> 19295 | U9: =U13+U20 -> 16849 | V9: =V13+V20 -> 2757 | W9: =W13+W20 -> 3391 | X9: =X13+X20 -> 810 | Y9: =Y13+Y20 -> 9891 | AA9: 1. По ГСП | AB9: =AB13+AB20 -> 111.7 | AC9: =AC13+AC20 -> 8304 | AD9: =AD13+AD20 -> 7211 | AE9: =AE13+AE20 -> 2295 | AF9: =AF13+AF20 -> 1028 | AG9: =AG13+AG20 -> 250 | AH9: =AH13+AH20 -> 3638 | AJ9: 1. По ГСП | AK9: =AK13+AK20 -> 0 | AL9: =AL13+AL20 -> 0 | AM9: =AN9+AO9+AP9+AQ9 -> 0 | AN9: =AN13+AN20 -> 0 | AO9: =AO13+AO20 -> 0 | AP9: =AP13+AP20 -> 0 | AQ9: =AQ13+AQ20 -> 0
A10: 2. Год. план | B10: =B14+B21 -> 573.3 | C10: =C14+C21 -> 28591 | D10: =D14+D21 -> 25331 | E10: =E14+E21 -> 3239 | F10: =F14+F21 -> 2281 | G10: =G14+G21 -> 297 | H10: =H14+H21 -> 19514 | J10: 2. Год. план | K10: =K14+K21 -> 269.6 | L10: =L14+L21 -> 11017 | M10: =M14+M21 -> 9632 | N10: =N14+N21 -> 1466 | O10: =O14+O21 -> 1300 | P10: =P14+P21 -> 108 | Q10: =Q14+Q21 -> 6758 | R10: 2. Год. план | S10: =S14+S21 -> 255.8 | T10: =T14+T21 -> 13739 | U10: =U14+U21 -> 12330 | V10: =V14+V21 -> 1622 | W10: =W14+W21 -> 829 | X10: =X14+X21 -> 189 | Y10: =Y14+Y21 -> 9690 | AA10: 2. Год. план | AB10: =AB14+AB21 -> 83 | AC10: =AC14+AC21 -> 5799 | AD10: =AE10+AF10+AG10+AH10 -> 5168 | AE10: =AE14+AE21 -> 1393 | AF10: =AF14+AF21 -> 351 | AG10: =AG14+AG21 -> 109 | AH10: =AH14+AH21 -> 3315 | AJ10: 2. Год. план | AK10: =AK14+AK21 -> 47.9 | AL10: =AL14+AL21 -> 3835 | AM10: =AN10+AO10+AP10+AQ10 -> 3369 | AN10: =AN14+AN21 -> 151 | AO10: =AO14+AO21 -> 152 | AP10: =AP14+AP21 -> 0 | AQ10: =AQ14+AQ21 -> 3066
A11: % (2/1) | B11: =B10/B9*100 -> 91.654676 | C11: =C10/C9*100 -> 98.698564 | D11: =D10/D9*100 -> 102.77519 | E11: =E10/E9*100 -> 86.859748 | F11: =F10/F9*100 -> 42.563911 | G11: =G10/G9*100 -> 19.026265 | H11: =H10/H9*100 -> 139.40563 | J11: % (2/1) | K11: =K10/K9*100 -> 108.4473 | L11: =L10/L9*100 -> 113.89435 | M11: =M10/M9*100 -> 123.51885 | N11: =N10/N9*100 -> 150.82305 | O11: =O10/O9*100 -> 66.056911 | P11: =P10/P9*100 -> 14.380826 | Q11: =Q10/Q9*100 -> 164.54833 | R11: % (2/1) | S11: =S10/S9*100 -> 67.869461 | T11: =T10/T9*100 -> 71.204975 | U11: =U10/U9*100 -> 73.179417 | V11: =V10/V9*100 -> 58.832064 | W11: =W10/W9*100 -> 24.447066 | X11: =X10/X9*100 -> 23.333333 | Y11: =Y10/Y9*100 -> 97.96785 | AA11: % (2/1) | AB11: =AB10/AB9*100 -> 74.306177 | AC11: =AC10/AC9*100 -> 69.833815 | AD11: =AD10/AD9*100 -> 71.668285 | AE11: =AE10/AE9*100 -> 60.697168 | AF11: =AF10/AF9*100 -> 34.143969 | AG11: =AG10/AG9*100 -> 43.6 | AH11: =AH10/AH9*100 -> 91.121495 | AJ11: % (2/1) | AK11: =AK10/AK9*100 -> #DIV/0! | AL11: =AL10/AL9*100 -> #DIV/0! | AM11: =AM10/AM9*100 -> #DIV/0! | AN11: 0 | AO11: =AO10/AO9*100 -> #DIV/0! | AP11: =AP10/AP9*100 -> #DIV/0! | AQ11: =AQ10/AQ9*100 -> #DIV/0!
A12: А.Иглолистни | J12: А.Иглолистни | R12: А.Иглолистни | AA12: А.Иглолистни | AJ12: А.Иглолистни
A13: 1. По ГСП | B13: =K13+S13+AK13 -> 113.2 | C13: =L13+T13+AL13 -> 5472 | D13: =M13+U13+AM13 -> 4156 | E13: =N13+V13+AN13 -> 760 | F13: =O13+W13+AO13 -> 1667 | G13: =P13+X13+AP13 -> 232 | H13: =Q13+Y13+AQ13 -> 1497 | J13: 1. По ГСП | K13: 85.8 | L13: 3775 | M13: =N13+O13+P13+Q13 -> 2864 | N13: 503 | O13: 1157 | P13: 182 | Q13: 1022 | R13: 1. По ГСП | S13: 27.4 | T13: 1697 | U13: =V13+W13+X13+Y13 -> 1292 | V13: 257 | W13: 510 | X13: 50 | Y13: 475 | AA13: 1. По ГСП | AB13: 27.4 | AC13: 1681 | AD13: =AE13+AF13+AG13+AH13 -> 1280 | AE13: 254 | AF13: 505 | AG13: 50 | AH13: 471 | AJ13: 1. По ГСП | AM13: =AN13+AO13+AP13+AQ13 -> 0
A14: 2. Год. план | B14: =K14+S14+AK14 -> 211.4 | C14: =L14+T14+AL14 -> 11555 | D14: =E14+F14+G14+H14 -> 9880 | E14: =N14+V14+AN14 -> 1558 | F14: =O14+W14+AO14 -> 1313 | G14: =P14+X14+AP14 -> 78 | H14: =Q14+Y14+AQ14 -> 6931 | J14: 2. Год. план | K14: 148.9 | L14: 6550 | M14: =N14+O14+P14+Q14 -> 5576 | N14: 988 | O14: 952 | P14: 61 | Q14: 3575 | R14: 2. Год. план | S14: 17.6 | T14: 1334 | U14: =V14+W14+X14+Y14 -> 1083 | V14: 419 | W14: 209 | X14: 17 | Y14: 438 | AA14: 2. Год. план | AB14: 17.6 | AC14: 1334 | AD14: =AE14+AF14+AG14+AH14 -> 1083 | AE14: 419 | AF14: 209 | AG14: 17 | AH14: 438 | AJ14: 2. Год. план | AK14: 44.9 | AL14: 3671 | AM14: =AN14+AO14+AP14+AQ14 -> 3221 | AN14: 151 | AO14: 152 | AQ14: 2918
A15: % (2/1) | B15: =B14/B13*100 -> 186.74912 | C15: =C14/C13*100 -> 211.16594 | D15: =D14/D13*100 -> 237.72859 | E15: =E14/E13*100 -> 205 | F15: =F14/F13*100 -> 78.764247 | G15: =G14/G13*100 -> 33.62069 | H15: =H14/H13*100 -> 462.99265 | J15: % (2/1) | K15: =K14/K13*100 -> 173.54312 | L15: =L14/L13*100 -> 173.50993 | M15: =M14/M13*100 -> 194.69274 | N15: =N14/N13*100 -> 196.42147 | O15: =O14/O13*100 -> 82.281763 | P15: =P14/P13*100 -> 33.516484 | Q15: =Q14/Q13*100 -> 349.80431 | R15: % (2/1) | S15: =S14/S13*100 -> 64.233577 | T15: =T14/T13*100 -> 78.609311 | U15: =U14/U13*100 -> 83.823529 | V15: =V14/V13*100 -> 163.03502 | W15: =W14/W13*100 -> 40.980392 | X15: =X14/X13*100 -> 34 | Y15: =Y14/Y13*100 -> 92.210526 | AA15: % (2/1) | AB15: =AB14/AB13*100 -> 64.233577 | AC15: =AC14/AC13*100 -> 79.357525 | AD15: =AD14/AD13*100 -> 84.609375 | AE15: =AE14/AE13*100 -> 164.96063 | AF15: =AF14/AF13*100 -> 41.386139 | AG15: =AG14/AG13*100 -> 34 | AH15: =AH14/AH13*100 -> 92.993631 | AJ15: % (2/1) | AL15: =AL14/AL13*100 -> #DIV/0! | AM15: =AM14/AM13*100 -> #DIV/0! | AO15: =AO14/AO13*100 -> #DIV/0! | AP15: =AP14/AP13*100 -> #DIV/0! | AQ15: =AQ14/AQ13*100 -> #DIV/0!
A16: в т.ч. бял бор | B16: =K16+S16+AK16 -> 71.9 | C16: =L16+T16+AL16 -> 4022 | D16: =E16+F16+G16+H16 -> 5021 | E16: =N16+V16+AN16 -> 1296 | F16: =O16+W16+AO16 -> 2059 | G16: =P16+X16+AP16 -> 57 | H16: =Q16+Y16+AQ16 -> 1609 | J16: в т.ч. бял бор | K16: 56.7 | L16: 2604 | M16: =N16+O16+P16+Q16 -> 3859 | N16: 869 | O16: 1852 | P16: 40 | Q16: 1098 | R16: в т.ч. бял бор | S16: 12.7 | T16: 1240 | U16: =V16+W16+X16+Y16 -> 1000 | V16: 412 | W16: 192 | X16: 17 | Y16: 379 | AA16: в т.ч. бял бор | AB16: 12.7 | AC16: 1240 | AD16: =AE16+AF16+AG16+AH16 -> 1000 | AE16: 412 | AF16: 192 | AG16: 17 | AH16: 379 | AJ16: в т.ч. бял бор | AK16: 2.5 | AL16: 178 | AM16: =AN16+AO16+AP16+AQ16 -> 162 | AN16: 15 | AO16: 15 | AQ16: 132
A17: смърч | B17: =K17+S17+AK17 -> 1 | C17: =L17+T17+AL17 -> 60 | D17: =E17+F17+G17+H17 -> 59 | E17: =N17+V17+AN17 -> 10 | F17: =O17+W17+AO17 -> 22 | G17: =P17+X17+AP17 -> 4 | H17: =Q17+Y17+AQ17 -> 23 | J17: смърч | K17: 1 | L17: 60 | M17: =N17+O17+P17+Q17 -> 59 | N17: 10 | O17: 22 | P17: 4 | Q17: 23 | R17: смърч | U17: =V17+W17+X17+Y17 -> 0 | AA17: смърч | AD17: =AE17+AF17+AG17+AH17 -> 0 | AJ17: смърч | AM17: =AN17+AO17+AP17+AQ17 -> 0
A18: ела | B18: =K18+S18+AK18 -> 2 | C18: =L18+T18+AL18 -> 100 | D18: =E18+F18+G18+H18 -> 92 | E18: =N18+V18+AN18 -> 19 | F18: =O18+W18+AO18 -> 38 | G18: =P18+X18+AP18 -> 10 | H18: =Q18+Y18+AQ18 -> 25 | J18: ела | K18: 2 | L18: 100 | M18: =N18+O18+P18+Q18 -> 92 | N18: 19 | O18: 38 | P18: 10 | Q18: 25 | R18: ела | U18: =V18+W18+X18+Y18 -> 0 | AA18: ела | AD18: =AE18+AF18+AG18+AH18 -> 0 | AJ18: ела | AM18: =AN18+AO18+AP18+AQ18 -> 0
A19: Б.Широколистни | J19: Б.Широколистни | R19: Б.Широколистни | AA19: Б.Широколистни | AJ19: Б.Широколистни
