Workbook
Name aw: SCDP!$A$1:$AW$40

Sheet SCDP
Q1: Приложение 1 към Заповед РД 09-770/30.10.2015 г.
H2: ОДОБРИЛ: .............................. | Q2: Образец по чл. 6, ал.1 от Наредбата по чл. 95, ал. 1 от ЗГ
C3: /инж. Иван Недков - Директор СЦДП ДП Габрово/
A4: ГОДИШЕН ПЛАН ЗА ПОЛЗВАНЕ НА ДЪРВЕСИНА НА СЦДП ДП ГАБРОВО ЗА 2024 година
A5: ВСИЧКО / І + ІІ + ІV / | J5: І. ОТГЛЕДНИ СЕЧИ | R5: ІІ. ВЪЗОБНОВИТЕЛНИ СЕЧИ | AA5: ІІІ. В. Т.Ч. ВЪЗОБНОВИТЕЛНИ СЕЧИ ВЪВ ВИСОКОСТЪБЛЕНИ ГОРИ | AJ5: ІV. ДРУГИ СЕЧИ
A6: Показатели | B6: Площ | C6: Ст.маса | D6: Лежаща | E6: Едра | F6: Средна | G6: Дребна | H6: Дърва | J6: Показатели | K6: Площ | L6: Ст.маса | M6: Лежаща | N6: Едра | O6: Средна | P6: Дребна | Q6: Дърва | R6: Показатели | S6: Площ | T6: Ст.маса | U6: Лежаща | V6: Едра | W6: Средна | X6: Дребна | Y6: Дърва | AA6: Показатели | AB6: Площ | AC6: Ст.маса | AD6: Лежаща | AE6: Едра | AF6: Средна | AG6: Дребна | AH6: Дърва | AJ6: Показатели | AK6: Площ | AL6: Ст.маса | AM6: Лежаща | AN6: Едра | AO6: Средна | AP6: Дребна | AQ6: Дърва
B7: ха | C7: м3 | D7: маса м3 | E7: м3 | F7: м3 | G7: м3 | H7: м3 | K7: ха | L7: м3 | M7: маса м3 | N7: м3 | O7: м3 | P7: м3 | Q7: м3 | S7: ха | T7: м3 | U7: маса м3 | V7: м3 | W7: м3 | X7: м3 | Y7: м3 | AB7: ха | AC7: м3 | AD7: маса м3 | AE7: м3 | AF7: м3 | AG7: м3 | AH7: м3 | AK7: ха | AL7: м3 | AM7: маса м3 | AN7: м3 | AO7: м3 | AP7: м3 | AQ7: м3
A8: Общо А+Б | J8: Общо А+Б | R8: Общо А+Б | AA8: Общо А+Б | AJ8: Общо А+Б
A9: 1. По ГСП | B9: =Bujnovci!B9+Elena!B9+Bolqrka!B9+Gorna!B9+Svishtov!B9+Rosica!B9+Gabrovo!B9+Plachkovci!B9+Sevlievo!B9+Bqla!B9+Dunav_Ruse!B9+Silistra!B9+Tutrakan!B9+Seslav!B9+Karakuz!B9+Razgrad!B9+Voden!B9 -> 11221.13 | C9: =Bujnovci!C9+Elena!C9+Bolqrka!C9+Gorna!C9+Svishtov!C9+Rosica!C9+Gabrovo!C9+Plachkovci!C9+Sevlievo!C9+Bqla!C9+Dunav_Ruse!C9+Silistra!C9+Tutrakan!C9+Seslav!C9+Karakuz!C9+Razgrad!C9+Voden!C9 -> 644211 | D9: =Bujnovci!D9+Elena!D9+Bolqrka!D9+Gorna!D9+Svishtov!D9+Rosica!D9+Gabrovo!D9+Plachkovci!D9+Sevlievo!D9+Bqla!D9+Dunav_Ruse!D9+Silistra!D9+Tutrakan!D9+Seslav!D9+Karakuz!D9+Razgrad!D9+Voden!D9 -> 547079.5 | E9: =Bujnovci!E9+Elena!E9+Bolqrka!E9+Gorna!E9+Svishtov!E9+Rosica!E9+Gabrovo!E9+Plachkovci!E9+Sevlievo!E9+Bqla!E9+Dunav_Ruse!E9+Silistra!E9+Tutrakan!E9+Seslav!E9+Karakuz!E9+Razgrad!E9+Voden!E9 -> 97620 | F9: =Bujnovci!F9+Elena!F9+Bolqrka!F9+Gorna!F9+Svishtov!F9+Rosica!F9+Gabrovo!F9+Plachkovci!F9+Sevlievo!F9+Bqla!F9+Dunav_Ruse!F9+Silistra!F9+Tutrakan!F9+Seslav!F9+Karakuz!F9+Razgrad!F9+Voden!F9 -> 125477.5 | G9: =Bujnovci!G9+Elena!G9+Bolqrka!G9+Gorna!G9+Svishtov!G9+Rosica!G9+Gabrovo!G9+Plachkovci!G9+Sevlievo!G9+Bqla!G9+Dunav_Ruse!G9+Silistra!G9+Tutrakan!G9+Seslav!G9+Karakuz!G9+Razgrad!G9+Voden!G9 -> 36312 | H9: =Bujnovci!H9+Elena!H9+Bolqrka!H9+Gorna!H9+Svishtov!H9+Rosica!H9+Gabrovo!H9+Plachkovci!H9+Sevlievo!H9+Bqla!H9+Dunav_Ruse!H9+Silistra!H9+Tutrakan!H9+Seslav!H9+Karakuz!H9+Razgrad!H9+Voden!H9 -> 287247 | J9: 1. По ГСП | K9: =Bujnovci!K9+Elena!K9+Bolqrka!K9+Gorna!K9+Svishtov!K9+Rosica!K9+Gabrovo!K9+Plachkovci!K9+Sevlievo!K9+Bqla!K9+Dunav_Ruse!K9+Silistra!K9+Tutrakan!K9+Seslav!K9+Karakuz!K9+Razgrad!K9+Voden!K9 -> 3999.18 | L9: =Bujnovci!L9+Elena!L9+Bolqrka!L9+Gorna!L9+Svishtov!L9+Rosica!L9+Gabrovo!L9+Plachkovci!L9+Sevlievo!L9+Bqla!L9+Dunav_Ruse!L9+Silistra!L9+Tutrakan!L9+Seslav!L9+Karakuz!L9+Razgrad!L9+Voden!L9 -> 155779.5 | M9: =Bujnovci!M9+Elena!M9+Bolqrka!M9+Gorna!M9+Svishtov!M9+Rosica!M9+Gabrovo!M9+Plachkovci!M9+Sevlievo!M9+Bqla!M9+Dunav_Ruse!M9+Silistra!M9+Tutrakan!M9+Seslav!M9+Karakuz!M9+Razgrad!M9+Voden!M9 -> 124387.5 | N9: =Bujnovci!N9+Elena!N9+Bolqrka!N9+Gorna!N9+Svishtov!N9+Rosica!N9+Gabrovo!N9+Plachkovci!N9+Sevlievo!N9+Bqla!N9+Dunav_Ruse!N9+Silistra!N9+Tutrakan!N9+Seslav!N9+Karakuz!N9+Razgrad!N9+Voden!N9 -> 13636 | O9: =Bujnovci!O9+Elena!O9+Bolqrka!O9+Gorna!O9+Svishtov!O9+Rosica!O9+Gabrovo!O9+Plachkovci!O9+Sevlievo!O9+Bqla!O9+Dunav_Ruse!O9+Silistra!O9+Tutrakan!O9+Seslav!O9+Karakuz!O9+Razgrad!O9+Voden!O9 -> 36450.5 | P9: =Bujnovci!P9+Elena!P9+Bolqrka!P9+Gorna!P9+Svishtov!P9+Rosica!P9+Gabrovo!P9+Plachkovci!P9+Sevlievo!P9+Bqla!P9+Dunav_Ruse!P9+Silistra!P9+Tutrakan!P9+Seslav!P9+Karakuz!P9+Razgrad!P9+Voden!P9 -> 11639.5 | Q9: =Bujnovci!Q9+Elena!Q9+Bolqrka!Q9+Gorna!Q9+Svishtov!Q9+Rosica!Q9+Gabrovo!Q9+Plachkovci!Q9+Sevlievo!Q9+Bqla!Q9+Dunav_Ruse!Q9+Silistra!Q9+Tutrakan!Q9+Seslav!Q9+Karakuz!Q9+Razgrad!Q9+Voden!Q9 -> 62367.5 | R9: 1. По ГСП | S9: =Bujnovci!S9+Elena!S9+Bolqrka!S9+Gorna!S9+Svishtov!S9+Rosica!S9+Gabrovo!S9+Plachkovci!S9+Sevlievo!S9+Bqla!S9+Dunav_Ruse!S9+Silistra!S9+Tutrakan!S9+Seslav!S9+Karakuz!S9+Razgrad!S9+Voden!S9 -> 6808.15 | T9: =Bujnovci!T9+Elena!T9+Bolqrka!T9+Gorna!T9+Svishtov!T9+Rosica!T9+Gabrovo!T9+Plachkovci!T9+Sevlievo!T9+Bqla!T9+Dunav_Ruse!T9+Silistra!T9+Tutrakan!T9+Seslav!T9+Karakuz!T9+Razgrad!T9+Voden!T9 -> 461496.5 | U9: =Bujnovci!U9+Elena!U9+Bolqrka!U9+Gorna!U9+Svishtov!U9+Rosica!U9+Gabrovo!U9+Plachkovci!U9+Sevlievo!U9+Bqla!U9+Dunav_Ruse!U9+Silistra!U9+Tutrakan!U9+Seslav!U9+Karakuz!U9+Razgrad!U9+Voden!U9 -> 402863 | V9: =Bujnovci!V9+Elena!V9+Bolqrka!V9+Gorna!V9+Svishtov!V9+Rosica!V9+Gabrovo!V9+Plachkovci!V9+Sevlievo!V9+Bqla!V9+Dunav_Ruse!V9+Silistra!V9+Tutrakan!V9+Seslav!V9+Karakuz!V9+Razgrad!V9+Voden!V9 -> 82795 | W9: =Bujnovci!W9+Elena!W9+Bolqrka!W9+Gorna!W9+Svishtov!W9+Rosica!W9+Gabrovo!W9+Plachkovci!W9+Sevlievo!W9+Bqla!W9+Dunav_Ruse!W9+Silistra!W9+Tutrakan!W9+Seslav!W9+Karakuz!W9+Razgrad!W9+Voden!W9 -> 85287 | X9: =Bujnovci!X9+Elena!X9+Bolqrka!X9+Gorna!X9+Svishtov!X9+Rosica!X9+Gabrovo!X9+Plachkovci!X9+Sevlievo!X9+Bqla!X9+Dunav_Ruse!X9+Silistra!X9+Tutrakan!X9+Seslav!X9+Karakuz!X9+Razgrad!X9+Voden!X9 -> 22278.5 | Y9: =Bujnovci!Y9+Elena!Y9+Bolqrka!Y9+Gorna!Y9+Svishtov!Y9+Rosica!Y9+Gabrovo!Y9+Plachkovci!Y9+Sevlievo!Y9+Bqla!Y9+Dunav_Ruse!Y9+Silistra!Y9+Tutrakan!Y9+Seslav!Y9+Karakuz!Y9+Razgrad!Y9+Voden!Y9 -> 212373.5 | AA9: 1. По ГСП | AB9: =Bujnovci!AB9+Elena!AB9+Bolqrka!AB9+Gorna!AB9+Svishtov!AB9+Rosica!AB9+Gabrovo!AB9+Plachkovci!AB9+Sevlievo!AB9+Bqla!AB9+Dunav_Ruse!AB9+Silistra!AB9+Tutrakan!AB9+Seslav!AB9+Karakuz!AB9+Razgrad!AB9+Voden!AB9 -> 1920.68 | AC9: =Bujnovci!AC9+Elena!AC9+Bolqrka!AC9+Gorna!AC9+Svishtov!AC9+Rosica!AC9+Gabrovo!AC9+Plachkovci!AC9+Sevlievo!AC9+Bqla!AC9+Dunav_Ruse!AC9+Silistra!AC9+Tutrakan!AC9+Seslav!AC9+Karakuz!AC9+Razgrad!AC9+Voden!AC9 -> 174235 | AD9: =Bujnovci!AD9+Elena!AD9+Bolqrka!AD9+Gorna!AD9+Svishtov!AD9+Rosica!AD9+Gabrovo!AD9+Plachkovci!AD9+Sevlievo!AD9+Bqla!AD9+Dunav_Ruse!AD9+Silistra!AD9+Tutrakan!AD9+Seslav!AD9+Karakuz!AD9+Razgrad!AD9+Voden!AD9 -> 152322 | AE9: =Bujnovci!AE9+Elena!AE9+Bolqrka!AE9+Gorna!AE9+Svishtov!AE9+Rosica!AE9+Gabrovo!AE9+Plachkovci!AE9+Sevlievo!AE9+Bqla!AE9+Dunav_Ruse!AE9+Silistra!AE9+Tutrakan!AE9+Seslav!AE9+Karakuz!AE9+Razgrad!AE9+Voden!AE9 -> 66206 | AF9: =Bujnovci!AF9+Elena!AF9+Bolqrka!AF9+Gorna!AF9+Svishtov!AF9+Rosica!AF9+Gabrovo!AF9+Plachkovci!AF9+Sevlievo!AF9+Bqla!AF9+Dunav_Ruse!AF9+Silistra!AF9+Tutrakan!AF9+Seslav!AF9+Karakuz!AF9+Razgrad!AF9+Voden!AF9 -> 24386.5 | AG9: =Bujnovci!AG9+Elena!AG9+Bolqrka!AG9+Gorna!AG9+Svishtov!AG9+Rosica!AG9+Gabrovo!AG9+Plachkovci!AG9+Sevlievo!AG9+Bqla!AG9+Dunav_Ruse!AG9+Silistra!AG9+Tutrakan!AG9+Seslav!AG9+Karakuz!AG9+Razgrad!AG9+Voden!AG9 -> 5138 | AH9: =Bujnovci!AH9+Elena!AH9+Bolqrka!AH9+Gorna!AH9+Svishtov!AH9+Rosica!AH9+Gabrovo!AH9+Plachkovci!AH9+Sevlievo!AH9+Bqla!AH9+Dunav_Ruse!AH9+Silistra!AH9+Tutrakan!AH9+Seslav!AH9+Karakuz!AH9+Razgrad!AH9+Voden!AH9 -> 56537.5 | AJ9: 1. По ГСП | AK9: =Bujnovci!AK9+Elena!AK9+Bolqrka!AK9+Gorna!AK9+Svishtov!AK9+Rosica!AK9+Gabrovo!AK9+Plachkovci!AK9+Sevlievo!AK9+Bqla!AK9+Dunav_Ruse!AK9+Silistra!AK9+Tutrakan!AK9+Seslav!AK9+Karakuz!AK9+Razgrad!AK9+Voden!AK9 -> 413.8 | AL9: =Bujnovci!AL9+Elena!AL9+Bolqrka!AL9+Gorna!AL9+Svishtov!AL9+Rosica!AL9+Gabrovo!AL9+Plachkovci!AL9+Sevlievo!AL9+Bqla!AL9+Dunav_Ruse!AL9+Silistra!AL9+Tutrakan!AL9+Seslav!AL9+Karakuz!AL9+Razgrad!AL9+Voden!AL9 -> 26935 | AM9: =Bujnovci!AM9+Elena!AM9+Bolqrka!AM9+Gorna!AM9+Svishtov!AM9+Rosica!AM9+Gabrovo!AM9+Plachkovci!AM9+Sevlievo!AM9+Bqla!AM9+Dunav_Ruse!AM9+Silistra!AM9+Tutrakan!AM9+Seslav!AM9+Karakuz!AM9+Razgrad!AM9+Voden!AM9 -> 19829 | AN9: =Bujnovci!AN9+Elena!AN9+Bolqrka!AN9+Gorna!AN9+Svishtov!AN9+Rosica!AN9+Gabrovo!AN9+Plachkovci!AN9+Sevlievo!AN9+Bqla!AN9+Dunav_Ruse!AN9+Silistra!AN9+Tutrakan!AN9+Seslav!AN9+Karakuz!AN9+Razgrad!AN9+Voden!AN9 -> 1189 | AO9: =Bujnovci!AO9+Elena!AO9+Bolqrka!AO9+Gorna!AO9+Svishtov!AO9+Rosica!AO9+Gabrovo!AO9+Plachkovci!AO9+Sevlievo!AO9+Bqla!AO9+Dunav_Ruse!AO9+Silistra!AO9+Tutrakan!AO9+Seslav!AO9+Karakuz!AO9+Razgrad!AO9+Voden!AO9 -> 3740 | AP9: =Bujnovci!AP9+Elena!AP9+Bolqrka!AP9+Gorna!AP9+Svishtov!AP9+Rosica!AP9+Gabrovo!AP9+Plachkovci!AP9+Sevlievo!AP9+Bqla!AP9+Dunav_Ruse!AP9+Silistra!AP9+Tutrakan!AP9+Seslav!AP9+Karakuz!AP9+Razgrad!AP9+Voden!AP9 -> 2394 | AQ9: =Bujnovci!AQ9+Elena!AQ9+Bolqrka!AQ9+Gorna!AQ9+Svishtov!AQ9+Rosica!AQ9+Gabrovo!AQ9+Plachkovci!AQ9+Sevlievo!AQ9+Bqla!AQ9+Dunav_Ruse!AQ9+Silistra!AQ9+Tutrakan!AQ9+Seslav!AQ9+Karakuz!AQ9+Razgrad!AQ9+Voden!AQ9 -> 12506
A10: 2. Год. план | B10: =Bujnovci!B10+Elena!B10+Bolqrka!B10+Gorna!B10+Svishtov!B10+Rosica!B10+Gabrovo!B10+Plachkovci!B10+Sevlievo!B10+Bqla!B10+Dunav_Ruse!B10+Silistra!B10+Tutrakan!B10+Seslav!B10+Karakuz!B10+Razgrad!B10+Voden!B10 -> 9878.43 | C10: =Bujnovci!C10+Elena!C10+Bolqrka!C10+Gorna!C10+Svishtov!C10+Rosica!C10+Gabrovo!C10+Plachkovci!C10+Sevlievo!C10+Bqla!C10+Dunav_Ruse!C10+Silistra!C10+Tutrakan!C10+Seslav!C10+Karakuz!C10+Razgrad!C10+Voden!C10 -> 561759 | D10: =Bujnovci!D10+Elena!D10+Bolqrka!D10+Gorna!D10+Svishtov!D10+Rosica!D10+Gabrovo!D10+Plachkovci!D10+Sevlievo!D10+Bqla!D10+Dunav_Ruse!D10+Silistra!D10+Tutrakan!D10+Seslav!D10+Karakuz!D10+Razgrad!D10+Voden!D10 -> 503621 | E10: =Bujnovci!E10+Elena!E10+Bolqrka!E10+Gorna!E10+Svishtov!E10+Rosica!E10+Gabrovo!E10+Plachkovci!E10+Sevlievo!E10+Bqla!E10+Dunav_Ruse!E10+Silistra!E10+Tutrakan!E10+Seslav!E10+Karakuz!E10+Razgrad!E10+Voden!E10 -> 103434 | F10: =Bujnovci!F10+Elena!F10+Bolqrka!F10+Gorna!F10+Svishtov!F10+Rosica!F10+Gabrovo!F10+Plachkovci!F10+Sevlievo!F10+Bqla!F10+Dunav_Ruse!F10+Silistra!F10+Tutrakan!F10+Seslav!F10+Karakuz!F10+Razgrad!F10+Voden!F10 -> 69189 | G10: =Bujnovci!G10+Elena!G10+Bolqrka!G10+Gorna!G10+Svishtov!G10+Rosica!G10+Gabrovo!G10+Plachkovci!G10+Sevlievo!G10+Bqla!G10+Dunav_Ruse!G10+Silistra!G10+Tutrakan!G10+Seslav!G10+Karakuz!G10+Razgrad!G10+Voden!G10 -> 16035 | H10: =Bujnovci!H10+Elena!H10+Bolqrka!H10+Gorna!H10+Svishtov!H10+Rosica!H10+Gabrovo!H10+Plachkovci!H10+Sevlievo!H10+Bqla!H10+Dunav_Ruse!H10+Silistra!H10+Tutrakan!H10+Seslav!H10+Karakuz!H10+Razgrad!H10+Voden!H10 -> 314963 | J10: 2. Год. план | K10: =Bujnovci!K10+Elena!K10+Bolqrka!K10+Gorna!K10+Svishtov!K10+Rosica!K10+Gabrovo!K10+Plachkovci!K10+Sevlievo!K10+Bqla!K10+Dunav_Ruse!K10+Silistra!K10+Tutrakan!K10+Seslav!K10+Karakuz!K10+Razgrad!K10+Voden!K10 -> 3368.2 | L10: =Bujnovci!L10+Elena!L10+Bolqrka!L10+Gorna!L10+Svishtov!L10+Rosica!L10+Gabrovo!L10+Plachkovci!L10+Sevlievo!L10+Bqla!L10+Dunav_Ruse!L10+Silistra!L10+Tutrakan!L10+Seslav!L10+Karakuz!L10+Razgrad!L10+Voden!L10 -> 145917 | M10: =Bujnovci!M10+Elena!M10+Bolqrka!M10+Gorna!M10+Svishtov!M10+Rosica!M10+Gabrovo!M10+Plachkovci!M10+Sevlievo!M10+Bqla!M10+Dunav_Ruse!M10+Silistra!M10+Tutrakan!M10+Seslav!M10+Karakuz!M10+Razgrad!M10+Voden!M10 -> 128414 | N10: =Bujnovci!N10+Elena!N10+Bolqrka!N10+Gorna!N10+Svishtov!N10+Rosica!N10+Gabrovo!N10+Plachkovci!N10+Sevlievo!N10+Bqla!N10+Dunav_Ruse!N10+Silistra!N10+Tutrakan!N10+Seslav!N10+Karakuz!N10+Razgrad!N10+Voden!N10 -> 19368 | O10: =Bujnovci!O10+Elena!O10+Bolqrka!O10+Gorna!O10+Svishtov!O10+Rosica!O10+Gabrovo!O10+Plachkovci!O10+Sevlievo!O10+Bqla!O10+Dunav_Ruse!O10+Silistra!O10+Tutrakan!O10+Seslav!O10+Karakuz!O10+Razgrad!O10+Voden!O10 -> 19329 | P10: =Bujnovci!P10+Elena!P10+Bolqrka!P10+Gorna!P10+Svishtov!P10+Rosica!P10+Gabrovo!P10+Plachkovci!P10+Sevlievo!P10+Bqla!P10+Dunav_Ruse!P10+Silistra!P10+Tutrakan!P10+Seslav!P10+Karakuz!P10+Razgrad!P10+Voden!P10 -> 2908 | Q10: =Bujnovci!Q10+Elena!Q10+Bolqrka!Q10+Gorna!Q10+Svishtov!Q10+Rosica!Q10+Gabrovo!Q10+Plachkovci!Q10+Sevlievo!Q10+Bqla!Q10+Dunav_Ruse!Q10+Silistra!Q10+Tutrakan!Q10+Seslav!Q10+Karakuz!Q10+Razgrad!Q10+Voden!Q10 -> 86809 | R10: 2. Год. план | S10: =Bujnovci!S10+Elena!S10+Bolqrka!S10+Gorna!S10+Svishtov!S10+Rosica!S10+Gabrovo!S10+Plachkovci!S10+Sevlievo!S10+Bqla!S10+Dunav_Ruse!S10+Silistra!S10+Tutrakan!S10+Seslav!S10+Karakuz!S10+Razgrad!S10+Voden!S10 -> 6392.35 | T10: =Bujnovci!T10+Elena!T10+Bolqrka!T10+Gorna!T10+Svishtov!T10+Rosica!T10+Gabrovo!T10+Plachkovci!T10+Sevlievo!T10+Bqla!T10+Dunav_Ruse!T10+Silistra!T10+Tutrakan!T10+Seslav!T10+Karakuz!T10+Razgrad!T10+Voden!T10 -> 407680 | U10: =Bujnovci!U10+Elena!U10+Bolqrka!U10+Gorna!U10+Svishtov!U10+Rosica!U10+Gabrovo!U10+Plachkovci!U10+Sevlievo!U10+Bqla!U10+Dunav_Ruse!U10+Silistra!U10+Tutrakan!U10+Seslav!U10+Karakuz!U10+Razgrad!U10+Voden!U10 -> 367927 | V10: =Bujnovci!V10+Elena!V10+Bolqrka!V10+Gorna!V10+Svishtov!V10+Rosica!V10+Gabrovo!V10+Plachkovci!V10+Sevlievo!V10+Bqla!V10+Dunav_Ruse!V10+Silistra!V10+Tutrakan!V10+Seslav!V10+Karakuz!V10+Razgrad!V10+Voden!V10 -> 83153 | W10: =Bujnovci!W10+Elena!W10+Bolqrka!W10+Gorna!W10+Svishtov!W10+Rosica!W10+Gabrovo!W10+Plachkovci!W10+Sevlievo!W10+Bqla!W10+Dunav_Ruse!W10+Silistra!W10+Tutrakan!W10+Seslav!W10+Karakuz!W10+Razgrad!W10+Voden!W10 -> 49392 | X10: =Bujnovci!X10+Elena!X10+Bolqrka!X10+Gorna!X10+Svishtov!X10+Rosica!X10+Gabrovo!X10+Plachkovci!X10+Sevlievo!X10+Bqla!X10+Dunav_Ruse!X10+Silistra!X10+Tutrakan!X10+Seslav!X10+Karakuz!X10+Razgrad!X10+Voden!X10 -> 13083 | Y10: =Bujnovci!Y10+Elena!Y10+Bolqrka!Y10+Gorna!Y10+Svishtov!Y10+Rosica!Y10+Gabrovo!Y10+Plachkovci!Y10+Sevlievo!Y10+Bqla!Y10+Dunav_Ruse!Y10+Silistra!Y10+Tutrakan!Y10+Seslav!Y10+Karakuz!Y10+Razgrad!Y10+Voden!Y10 -> 222309 | AA10: 2. Год. план | AB10: =Bujnovci!AB10+Elena!AB10+Bolqrka!AB10+Gorna!AB10+Svishtov!AB10+Rosica!AB10+Gabrovo!AB10+Plachkovci!AB10+Sevlievo!AB10+Bqla!AB10+Dunav_Ruse!AB10+Silistra!AB10+Tutrakan!AB10+Seslav!AB10+Karakuz!AB10+Razgrad!AB10+Voden!AB10 -> 1333.4 | AC10: =Bujnovci!AC10+Elena!AC10+Bolqrka!AC10+Gorna!AC10+Svishtov!AC10+Rosica!AC10+Gabrovo!AC10+Plachkovci!AC10+Sevlievo!AC10+Bqla!AC10+Dunav_Ruse!AC10+Silistra!AC10+Tutrakan!AC10+Seslav!AC10+Karakuz!AC10+Razgrad!AC10+Voden!AC10 -> 137263 | AD10: =Bujnovci!AD10+Elena!AD10+Bolqrka!AD10+Gorna!AD10+Svishtov!AD10+Rosica!AD10+Gabrovo!AD10+Plachkovci!AD10+Sevlievo!AD10+Bqla!AD10+Dunav_Ruse!AD10+Silistra!AD10+Tutrakan!AD10+Seslav!AD10+Karakuz!AD10+Razgrad!AD10+Voden!AD10 -> 124262 | AE10: =Bujnovci!AE10+Elena!AE10+Bolqrka!AE10+Gorna!AE10+Svishtov!AE10+Rosica!AE10+Gabrovo!AE10+Plachkovci!AE10+Sevlievo!AE10+Bqla!AE10+Dunav_Ruse!AE10+Silistra!AE10+Tutrakan!AE10+Seslav!AE10+Karakuz!AE10+Razgrad!AE10+Voden!AE10 -> 57652 | AF10: =Bujnovci!AF10+Elena!AF10+Bolqrka!AF10+Gorna!AF10+Svishtov!AF10+Rosica!AF10+Gabrovo!AF10+Plachkovci!AF10+Sevlievo!AF10+Bqla!AF10+Dunav_Ruse!AF10+Silistra!AF10+Tutrakan!AF10+Seslav!AF10+Karakuz!AF10+Razgrad!AF10+Voden!AF10 -> 14517 | AG10: =Bujnovci!AG10+Elena!AG10+Bolqrka!AG10+Gorna!AG10+Svishtov!AG10+Rosica!AG10+Gabrovo!AG10+Plachkovci!AG10+Sevlievo!AG10+Bqla!AG10+Dunav_Ruse!AG10+Silistra!AG10+Tutrakan!AG10+Seslav!AG10+Karakuz!AG10+Razgrad!AG10+Voden!AG10 -> 3248 | AH10: =Bujnovci!AH10+Elena!AH10+Bolqrka!AH10+Gorna!AH10+Svishtov!AH10+Rosica!AH10+Gabrovo!AH10+Plachkovci!AH10+Sevlievo!AH10+Bqla!AH10+Dunav_Ruse!AH10+Silistra!AH10+Tutrakan!AH10+Seslav!AH10+Karakuz!AH10+Razgrad!AH10+Voden!AH10 -> 48845 | AJ10: 2. Год. план | AK10: =Bujnovci!AK10+Elena!AK10+Bolqrka!AK10+Gorna!AK10+Svishtov!AK10+Rosica!AK10+Gabrovo!AK10+Plachkovci!AK10+Sevlievo!AK10+Bqla!AK10+Dunav_Ruse!AK10+Silistra!AK10+Tutrakan!AK10+Seslav!AK10+Karakuz!AK10+Razgrad!AK10+Voden!AK10 -> 117.88 | AL10: =Bujnovci!AL10+Elena!AL10+Bolqrka!AL10+Gorna!AL10+Svishtov!AL10+Rosica!AL10+Gabrovo!AL10+Plachkovci!AL10+Sevlievo!AL10+Bqla!AL10+Dunav_Ruse!AL10+Silistra!AL10+Tutrakan!AL10+Seslav!AL10+Karakuz!AL10+Razgrad!AL10+Voden!AL10 -> 8162 | AM10: =Bujnovci!AM10+Elena!AM10+Bolqrka!AM10+Gorna!AM10+Svishtov!AM10+Rosica!AM10+Gabrovo!AM10+Plachkovci!AM10+Sevlievo!AM10+Bqla!AM10+Dunav_Ruse!AM10+Silistra!AM10+Tutrakan!AM10+Seslav!AM10+Karakuz!AM10+Razgrad!AM10+Voden!AM10 -> 7270 | AN10: =Bujnovci!AN10+Elena!AN10+Bolqrka!AN10+Gorna!AN10+Svishtov!AN10+Rosica!AN10+Gabrovo!AN10+Plachkovci!AN10+Sevlievo!AN10+Bqla!AN10+Dunav_Ruse!AN10+Silistra!AN10+Tutrakan!AN10+Seslav!AN10+Karakuz!AN10+Razgrad!AN10+Voden!AN10 -> 913 | AO10: =Bujnovci!AO10+Elena!AO10+Bolqrka!AO10+Gorna!AO10+Svishtov!AO10+Rosica!AO10+Gabrovo!AO10+Plachkovci!AO10+Sevlievo!AO10+Bqla!AO10+Dunav_Ruse!AO10+Silistra!AO10+Tutrakan!AO10+Seslav!AO10+Karakuz!AO10+Razgrad!AO10+Voden!AO10 -> 468 | AP10: =Bujnovci!AP10+Elena!AP10+Bolqrka!AP10+Gorna!AP10+Svishtov!AP10+Rosica!AP10+Gabrovo!AP10+Plachkovci!AP10+Sevlievo!AP10+Bqla!AP10+Dunav_Ruse!AP10+Silistra!AP10+Tutrakan!AP10+Seslav!AP10+Karakuz!AP10+Razgrad!AP10+Voden!AP10 -> 44 | AQ10: =Bujnovci!AQ10+Elena!AQ10+Bolqrka!AQ10+Gorna!AQ10+Svishtov!AQ10+Rosica!AQ10+Gabrovo!AQ10+Plachkovci!AQ10+Sevlievo!AQ10+Bqla!AQ10+Dunav_Ruse!AQ10+Silistra!AQ10+Tutrakan!AQ10+Seslav!AQ10+Karakuz!AQ10+Razgrad!AQ10+Voden!AQ10 -> 5845
A11: % (2/1) | B11: =B10/B9*100 -> 88.034182 | C11: =C10/C9*100 -> 87.201088 | D11: =D10/D9*100 -> 92.056273 | E11: =E10/E9*100 -> 105.95575 | F11: =F10/F9*100 -> 55.140563 | G11: =G10/G9*100 -> 44.158956 | H11: =H10/H9*100 -> 109.64884 | J11: % (2/1) | K11: =K10/K9*100 -> 84.222266 | L11: =L10/L9*100 -> 93.668936 | M11: =M10/M9*100 -> 103.23706 | N11: =N10/N9*100 -> 142.03579 | O11: =O10/O9*100 -> 53.028079 | P11: =P10/P9*100 -> 24.983891 | Q11: =Q10/Q9*100 -> 139.18948 | R11: % (2/1) | S11: =S10/S9*100 -> 93.892614 | T11: =T10/T9*100 -> 88.338698 | U11: =U10/U9*100 -> 91.328069 | V11: =V10/V9*100 -> 100.43239 | W11: =W10/W9*100 -> 57.912695 | X11: =X10/X9*100 -> 58.724779 | Y11: =Y10/Y9*100 -> 104.67831 | AA11: % (2/1) | AB11: =AB10/AB9*100 -> 69.423329 | AC11: =AC10/AC9*100 -> 78.780383 | AD11: =AD10/AD9*100 -> 81.578498 | AE11: =AE10/AE9*100 -> 87.079721 | AF11: =AF10/AF9*100 -> 59.528838 | AG11: =AG10/AG9*100 -> 63.215259 | AH11: =AH10/AH9*100 -> 86.393986 | AJ11: % (2/1) | AK11: =AK10/AK9*100 -> 28.487192 | AL11: =AL10/AL9*100 -> 30.30258 | AM11: =AM10/AM9*100 -> 36.663473 | AN11: =AN10/AN9*100 -> 76.787216 | AO11: =AO10/AO9*100 -> 12.513369 | AP11: =AP10/AP9*100 -> 1.8379282 | AQ11: =AQ10/AQ9*100 -> 46.737566
A12: А.Иглолистни | J12: А.Иглолистни | R12: А.Иглолистни | AA12: А.Иглолистни | AJ12: А.Иглолистни
A13: 1. По ГСП | B13: =Bujnovci!B13+Elena!B13+Bolqrka!B13+Gorna!B13+Svishtov!B13+Rosica!B13+Gabrovo!B13+Plachkovci!B13+Sevlievo!B13+Bqla!B13+Dunav_Ruse!B13+Silistra!B13+Tutrakan!B13+Seslav!B13+Karakuz!B13+Razgrad!B13+Voden!B13 -> 1034.37 | C13: =Bujnovci!C13+Elena!C13+Bolqrka!C13+Gorna!C13+Svishtov!C13+Rosica!C13+Gabrovo!C13+Plachkovci!C13+Sevlievo!C13+Bqla!C13+Dunav_Ruse!C13+Silistra!C13+Tutrakan!C13+Seslav!C13+Karakuz!C13+Razgrad!C13+Voden!C13 -> 71232.5 | D13: =Bujnovci!D13+Elena!D13+Bolqrka!D13+Gorna!D13+Svishtov!D13+Rosica!D13+Gabrovo!D13+Plachkovci!D13+Sevlievo!D13+Bqla!D13+Dunav_Ruse!D13+Silistra!D13+Tutrakan!D13+Seslav!D13+Karakuz!D13+Razgrad!D13+Voden!D13 -> 52126 | E13: =Bujnovci!E13+Elena!E13+Bolqrka!E13+Gorna!E13+Svishtov!E13+Rosica!E13+Gabrovo!E13+Plachkovci!E13+Sevlievo!E13+Bqla!E13+Dunav_Ruse!E13+Silistra!E13+Tutrakan!E13+Seslav!E13+Karakuz!E13+Razgrad!E13+Voden!E13 -> 10390 | F13: =Bujnovci!F13+Elena!F13+Bolqrka!F13+Gorna!F13+Svishtov!F13+Rosica!F13+Gabrovo!F13+Plachkovci!F13+Sevlievo!F13+Bqla!F13+Dunav_Ruse!F13+Silistra!F13+Tutrakan!F13+Seslav!F13+Karakuz!F13+Razgrad!F13+Voden!F13 -> 19545.5 | G13: =Bujnovci!G13+Elena!G13+Bolqrka!G13+Gorna!G13+Svishtov!G13+Rosica!G13+Gabrovo!G13+Plachkovci!G13+Sevlievo!G13+Bqla!G13+Dunav_Ruse!G13+Silistra!G13+Tutrakan!G13+Seslav!G13+Karakuz!G13+Razgrad!G13+Voden!G13 -> 6949 | H13: =Bujnovci!H13+Elena!H13+Bolqrka!H13+Gorna!H13+Svishtov!H13+Rosica!H13+Gabrovo!H13+Plachkovci!H13+Sevlievo!H13+Bqla!H13+Dunav_Ruse!H13+Silistra!H13+Tutrakan!H13+Seslav!H13+Karakuz!H13+Razgrad!H13+Voden!H13 -> 15100 | J13: 1. По ГСП | K13: =Bujnovci!K13+Elena!K13+Bolqrka!K13+Gorna!K13+Svishtov!K13+Rosica!K13+Gabrovo!K13+Plachkovci!K13+Sevlievo!K13+Bqla!K13+Dunav_Ruse!K13+Silistra!K13+Tutrakan!K13+Seslav!K13+Karakuz!K13+Razgrad!K13+Voden!K13 -> 709.94 | L13: =Bujnovci!L13+Elena!L13+Bolqrka!L13+Gorna!L13+Svishtov!L13+Rosica!L13+Gabrovo!L13+Plachkovci!L13+Sevlievo!L13+Bqla!L13+Dunav_Ruse!L13+Silistra!L13+Tutrakan!L13+Seslav!L13+Karakuz!L13+Razgrad!L13+Voden!L13 -> 42418 | M13: =Bujnovci!M13+Elena!M13+Bolqrka!M13+Gorna!M13+Svishtov!M13+Rosica!M13+Gabrovo!M13+Plachkovci!M13+Sevlievo!M13+Bqla!M13+Dunav_Ruse!M13+Silistra!M13+Tutrakan!M13+Seslav!M13+Karakuz!M13+Razgrad!M13+Voden!M13 -> 31140 | N13: =Bujnovci!N13+Elena!N13+Bolqrka!N13+Gorna!N13+Svishtov!N13+Rosica!N13+Gabrovo!N13+Plachkovci!N13+Sevlievo!N13+Bqla!N13+Dunav_Ruse!N13+Silistra!N13+Tutrakan!N13+Seslav!N13+Karakuz!N13+Razgrad!N13+Voden!N13 -> 5719.5 | O13: =Bujnovci!O13+Elena!O13+Bolqrka!O13+Gorna!O13+Svishtov!O13+Rosica!O13+Gabrovo!O13+Plachkovci!O13+Sevlievo!O13+Bqla!O13+Dunav_Ruse!O13+Silistra!O13+Tutrakan!O13+Seslav!O13+Karakuz!O13+Razgrad!O13+Voden!O13 -> 13737.5 | P13: =Bujnovci!P13+Elena!P13+Bolqrka!P13+Gorna!P13+Svishtov!P13+Rosica!P13+Gabrovo!P13+Plachkovci!P13+Sevlievo!P13+Bqla!P13+Dunav_Ruse!P13+Silistra!P13+Tutrakan!P13+Seslav!P13+Karakuz!P13+Razgrad!P13+Voden!P13 -> 4457 | Q13: =Bujnovci!Q13+Elena!Q13+Bolqrka!Q13+Gorna!Q13+Svishtov!Q13+Rosica!Q13+Gabrovo!Q13+Plachkovci!Q13+Sevlievo!Q13+Bqla!Q13+Dunav_Ruse!Q13+Silistra!Q13+Tutrakan!Q13+Seslav!Q13+Karakuz!Q13+Razgrad!Q13+Voden!Q13 -> 7097.5 | R13: 1. По ГСП | S13: =Bujnovci!S13+Elena!S13+Bolqrka!S13+Gorna!S13+Svishtov!S13+Rosica!S13+Gabrovo!S13+Plachkovci!S13+Sevlievo!S13+Bqla!S13+Dunav_Ruse!S13+Silistra!S13+Tutrakan!S13+Seslav!S13+Karakuz!S13+Razgrad!S13+Voden!S13 -> 176.73 | T13: =Bujnovci!T13+Elena!T13+Bolqrka!T13+Gorna!T13+Svishtov!T13+Rosica!T13+Gabrovo!T13+Plachkovci!T13+Sevlievo!T13+Bqla!T13+Dunav_Ruse!T13+Silistra!T13+Tutrakan!T13+Seslav!T13+Karakuz!T13+Razgrad!T13+Voden!T13 -> 13824.5 | U13: =Bujnovci!U13+Elena!U13+Bolqrka!U13+Gorna!U13+Svishtov!U13+Rosica!U13+Gabrovo!U13+Plachkovci!U13+Sevlievo!U13+Bqla!U13+Dunav_Ruse!U13+Silistra!U13+Tutrakan!U13+Seslav!U13+Karakuz!U13+Razgrad!U13+Voden!U13 -> 10967 | V13: =Bujnovci!V13+Elena!V13+Bolqrka!V13+Gorna!V13+Svishtov!V13+Rosica!V13+Gabrovo!V13+Plachkovci!V13+Sevlievo!V13+Bqla!V13+Dunav_Ruse!V13+Silistra!V13+Tutrakan!V13+Seslav!V13+Karakuz!V13+Razgrad!V13+Voden!V13 -> 3961.5 | W13: =Bujnovci!W13+Elena!W13+Bolqrka!W13+Gorna!W13+Svishtov!W13+Rosica!W13+Gabrovo!W13+Plachkovci!W13+Sevlievo!W13+Bqla!W13+Dunav_Ruse!W13+Silistra!W13+Tutrakan!W13+Seslav!W13+Karakuz!W13+Razgrad!W13+Voden!W13 -> 3009 | X13: =Bujnovci!X13+Elena!X13+Bolqrka!X13+Gorna!X13+Svishtov!X13+Rosica!X13+Gabrovo!X13+Plachkovci!X13+Sevlievo!X13+Bqla!X13+Dunav_Ruse!X13+Silistra!X13+Tutrakan!X13+Seslav!X13+Karakuz!X13+Razgrad!X13+Voden!X13 -> 798 | Y13: =Bujnovci!Y13+Elena!Y13+Bolqrka!Y13+Gorna!Y13+Svishtov!Y13+Rosica!Y13+Gabrovo!Y13+Plachkovci!Y13+Sevlievo!Y13+Bqla!Y13+Dunav_Ruse!Y13+Silistra!Y13+Tutrakan!Y13+Seslav!Y13+Karakuz!Y13+Razgrad!Y13+Voden!Y13 -> 3185.5 | AA13: 1. По ГСП | AB13: =Bujnovci!AB13+Elena!AB13+Bolqrka!AB13+Gorna!AB13+Svishtov!AB13+Rosica!AB13+Gabrovo!AB13+Plachkovci!AB13+Sevlievo!AB13+Bqla!AB13+Dunav_Ruse!AB13+Silistra!AB13+Tutrakan!AB13+Seslav!AB13+Karakuz!AB13+Razgrad!AB13+Voden!AB13 -> 174.68 | AC13: =Bujnovci!AC13+Elena!AC13+Bolqrka!AC13+Gorna!AC13+Svishtov!AC13+Rosica!AC13+Gabrovo!AC13+Plachkovci!AC13+Sevlievo!AC13+Bqla!AC13+Dunav_Ruse!AC13+Silistra!AC13+Tutrakan!AC13+Seslav!AC13+Karakuz!AC13+Razgrad!AC13+Voden!AC13 -> 13493 | AD13: =Bujnovci!AD13+Elena!AD13+Bolqrka!AD13+Gorna!AD13+Svishtov!AD13+Rosica!AD13+Gabrovo!AD13+Plachkovci!AD13+Sevlievo!AD13+Bqla!AD13+Dunav_Ruse!AD13+Silistra!AD13+Tutrakan!AD13+Seslav!AD13+Karakuz!AD13+Razgrad!AD13+Voden!AD13 -> 10708 | AE13: =Bujnovci!AE13+Elena!AE13+Bolqrka!AE13+Gorna!AE13+Svishtov!AE13+Rosica!AE13+Gabrovo!AE13+Plachkovci!AE13+Sevlievo!AE13+Bqla!AE13+Dunav_Ruse!AE13+Silistra!AE13+Tutrakan!AE13+Seslav!AE13+Karakuz!AE13+Razgrad!AE13+Voden!AE13 -> 3798.5 | AF13: =Bujnovci!AF13+Elena!AF13+Bolqrka!AF13+Gorna!AF13+Svishtov!AF13+Rosica!AF13+Gabrovo!AF13+Plachkovci!AF13+Sevlievo!AF13+Bqla!AF13+Dunav_Ruse!AF13+Silistra!AF13+Tutrakan!AF13+Seslav!AF13+Karakuz!AF13+Razgrad!AF13+Voden!AF13 -> 3020.5 | AG13: =Bujnovci!AG13+Elena!AG13+Bolqrka!AG13+Gorna!AG13+Svishtov!AG13+Rosica!AG13+Gabrovo!AG13+Plachkovci!AG13+Sevlievo!AG13+Bqla!AG13+Dunav_Ruse!AG13+Silistra!AG13+Tutrakan!AG13+Seslav!AG13+Karakuz!AG13+Razgrad!AG13+Voden!AG13 -> 751 | AH13: =Bujnovci!AH13+Elena!AH13+Bolqrka!AH13+Gorna!AH13+Svishtov!AH13+Rosica!AH13+Gabrovo!AH13+Plachkovci!AH13+Sevlievo!AH13+Bqla!AH13+Dunav_Ruse!AH13+Silistra!AH13+Tutrakan!AH13+Seslav!AH13+Karakuz!AH13+Razgrad!AH13+Voden!AH13 -> 3125.5 | AJ13: 1. По ГСП | AK13: =Bujnovci!AK13+Elena!AK13+Bolqrka!AK13+Gorna!AK13+Svishtov!AK13+Rosica!AK13+Gabrovo!AK13+Plachkovci!AK13+Sevlievo!AK13+Bqla!AK13+Dunav_Ruse!AK13+Silistra!AK13+Tutrakan!AK13+Seslav!AK13+Karakuz!AK13+Razgrad!AK13+Voden!AK13 -> 147.7 | AL13: =Bujnovci!AL13+Elena!AL13+Bolqrka!AL13+Gorna!AL13+Svishtov!AL13+Rosica!AL13+Gabrovo!AL13+Plachkovci!AL13+Sevlievo!AL13+Bqla!AL13+Dunav_Ruse!AL13+Silistra!AL13+Tutrakan!AL13+Seslav!AL13+Karakuz!AL13+Razgrad!AL13+Voden!AL13 -> 14990 | AM13: =Bujnovci!AM13+Elena!AM13+Bolqrka!AM13+Gorna!AM13+Svishtov!AM13+Rosica!AM13+Gabrovo!AM13+Plachkovci!AM13+Sevlievo!AM13+Bqla!AM13+Dunav_Ruse!AM13+Silistra!AM13+Tutrakan!AM13+Seslav!AM13+Karakuz!AM13+Razgrad!AM13+Voden!AM13 -> 10019 | AN13: =Bujnovci!AN13+Elena!AN13+Bolqrka!AN13+Gorna!AN13+Svishtov!AN13+Rosica!AN13+Gabrovo!AN13+Plachkovci!AN13+Sevlievo!AN13+Bqla!AN13+Dunav_Ruse!AN13+Silistra!AN13+Tutrakan!AN13+Seslav!AN13+Karakuz!AN13+Razgrad!AN13+Voden!AN13 -> 709 | AO13: =Bujnovci!AO13+Elena!AO13+Bolqrka!AO13+Gorna!AO13+Svishtov!AO13+Rosica!AO13+Gabrovo!AO13+Plachkovci!AO13+Sevlievo!AO13+Bqla!AO13+Dunav_Ruse!AO13+Silistra!AO13+Tutrakan!AO13+Seslav!AO13+Karakuz!AO13+Razgrad!AO13+Voden!AO13 -> 2799 | AP13: =Bujnovci!AP13+Elena!AP13+Bolqrka!AP13+Gorna!AP13+Svishtov!AP13+Rosica!AP13+Gabrovo!AP13+Plachkovci!AP13+Sevlievo!AP13+Bqla!AP13+Dunav_Ruse!AP13+Silistra!AP13+Tutrakan!AP13+Seslav!AP13+Karakuz!AP13+Razgrad!AP13+Voden!AP13 -> 1694 | AQ13: =Bujnovci!AQ13+Elena!AQ13+Bolqrka!AQ13+Gorna!AQ13+Svishtov!AQ13+Rosica!AQ13+Gabrovo!AQ13+Plachkovci!AQ13+Sevlievo!AQ13+Bqla!AQ13+Dunav_Ruse!AQ13+Silistra!AQ13+Tutrakan!AQ13+Seslav!AQ13+Karakuz!AQ13+Razgrad!AQ13+Voden!AQ13 -> 4817
A14: 2. Год. план | B14: =Bujnovci!B14+Elena!B14+Bolqrka!B14+Gorna!B14+Svishtov!B14+Rosica!B14+Gabrovo!B14+Plachkovci!B14+Sevlievo!B14+Bqla!B14+Dunav_Ruse!B14+Silistra!B14+Tutrakan!B14+Seslav!B14+Karakuz!B14+Razgrad!B14+Voden!B14 -> 988.7 | C14: =Bujnovci!C14+Elena!C14+Bolqrka!C14+Gorna!C14+Svishtov!C14+Rosica!C14+Gabrovo!C14+Plachkovci!C14+Sevlievo!C14+Bqla!C14+Dunav_Ruse!C14+Silistra!C14+Tutrakan!C14+Seslav!C14+Karakuz!C14+Razgrad!C14+Voden!C14 -> 63977 | D14: =Bujnovci!D14+Elena!D14+Bolqrka!D14+Gorna!D14+Svishtov!D14+Rosica!D14+Gabrovo!D14+Plachkovci!D14+Sevlievo!D14+Bqla!D14+Dunav_Ruse!D14+Silistra!D14+Tutrakan!D14+Seslav!D14+Karakuz!D14+Razgrad!D14+Voden!D14 -> 53552 | E14: =Bujnovci!E14+Elena!E14+Bolqrka!E14+Gorna!E14+Svishtov!E14+Rosica!E14+Gabrovo!E14+Plachkovci!E14+Sevlievo!E14+Bqla!E14+Dunav_Ruse!E14+Silistra!E14+Tutrakan!E14+Seslav!E14+Karakuz!E14+Razgrad!E14+Voden!E14 -> 15320 | F14: =Bujnovci!F14+Elena!F14+Bolqrka!F14+Gorna!F14+Svishtov!F14+Rosica!F14+Gabrovo!F14+Plachkovci!F14+Sevlievo!F14+Bqla!F14+Dunav_Ruse!F14+Silistra!F14+Tutrakan!F14+Seslav!F14+Karakuz!F14+Razgrad!F14+Voden!F14 -> 10068 | G14: =Bujnovci!G14+Elena!G14+Bolqrka!G14+Gorna!G14+Svishtov!G14+Rosica!G14+Gabrovo!G14+Plachkovci!G14+Sevlievo!G14+Bqla!G14+Dunav_Ruse!G14+Silistra!G14+Tutrakan!G14+Seslav!G14+Karakuz!G14+Razgrad!G14+Voden!G14 -> 976 | H14: =Bujnovci!H14+Elena!H14+Bolqrka!H14+Gorna!H14+Svishtov!H14+Rosica!H14+Gabrovo!H14+Plachkovci!H14+Sevlievo!H14+Bqla!H14+Dunav_Ruse!H14+Silistra!H14+Tutrakan!H14+Seslav!H14+Karakuz!H14+Razgrad!H14+Voden!H14 -> 27188 | J14: 2. Год. план | K14: =Bujnovci!K14+Elena!K14+Bolqrka!K14+Gorna!K14+Svishtov!K14+Rosica!K14+Gabrovo!K14+Plachkovci!K14+Sevlievo!K14+Bqla!K14+Dunav_Ruse!K14+Silistra!K14+Tutrakan!K14+Seslav!K14+Karakuz!K14+Razgrad!K14+Voden!K14 -> 748.2 | L14: =Bujnovci!L14+Elena!L14+Bolqrka!L14+Gorna!L14+Svishtov!L14+Rosica!L14+Gabrovo!L14+Plachkovci!L14+Sevlievo!L14+Bqla!L14+Dunav_Ruse!L14+Silistra!L14+Tutrakan!L14+Seslav!L14+Karakuz!L14+Razgrad!L14+Voden!L14 -> 47389 | M14: =Bujnovci!M14+Elena!M14+Bolqrka!M14+Gorna!M14+Svishtov!M14+Rosica!M14+Gabrovo!M14+Plachkovci!M14+Sevlievo!M14+Bqla!M14+Dunav_Ruse!M14+Silistra!M14+Tutrakan!M14+Seslav!M14+Karakuz!M14+Razgrad!M14+Voden!M14 -> 39669 | N14: =Bujnovci!N14+Elena!N14+Bolqrka!N14+Gorna!N14+Svishtov!N14+Rosica!N14+Gabrovo!N14+Plachkovci!N14+Sevlievo!N14+Bqla!N14+Dunav_Ruse!N14+Silistra!N14+Tutrakan!N14+Seslav!N14+Karakuz!N14+Razgrad!N14+Voden!N14 -> 11469 | O14: =Bujnovci!O14+Elena!O14+Bolqrka!O14+Gorna!O14+Svishtov!O14+Rosica!O14+Gabrovo!O14+Plachkovci!O14+Sevlievo!O14+Bqla!O14+Dunav_Ruse!O14+Silistra!O14+Tutrakan!O14+Seslav!O14+Karakuz!O14+Razgrad!O14+Voden!O14 -> 7683 | P14: =Bujnovci!P14+Elena!P14+Bolqrka!P14+Gorna!P14+Svishtov!P14+Rosica!P14+Gabrovo!P14+Plachkovci!P14+Sevlievo!P14+Bqla!P14+Dunav_Ruse!P14+Silistra!P14+Tutrakan!P14+Seslav!P14+Karakuz!P14+Razgrad!P14+Voden!P14 -> 779 | Q14: =Bujnovci!Q14+Elena!Q14+Bolqrka!Q14+Gorna!Q14+Svishtov!Q14+Rosica!Q14+Gabrovo!Q14+Plachkovci!Q14+Sevlievo!Q14+Bqla!Q14+Dunav_Ruse!Q14+Silistra!Q14+Tutrakan!Q14+Seslav!Q14+Karakuz!Q14+Razgrad!Q14+Voden!Q14 -> 19738 | R14: 2. Год. план | S14: =Bujnovci!S14+Elena!S14+Bolqrka!S14+Gorna!S14+Svishtov!S14+Rosica!S14+Gabrovo!S14+Plachkovci!S14+Sevlievo!S14+Bqla!S14+Dunav_Ruse!S14+Silistra!S14+Tutrakan!S14+Seslav!S14+Karakuz!S14+Razgrad!S14+Voden!S14 -> 155.1 | T14: =Bujnovci!T14+Elena!T14+Bolqrka!T14+Gorna!T14+Svishtov!T14+Rosica!T14+Gabrovo!T14+Plachkovci!T14+Sevlievo!T14+Bqla!T14+Dunav_Ruse!T14+Silistra!T14+Tutrakan!T14+Seslav!T14+Karakuz!T14+Razgrad!T14+Voden!T14 -> 11101 | U14: =Bujnovci!U14+Elena!U14+Bolqrka!U14+Gorna!U14+Svishtov!U14+Rosica!U14+Gabrovo!U14+Plachkovci!U14+Sevlievo!U14+Bqla!U14+Dunav_Ruse!U14+Silistra!U14+Tutrakan!U14+Seslav!U14+Karakuz!U14+Razgrad!U14+Voden!U14 -> 9120 | V14: =Bujnovci!V14+Elena!V14+Bolqrka!V14+Gorna!V14+Svishtov!V14+Rosica!V14+Gabrovo!V14+Plachkovci!V14+Sevlievo!V14+Bqla!V14+Dunav_Ruse!V14+Silistra!V14+Tutrakan!V14+Seslav!V14+Karakuz!V14+Razgrad!V14+Voden!V14 -> 3411 | W14: =Bujnovci!W14+Elena!W14+Bolqrka!W14+Gorna!W14+Svishtov!W14+Rosica!W14+Gabrovo!W14+Plachkovci!W14+Sevlievo!W14+Bqla!W14+Dunav_Ruse!W14+Silistra!W14+Tutrakan!W14+Seslav!W14+Karakuz!W14+Razgrad!W14+Voden!W14 -> 2100 | X14: =Bujnovci!X14+Elena!X14+Bolqrka!X14+Gorna!X14+Svishtov!X14+Rosica!X14+Gabrovo!X14+Plachkovci!X14+Sevlievo!X14+Bqla!X14+Dunav_Ruse!X14+Silistra!X14+Tutrakan!X14+Seslav!X14+Karakuz!X14+Razgrad!X14+Voden!X14 -> 183 | Y14: =Bujnovci!Y14+Elena!Y14+Bolqrka!Y14+Gorna!Y14+Svishtov!Y14+Rosica!Y14+Gabrovo!Y14+Plachkovci!Y14+Sevlievo!Y14+Bqla!Y14+Dunav_Ruse!Y14+Silistra!Y14+Tutrakan!Y14+Seslav!Y14+Karakuz!Y14+Razgrad!Y14+Voden!Y14 -> 3426 | AA14: 2. Год. план | AB14: =Bujnovci!AB14+Elena!AB14+Bolqrka!AB14+Gorna!AB14+Svishtov!AB14+Rosica!AB14+Gabrovo!AB14+Plachkovci!AB14+Sevlievo!AB14+Bqla!AB14+Dunav_Ruse!AB14+Silistra!AB14+Tutrakan!AB14+Seslav!AB14+Karakuz!AB14+Razgrad!AB14+Voden!AB14 -> 152.6 | AC14: =Bujnovci!AC14+Elena!AC14+Bolqrka!AC14+Gorna!AC14+Svishtov!AC14+Rosica!AC14+Gabrovo!AC14+Plachkovci!AC14+Sevlievo!AC14+Bqla!AC14+Dunav_Ruse!AC14+Silistra!AC14+Tutrakan!AC14+Seslav!AC14+Karakuz!AC14+Razgrad!AC14+Voden!AC14 -> 11016 | AD14: =Bujnovci!AD14+Elena!AD14+Bolqrka!AD14+Gorna!AD14+Svishtov!AD14+Rosica!AD14+Gabrovo!AD14+Plachkovci!AD14+Sevlievo!AD14+Bqla!AD14+Dunav_Ruse!AD14+Silistra!AD14+Tutrakan!AD14+Seslav!AD14+Karakuz!AD14+Razgrad!AD14+Voden!AD14 -> 9051 | AE14: =Bujnovci!AE14+Elena!AE14+Bolqrka!AE14+Gorna!AE14+Svishtov!AE14+Rosica!AE14+Gabrovo!AE14+Plachkovci!AE14+Sevlievo!AE14+Bqla!AE14+Dunav_Ruse!AE14+Silistra!AE14+Tutrakan!AE14+Seslav!AE14+Karakuz!AE14+Razgrad!AE14+Voden!AE14 -> 3390 | AF14: =Bujnovci!AF14+Elena!AF14+Bolqrka!AF14+Gorna!AF14+Svishtov!AF14+Rosica!AF14+Gabrovo!AF14+Plachkovci!AF14+Sevlievo!AF14+Bqla!AF14+Dunav_Ruse!AF14+Silistra!AF14+Tutrakan!AF14+Seslav!AF14+Karakuz!AF14+Razgrad!AF14+Voden!AF14 -> 2085 | AG14: =Bujnovci!AG14+Elena!AG14+Bolqrka!AG14+Gorna!AG14+Svishtov!AG14+Rosica!AG14+Gabrovo!AG14+Plachkovci!AG14+Sevlievo!AG14+Bqla!AG14+Dunav_Ruse!AG14+Silistra!AG14+Tutrakan!AG14+Seslav!AG14+Karakuz!AG14+Razgrad!AG14+Voden!AG14 -> 183 | AH14: =Bujnovci!AH14+Elena!AH14+Bolqrka!AH14+Gorna!AH14+Svishtov!AH14+Rosica!AH14+Gabrovo!AH14+Plachkovci!AH14+Sevlievo!AH14+Bqla!AH14+Dunav_Ruse!AH14+Silistra!AH14+Tutrakan!AH14+Seslav!AH14+Karakuz!AH14+Razgrad!AH14+Voden!AH14 -> 3393 | AJ14: 2. Год. план | AK14: =Bujnovci!AK14+Elena!AK14+Bolqrka!AK14+Gorna!AK14+Svishtov!AK14+Rosica!AK14+Gabrovo!AK14+Plachkovci!AK14+Sevlievo!AK14+Bqla!AK14+Dunav_Ruse!AK14+Silistra!AK14+Tutrakan!AK14+Seslav!AK14+Karakuz!AK14+Razgrad!AK14+Voden!AK14 -> 85.4 | AL14: =Bujnovci!AL14+Elena!AL14+Bolqrka!AL14+Gorna!AL14+Svishtov!AL14+Rosica!AL14+Gabrovo!AL14+Plachkovci!AL14+Sevlievo!AL14+Bqla!AL14+Dunav_Ruse!AL14+Silistra!AL14+Tutrakan!AL14+Seslav!AL14+Karakuz!AL14+Razgrad!AL14+Voden!AL14 -> 5487 | AM14: =Bujnovci!AM14+Elena!AM14+Bolqrka!AM14+Gorna!AM14+Svishtov!AM14+Rosica!AM14+Gabrovo!AM14+Plachkovci!AM14+Sevlievo!AM14+Bqla!AM14+Dunav_Ruse!AM14+Silistra!AM14+Tutrakan!AM14+Seslav!AM14+Karakuz!AM14+Razgrad!AM14+Voden!AM14 -> 4763 | AN14: =Bujnovci!AN14+Elena!AN14+Bolqrka!AN14+Gorna!AN14+Svishtov!AN14+Rosica!AN14+Gabrovo!AN14+Plachkovci!AN14+Sevlievo!AN14+Bqla!AN14+Dunav_Ruse!AN14+Silistra!AN14+Tutrakan!AN14+Seslav!AN14+Karakuz!AN14+Razgrad!AN14+Voden!AN14 -> 440 | AO14: =Bujnovci!AO14+Elena!AO14+Bolqrka!AO14+Gorna!AO14+Svishtov!AO14+Rosica!AO14+Gabrovo!AO14+Plachkovci!AO14+Sevlievo!AO14+Bqla!AO14+Dunav_Ruse!AO14+Silistra!AO14+Tutrakan!AO14+Seslav!AO14+Karakuz!AO14+Razgrad!AO14+Voden!AO14 -> 285 | AP14: =Bujnovci!AP14+Elena!AP14+Bolqrka!AP14+Gorna!AP14+Svishtov!AP14+Rosica!AP14+Gabrovo!AP14+Plachkovci!AP14+Sevlievo!AP14+Bqla!AP14+Dunav_Ruse!AP14+Silistra!AP14+Tutrakan!AP14+Seslav!AP14+Karakuz!AP14+Razgrad!AP14+Voden!AP14 -> 14 | AQ14: =Bujnovci!AQ14+Elena!AQ14+Bolqrka!AQ14+Gorna!AQ14+Svishtov!AQ14+Rosica!AQ14+Gabrovo!AQ14+Plachkovci!AQ14+Sevlievo!AQ14+Bqla!AQ14+Dunav_Ruse!AQ14+Silistra!AQ14+Tutrakan!AQ14+Seslav!AQ14+Karakuz!AQ14+Razgrad!AQ14+Voden!AQ14 -> 4024
A15: % (2/1) | B15: =B14/B13*100 -> 95.584752 | C15: =C14/C13*100 -> 89.81434 | D15: =D14/D13*100 -> 102.73568 | E15: =E14/E13*100 -> 147.44947 | F15: =F14/F13*100 -> 51.510578 | G15: =G14/G13*100 -> 14.045186 | H15: =H14/H13*100 -> 180.05298 | J15: % (2/1) | K15: =K14/K13*100 -> 105.38919 | L15: =L14/L13*100 -> 111.71908 | M15: =M14/M13*100 -> 127.38921 | N15: =N14/N13*100 -> 200.52452 | O15: =O14/O13*100 -> 55.927207 | P15: =P14/P13*100 -> 17.478124 | Q15: =Q14/Q13*100 -> 278.09792 | R15: % (2/1) | S15: =S14/S13*100 -> 87.760991 | T15: =T14/T13*100 -> 80.299468 | U15: =U14/U13*100 -> 83.158567 | V15: =V14/V13*100 -> 86.103749 | W15: =W14/W13*100 -> 69.790628 | X15: =X14/X13*100 -> 22.932331 | Y15: =Y14/Y13*100 -> 107.54984 | AA15: % (2/1) | AB15: =AB14/AB13*100 -> 87.359744 | AC15: =AC14/AC13*100 -> 81.642333 | AD15: =AD14/AD13*100 -> 84.525588 | AE15: =AE14/AE13*100 -> 89.245755 | AF15: =AF14/AF13*100 -> 69.028307 | AG15: =AG14/AG13*100 -> 24.36751 | AH15: =AH14/AH13*100 -> 108.55863 | AJ15: % (2/1) | AK15: =AK14/AK13*100 -> 57.819905 | AL15: =AL14/AL13*100 -> 36.604403 | AM15: =AM14/AM13*100 -> 47.539675 | AN15: =AN14/AN13*100 -> 62.059238 | AO15: =AO14/AO13*100 -> 10.182208 | AP15: =AP14/AP13*100 -> 0.82644628 | AQ15: =AQ14/AQ13*100 -> 83.537471
A16: в т.ч. бял бор | B16: =Bujnovci!B16+Elena!B16+Bolqrka!B16+Gorna!B16+Svishtov!B16+Rosica!B16+Gabrovo!B16+Plachkovci!B16+Sevlievo!B16+Bqla!B16+Dunav_Ruse!B16+Silistra!B16+Tutrakan!B16+Seslav!B16+Karakuz!B16+Razgrad!B16+Voden!B16 -> 431.65 | C16: =Bujnovci!C16+Elena!C16+Bolqrka!C16+Gorna!C16+Svishtov!C16+Rosica!C16+Gabrovo!C16+Plachkovci!C16+Sevlievo!C16+Bqla!C16+Dunav_Ruse!C16+Silistra!C16+Tutrakan!C16+Seslav!C16+Karakuz!C16+Razgrad!C16+Voden!C16 -> 23861 | D16: =Bujnovci!D16+Elena!D16+Bolqrka!D16+Gorna!D16+Svishtov!D16+Rosica!D16+Gabrovo!D16+Plachkovci!D16+Sevlievo!D16+Bqla!D16+Dunav_Ruse!D16+Silistra!D16+Tutrakan!D16+Seslav!D16+Karakuz!D16+Razgrad!D16+Voden!D16 -> 21289 | E16: =Bujnovci!E16+Elena!E16+Bolqrka!E16+Gorna!E16+Svishtov!E16+Rosica!E16+Gabrovo!E16+Plachkovci!E16+Sevlievo!E16+Bqla!E16+Dunav_Ruse!E16+Silistra!E16+Tutrakan!E16+Seslav!E16+Karakuz!E16+Razgrad!E16+Voden!E16 -> 7880 | F16: =Bujnovci!F16+Elena!F16+Bolqrka!F16+Gorna!F16+Svishtov!F16+Rosica!F16+Gabrovo!F16+Plachkovci!F16+Sevlievo!F16+Bqla!F16+Dunav_Ruse!F16+Silistra!F16+Tutrakan!F16+Seslav!F16+Karakuz!F16+Razgrad!F16+Voden!F16 -> 5596 | G16: =Bujnovci!G16+Elena!G16+Bolqrka!G16+Gorna!G16+Svishtov!G16+Rosica!G16+Gabrovo!G16+Plachkovci!G16+Sevlievo!G16+Bqla!G16+Dunav_Ruse!G16+Silistra!G16+Tutrakan!G16+Seslav!G16+Karakuz!G16+Razgrad!G16+Voden!G16 -> 228 | H16: =Bujnovci!H16+Elena!H16+Bolqrka!H16+Gorna!H16+Svishtov!H16+Rosica!H16+Gabrovo!H16+Plachkovci!H16+Sevlievo!H16+Bqla!H16+Dunav_Ruse!H16+Silistra!H16+Tutrakan!H16+Seslav!H16+Karakuz!H16+Razgrad!H16+Voden!H16 -> 7585 | J16: в т.ч. бял бор | K16: =Bujnovci!K16+Elena!K16+Bolqrka!K16+Gorna!K16+Svishtov!K16+Rosica!K16+Gabrovo!K16+Plachkovci!K16+Sevlievo!K16+Bqla!K16+Dunav_Ruse!K16+Silistra!K16+Tutrakan!K16+Seslav!K16+Karakuz!K16+Razgrad!K16+Voden!K16 -> 366.05 | L16: =Bujnovci!L16+Elena!L16+Bolqrka!L16+Gorna!L16+Svishtov!L16+Rosica!L16+Gabrovo!L16+Plachkovci!L16+Sevlievo!L16+Bqla!L16+Dunav_Ruse!L16+Silistra!L16+Tutrakan!L16+Seslav!L16+Karakuz!L16+Razgrad!L16+Voden!L16 -> 19563 | M16: =Bujnovci!M16+Elena!M16+Bolqrka!M16+Gorna!M16+Svishtov!M16+Rosica!M16+Gabrovo!M16+Plachkovci!M16+Sevlievo!M16+Bqla!M16+Dunav_Ruse!M16+Silistra!M16+Tutrakan!M16+Seslav!M16+Karakuz!M16+Razgrad!M16+Voden!M16 -> 17762 | N16: =Bujnovci!N16+Elena!N16+Bolqrka!N16+Gorna!N16+Svishtov!N16+Rosica!N16+Gabrovo!N16+Plachkovci!N16+Sevlievo!N16+Bqla!N16+Dunav_Ruse!N16+Silistra!N16+Tutrakan!N16+Seslav!N16+Karakuz!N16+Razgrad!N16+Voden!N16 -> 6417 | O16: =Bujnovci!O16+Elena!O16+Bolqrka!O16+Gorna!O16+Svishtov!O16+Rosica!O16+Gabrovo!O16+Plachkovci!O16+Sevlievo!O16+Bqla!O16+Dunav_Ruse!O16+Silistra!O16+Tutrakan!O16+Seslav!O16+Karakuz!O16+Razgrad!O16+Voden!O16 -> 5112 | P16: =Bujnovci!P16+Elena!P16+Bolqrka!P16+Gorna!P16+Svishtov!P16+Rosica!P16+Gabrovo!P16+Plachkovci!P16+Sevlievo!P16+Bqla!P16+Dunav_Ruse!P16+Silistra!P16+Tutrakan!P16+Seslav!P16+Karakuz!P16+Razgrad!P16+Voden!P16 -> 210 | Q16: =Bujnovci!Q16+Elena!Q16+Bolqrka!Q16+Gorna!Q16+Svishtov!Q16+Rosica!Q16+Gabrovo!Q16+Plachkovci!Q16+Sevlievo!Q16+Bqla!Q16+Dunav_Ruse!Q16+Silistra!Q16+Tutrakan!Q16+Seslav!Q16+Karakuz!Q16+Razgrad!Q16+Voden!Q16 -> 6023 | R16: в т.ч. бял бор | S16: =Bujnovci!S16+Elena!S16+Bolqrka!S16+Gorna!S16+Svishtov!S16+Rosica!S16+Gabrovo!S16+Plachkovci!S16+Sevlievo!S16+Bqla!S16+Dunav_Ruse!S16+Silistra!S16+Tutrakan!S16+Seslav!S16+Karakuz!S16+Razgrad!S16+Voden!S16 -> 42.6 | T16: =Bujnovci!T16+Elena!T16+Bolqrka!T16+Gorna!T16+Svishtov!T16+Rosica!T16+Gabrovo!T16+Plachkovci!T16+Sevlievo!T16+Bqla!T16+Dunav_Ruse!T16+Silistra!T16+Tutrakan!T16+Seslav!T16+Karakuz!T16+Razgrad!T16+Voden!T16 -> 3192 | U16: =Bujnovci!U16+Elena!U16+Bolqrka!U16+Gorna!U16+Svishtov!U16+Rosica!U16+Gabrovo!U16+Plachkovci!U16+Sevlievo!U16+Bqla!U16+Dunav_Ruse!U16+Silistra!U16+Tutrakan!U16+Seslav!U16+Karakuz!U16+Razgrad!U16+Voden!U16 -> 2592 | V16: =Bujnovci!V16+Elena!V16+Bolqrka!V16+Gorna!V16+Svishtov!V16+Rosica!V16+Gabrovo!V16+Plachkovci!V16+Sevlievo!V16+Bqla!V16+Dunav_Ruse!V16+Silistra!V16+Tutrakan!V16+Seslav!V16+Karakuz!V16+Razgrad!V16+Voden!V16 -> 1367 | W16: =Bujnovci!W16+Elena!W16+Bolqrka!W16+Gorna!W16+Svishtov!W16+Rosica!W16+Gabrovo!W16+Plachkovci!W16+Sevlievo!W16+Bqla!W16+Dunav_Ruse!W16+Silistra!W16+Tutrakan!W16+Seslav!W16+Karakuz!W16+Razgrad!W16+Voden!W16 -> 428 | X16: =Bujnovci!X16+Elena!X16+Bolqrka!X16+Gorna!X16+Svishtov!X16+Rosica!X16+Gabrovo!X16+Plachkovci!X16+Sevlievo!X16+Bqla!X16+Dunav_Ruse!X16+Silistra!X16+Tutrakan!X16+Seslav!X16+Karakuz!X16+Razgrad!X16+Voden!X16 -> 18 | Y16: =Bujnovci!Y16+Elena!Y16+Bolqrka!Y16+Gorna!Y16+Svishtov!Y16+Rosica!Y16+Gabrovo!Y16+Plachkovci!Y16+Sevlievo!Y16+Bqla!Y16+Dunav_Ruse!Y16+Silistra!Y16+Tutrakan!Y16+Seslav!Y16+Karakuz!Y16+Razgrad!Y16+Voden!Y16 -> 779 | AA16: в т.ч. бял бор | AB16: =Bujnovci!AB16+Elena!AB16+Bolqrka!AB16+Gorna!AB16+Svishtov!AB16+Rosica!AB16+Gabrovo!AB16+Plachkovci!AB16+Sevlievo!AB16+Bqla!AB16+Dunav_Ruse!AB16+Silistra!AB16+Tutrakan!AB16+Seslav!AB16+Karakuz!AB16+Razgrad!AB16+Voden!AB16 -> 40.8 | AC16: =Bujnovci!AC16+Elena!AC16+Bolqrka!AC16+Gorna!AC16+Svishtov!AC16+Rosica!AC16+Gabrovo!AC16+Plachkovci!AC16+Sevlievo!AC16+Bqla!AC16+Dunav_Ruse!AC16+Silistra!AC16+Tutrakan!AC16+Seslav!AC16+Karakuz!AC16+Razgrad!AC16+Voden!AC16 -> 3191 | AD16: =Bujnovci!AD16+Elena!AD16+Bolqrka!AD16+Gorna!AD16+Svishtov!AD16+Rosica!AD16+Gabrovo!AD16+Plachkovci!AD16+Sevlievo!AD16+Bqla!AD16+Dunav_Ruse!AD16+Silistra!AD16+Tutrakan!AD16+Seslav!AD16+Karakuz!AD16+Razgrad!AD16+Voden!AD16 -> 2591 | AE16: =Bujnovci!AE16+Elena!AE16+Bolqrka!AE16+Gorna!AE16+Svishtov!AE16+Rosica!AE16+Gabrovo!AE16+Plachkovci!AE16+Sevlievo!AE16+Bqla!AE16+Dunav_Ruse!AE16+Silistra!AE16+Tutrakan!AE16+Seslav!AE16+Karakuz!AE16+Razgrad!AE16+Voden!AE16 -> 1367 | AF16: =Bujnovci!AF16+Elena!AF16+Bolqrka!AF16+Gorna!AF16+Svishtov!AF16+Rosica!AF16+Gabrovo!AF16+Plachkovci!AF16+Sevlievo!AF16+Bqla!AF16+Dunav_Ruse!AF16+Silistra!AF16+Tutrakan!AF16+Seslav!AF16+Karakuz!AF16+Razgrad!AF16+Voden!AF16 -> 428 | AG16: =Bujnovci!AG16+Elena!AG16+Bolqrka!AG16+Gorna!AG16+Svishtov!AG16+Rosica!AG16+Gabrovo!AG16+Plachkovci!AG16+Sevlievo!AG16+Bqla!AG16+Dunav_Ruse!AG16+Silistra!AG16+Tutrakan!AG16+Seslav!AG16+Karakuz!AG16+Razgrad!AG16+Voden!AG16 -> 18 | AH16: =Bujnovci!AH16+Elena!AH16+Bolqrka!AH16+Gorna!AH16+Svishtov!AH16+Rosica!AH16+Gabrovo!AH16+Plachkovci!AH16+Sevlievo!AH16+Bqla!AH16+Dunav_Ruse!AH16+Silistra!AH16+Tutrakan!AH16+Seslav!AH16+Karakuz!AH16+Razgrad!AH16+Voden!AH16 -> 778 | AJ16: в т.ч. бял бор | AK16: =Bujnovci!AK16+Elena!AK16+Bolqrka!AK16+Gorna!AK16+Svishtov!AK16+Rosica!AK16+Gabrovo!AK16+Plachkovci!AK16+Sevlievo!AK16+Bqla!AK16+Dunav_Ruse!AK16+Silistra!AK16+Tutrakan!AK16+Seslav!AK16+Karakuz!AK16+Razgrad!AK16+Voden!AK16 -> 23 | AL16: =Bujnovci!AL16+Elena!AL16+Bolqrka!AL16+Gorna!AL16+Svishtov!AL16+Rosica!AL16+Gabrovo!AL16+Plachkovci!AL16+Sevlievo!AL16+Bqla!AL16+Dunav_Ruse!AL16+Silistra!AL16+Tutrakan!AL16+Seslav!AL16+Karakuz!AL16+Razgrad!AL16+Voden!AL16 -> 1106 | AM16: =Bujnovci!AM16+Elena!AM16+Bolqrka!AM16+Gorna!AM16+Svishtov!AM16+Rosica!AM16+Gabrovo!AM16+Plachkovci!AM16+Sevlievo!AM16+Bqla!AM16+Dunav_Ruse!AM16+Silistra!AM16+Tutrakan!AM16+Seslav!AM16+Karakuz!AM16+Razgrad!AM16+Voden!AM16 -> 937 | AN16: =Bujnovci!AN16+Elena!AN16+Bolqrka!AN16+Gorna!AN16+Svishtov!AN16+Rosica!AN16+Gabrovo!AN16+Plachkovci!AN16+Sevlievo!AN16+Bqla!AN16+Dunav_Ruse!AN16+Silistra!AN16+Tutrakan!AN16+Seslav!AN16+Karakuz!AN16+Razgrad!AN16+Voden!AN16 -> 96 | AO16: =Bujnovci!AO16+Elena!AO16+Bolqrka!AO16+Gorna!AO16+Svishtov!AO16+Rosica!AO16+Gabrovo!AO16+Plachkovci!AO16+Sevlievo!AO16+Bqla!AO16+Dunav_Ruse!AO16+Silistra!AO16+Tutrakan!AO16+Seslav!AO16+Karakuz!AO16+Razgrad!AO16+Voden!AO16 -> 56 | AP16: =Bujnovci!AP16+Elena!AP16+Bolqrka!AP16+Gorna!AP16+Svishtov!AP16+Rosica!AP16+Gabrovo!AP16+Plachkovci!AP16+Sevlievo!AP16+Bqla!AP16+Dunav_Ruse!AP16+Silistra!AP16+Tutrakan!AP16+Seslav!AP16+Karakuz!AP16+Razgrad!AP16+Voden!AP16 -> 0 | AQ16: =Bujnovci!AQ16+Elena!AQ16+Bolqrka!AQ16+Gorna!AQ16+Svishtov!AQ16+Rosica!AQ16+Gabrovo!AQ16+Plachkovci!AQ16+Sevlievo!AQ16+Bqla!AQ16+Dunav_Ruse!AQ16+Silistra!AQ16+Tutrakan!AQ16+Seslav!AQ16+Karakuz!AQ16+Razgrad!AQ16+Voden!AQ16 -> 783
A17: смърч | B17: =Bujnovci!B17+Elena!B17+Bolqrka!B17+Gorna!B17+Svishtov!B17+Rosica!B17+Gabrovo!B17+Plachkovci!B17+Sevlievo!B17+Bqla!B17+Dunav_Ruse!B17+Silistra!B17+Tutrakan!B17+Seslav!B17+Karakuz!B17+Razgrad!B17+Voden!B17 -> 35.4 | C17: =Bujnovci!C17+Elena!C17+Bolqrka!C17+Gorna!C17+Svishtov!C17+Rosica!C17+Gabrovo!C17+Plachkovci!C17+Sevlievo!C17+Bqla!C17+Dunav_Ruse!C17+Silistra!C17+Tutrakan!C17+Seslav!C17+Karakuz!C17+Razgrad!C17+Voden!C17 -> 4104 | D17: =Bujnovci!D17+Elena!D17+Bolqrka!D17+Gorna!D17+Svishtov!D17+Rosica!D17+Gabrovo!D17+Plachkovci!D17+Sevlievo!D17+Bqla!D17+Dunav_Ruse!D17+Silistra!D17+Tutrakan!D17+Seslav!D17+Karakuz!D17+Razgrad!D17+Voden!D17 -> 3417 | E17: =Bujnovci!E17+Elena!E17+Bolqrka!E17+Gorna!E17+Svishtov!E17+Rosica!E17+Gabrovo!E17+Plachkovci!E17+Sevlievo!E17+Bqla!E17+Dunav_Ruse!E17+Silistra!E17+Tutrakan!E17+Seslav!E17+Karakuz!E17+Razgrad!E17+Voden!E17 -> 988 | F17: =Bujnovci!F17+Elena!F17+Bolqrka!F17+Gorna!F17+Svishtov!F17+Rosica!F17+Gabrovo!F17+Plachkovci!F17+Sevlievo!F17+Bqla!F17+Dunav_Ruse!F17+Silistra!F17+Tutrakan!F17+Seslav!F17+Karakuz!F17+Razgrad!F17+Voden!F17 -> 664 | G17: =Bujnovci!G17+Elena!G17+Bolqrka!G17+Gorna!G17+Svishtov!G17+Rosica!G17+Gabrovo!G17+Plachkovci!G17+Sevlievo!G17+Bqla!G17+Dunav_Ruse!G17+Silistra!G17+Tutrakan!G17+Seslav!G17+Karakuz!G17+Razgrad!G17+Voden!G17 -> 101 | H17: =Bujnovci!H17+Elena!H17+Bolqrka!H17+Gorna!H17+Svishtov!H17+Rosica!H17+Gabrovo!H17+Plachkovci!H17+Sevlievo!H17+Bqla!H17+Dunav_Ruse!H17+Silistra!H17+Tutrakan!H17+Seslav!H17+Karakuz!H17+Razgrad!H17+Voden!H17 -> 1664 | J17: смърч | K17: =Bujnovci!K17+Elena!K17+Bolqrka!K17+Gorna!K17+Svishtov!K17+Rosica!K17+Gabrovo!K17+Plachkovci!K17+Sevlievo!K17+Bqla!K17+Dunav_Ruse!K17+Silistra!K17+Tutrakan!K17+Seslav!K17+Karakuz!K17+Razgrad!K17+Voden!K17 -> 30 | L17: =Bujnovci!L17+Elena!L17+Bolqrka!L17+Gorna!L17+Svishtov!L17+Rosica!L17+Gabrovo!L17+Plachkovci!L17+Sevlievo!L17+Bqla!L17+Dunav_Ruse!L17+Silistra!L17+Tutrakan!L17+Seslav!L17+Karakuz!L17+Razgrad!L17+Voden!L17 -> 3588 | M17: =Bujnovci!M17+Elena!M17+Bolqrka!M17+Gorna!M17+Svishtov!M17+Rosica!M17+Gabrovo!M17+Plachkovci!M17+Sevlievo!M17+Bqla!M17+Dunav_Ruse!M17+Silistra!M17+Tutrakan!M17+Seslav!M17+Karakuz!M17+Razgrad!M17+Voden!M17 -> 2978 | N17: =Bujnovci!N17+Elena!N17+Bolqrka!N17+Gorna!N17+Svishtov!N17+Rosica!N17+Gabrovo!N17+Plachkovci!N17+Sevlievo!N17+Bqla!N17+Dunav_Ruse!N17+Silistra!N17+Tutrakan!N17+Seslav!N17+Karakuz!N17+Razgrad!N17+Voden!N17 -> 822 | O17: =Bujnovci!O17+Elena!O17+Bolqrka!O17+Gorna!O17+Svishtov!O17+Rosica!O17+Gabrovo!O17+Plachkovci!O17+Sevlievo!O17+Bqla!O17+Dunav_Ruse!O17+Silistra!O17+Tutrakan!O17+Seslav!O17+Karakuz!O17+Razgrad!O17+Voden!O17 -> 603 | P17: =Bujnovci!P17+Elena!P17+Bolqrka!P17+Gorna!P17+Svishtov!P17+Rosica!P17+Gabrovo!P17+Plachkovci!P17+Sevlievo!P17+Bqla!P17+Dunav_Ruse!P17+Silistra!P17+Tutrakan!P17+Seslav!P17+Karakuz!P17+Razgrad!P17+Voden!P17 -> 86 | Q17: =Bujnovci!Q17+Elena!Q17+Bolqrka!Q17+Gorna!Q17+Svishtov!Q17+Rosica!Q17+Gabrovo!Q17+Plachkovci!Q17+Sevlievo!Q17+Bqla!Q17+Dunav_Ruse!Q17+Silistra!Q17+Tutrakan!Q17+Seslav!Q17+Karakuz!Q17+Razgrad!Q17+Voden!Q17 -> 1467 | R17: смърч | S17: =Bujnovci!S17+Elena!S17+Bolqrka!S17+Gorna!S17+Svishtov!S17+Rosica!S17+Gabrovo!S17+Plachkovci!S17+Sevlievo!S17+Bqla!S17+Dunav_Ruse!S17+Silistra!S17+Tutrakan!S17+Seslav!S17+Karakuz!S17+Razgrad!S17+Voden!S17 -> 0.7 | T17: =Bujnovci!T17+Elena!T17+Bolqrka!T17+Gorna!T17+Svishtov!T17+Rosica!T17+Gabrovo!T17+Plachkovci!T17+Sevlievo!T17+Bqla!T17+Dunav_Ruse!T17+Silistra!T17+Tutrakan!T17+Seslav!T17+Karakuz!T17+Razgrad!T17+Voden!T17 -> 48 | U17: =Bujnovci!U17+Elena!U17+Bolqrka!U17+Gorna!U17+Svishtov!U17+Rosica!U17+Gabrovo!U17+Plachkovci!U17+Sevlievo!U17+Bqla!U17+Dunav_Ruse!U17+Silistra!U17+Tutrakan!U17+Seslav!U17+Karakuz!U17+Razgrad!U17+Voden!U17 -> 44 | V17: =Bujnovci!V17+Elena!V17+Bolqrka!V17+Gorna!V17+Svishtov!V17+Rosica!V17+Gabrovo!V17+Plachkovci!V17+Sevlievo!V17+Bqla!V17+Dunav_Ruse!V17+Silistra!V17+Tutrakan!V17+Seslav!V17+Karakuz!V17+Razgrad!V17+Voden!V17 -> 14 | W17: =Bujnovci!W17+Elena!W17+Bolqrka!W17+Gorna!W17+Svishtov!W17+Rosica!W17+Gabrovo!W17+Plachkovci!W17+Sevlievo!W17+Bqla!W17+Dunav_Ruse!W17+Silistra!W17+Tutrakan!W17+Seslav!W17+Karakuz!W17+Razgrad!W17+Voden!W17 -> 1 | X17: =Bujnovci!X17+Elena!X17+Bolqrka!X17+Gorna!X17+Svishtov!X17+Rosica!X17+Gabrovo!X17+Plachkovci!X17+Sevlievo!X17+Bqla!X17+Dunav_Ruse!X17+Silistra!X17+Tutrakan!X17+Seslav!X17+Karakuz!X17+Razgrad!X17+Voden!X17 -> 1 | Y17: =Bujnovci!Y17+Elena!Y17+Bolqrka!Y17+Gorna!Y17+Svishtov!Y17+Rosica!Y17+Gabrovo!Y17+Plachkovci!Y17+Sevlievo!Y17+Bqla!Y17+Dunav_Ruse!Y17+Silistra!Y17+Tutrakan!Y17+Seslav!Y17+Karakuz!Y17+Razgrad!Y17+Voden!Y17 -> 28 | AA17: смърч | AB17: =Bujnovci!AB17+Elena!AB17+Bolqrka!AB17+Gorna!AB17+Svishtov!AB17+Rosica!AB17+Gabrovo!AB17+Plachkovci!AB17+Sevlievo!AB17+Bqla!AB17+Dunav_Ruse!AB17+Silistra!AB17+Tutrakan!AB17+Seslav!AB17+Karakuz!AB17+Razgrad!AB17+Voden!AB17 -> 0.7 | AC17: =Bujnovci!AC17+Elena!AC17+Bolqrka!AC17+Gorna!AC17+Svishtov!AC17+Rosica!AC17+Gabrovo!AC17+Plachkovci!AC17+Sevlievo!AC17+Bqla!AC17+Dunav_Ruse!AC17+Silistra!AC17+Tutrakan!AC17+Seslav!AC17+Karakuz!AC17+Razgrad!AC17+Voden!AC17 -> 48 | AD17: =Bujnovci!AD17+Elena!AD17+Bolqrka!AD17+Gorna!AD17+Svishtov!AD17+Rosica!AD17+Gabrovo!AD17+Plachkovci!AD17+Sevlievo!AD17+Bqla!AD17+Dunav_Ruse!AD17+Silistra!AD17+Tutrakan!AD17+Seslav!AD17+Karakuz!AD17+Razgrad!AD17+Voden!AD17 -> 44 | AE17: =Bujnovci!AE17+Elena!AE17+Bolqrka!AE17+Gorna!AE17+Svishtov!AE17+Rosica!AE17+Gabrovo!AE17+Plachkovci!AE17+Sevlievo!AE17+Bqla!AE17+Dunav_Ruse!AE17+Silistra!AE17+Tutrakan!AE17+Seslav!AE17+Karakuz!AE17+Razgrad!AE17+Voden!AE17 -> 14 | AF17: =Bujnovci!AF17+Elena!AF17+Bolqrka!AF17+Gorna!AF17+Svishtov!AF17+Rosica!AF17+Gabrovo!AF17+Plachkovci!AF17+Sevlievo!AF17+Bqla!AF17+Dunav_Ruse!AF17+Silistra!AF17+Tutrakan!AF17+Seslav!AF17+Karakuz!AF17+Razgrad!AF17+Voden!AF17 -> 1 | AG17: =Bujnovci!AG17+Elena!AG17+Bolqrka!AG17+Gorna!AG17+Svishtov!AG17+Rosica!AG17+Gabrovo!AG17+Plachkovci!AG17+Sevlievo!AG17+Bqla!AG17+Dunav_Ruse!AG17+Silistra!AG17+Tutrakan!AG17+Seslav!AG17+Karakuz!AG17+Razgrad!AG17+Voden!AG17 -> 1 | AH17: =Bujnovci!AH17+Elena!AH17+Bolqrka!AH17+Gorna!AH17+Svishtov!AH17+Rosica!AH17+Gabrovo!AH17+Plachkovci!AH17+Sevlievo!AH17+Bqla!AH17+Dunav_Ruse!AH17+Silistra!AH17+Tutrakan!AH17+Seslav!AH17+Karakuz!AH17+Razgrad!AH17+Voden!AH17 -> 28 | AJ17: смърч | AK17: =Bujnovci!AK17+Elena!AK17+Bolqrka!AK17+Gorna!AK17+Svishtov!AK17+Rosica!AK17+Gabrovo!AK17+Plachkovci!AK17+Sevlievo!AK17+Bqla!AK17+Dunav_Ruse!AK17+Silistra!AK17+Tutrakan!AK17+Seslav!AK17+Karakuz!AK17+Razgrad!AK17+Voden!AK17 -> 4.7 | AL17: =Bujnovci!AL17+Elena!AL17+Bolqrka!AL17+Gorna!AL17+Svishtov!AL17+Rosica!AL17+Gabrovo!AL17+Plachkovci!AL17+Sevlievo!AL17+Bqla!AL17+Dunav_Ruse!AL17+Silistra!AL17+Tutrakan!AL17+Seslav!AL17+Karakuz!AL17+Razgrad!AL17+Voden!AL17 -> 468 | AM17: =Bujnovci!AM17+Elena!AM17+Bolqrka!AM17+Gorna!AM17+Svishtov!AM17+Rosica!AM17+Gabrovo!AM17+Plachkovci!AM17+Sevlievo!AM17+Bqla!AM17+Dunav_Ruse!AM17+Silistra!AM17+Tutrakan!AM17+Seslav!AM17+Karakuz!AM17+Razgrad!AM17+Voden!AM17 -> 395 | AN17: =Bujnovci!AN17+Elena!AN17+Bolqrka!AN17+Gorna!AN17+Svishtov!AN17+Rosica!AN17+Gabrovo!AN17+Plachkovci!AN17+Sevlievo!AN17+Bqla!AN17+Dunav_Ruse!AN17+Silistra!AN17+Tutrakan!AN17+Seslav!AN17+Karakuz!AN17+Razgrad!AN17+Voden!AN17 -> 152 | AO17: =Bujnovci!AO17+Elena!AO17+Bolqrka!AO17+Gorna!AO17+Svishtov!AO17+Rosica!AO17+Gabrovo!AO17+Plachkovci!AO17+Sevlievo!AO17+Bqla!AO17+Dunav_Ruse!AO17+Silistra!AO17+Tutrakan!AO17+Seslav!AO17+Karakuz!AO17+Razgrad!AO17+Voden!AO17 -> 60 | AP17: =Bujnovci!AP17+Elena!AP17+Bolqrka!AP17+Gorna!AP17+Svishtov!AP17+Rosica!AP17+Gabrovo!AP17+Plachkovci!AP17+Sevlievo!AP17+Bqla!AP17+Dunav_Ruse!AP17+Silistra!AP17+Tutrakan!AP17+Seslav!AP17+Karakuz!AP17+Razgrad!AP17+Voden!AP17 -> 14 | AQ17: =Bujnovci!AQ17+Elena!AQ17+Bolqrka!AQ17+Gorna!AQ17+Svishtov!AQ17+Rosica!AQ17+Gabrovo!AQ17+Plachkovci!AQ17+Sevlievo!AQ17+Bqla!AQ17+Dunav_Ruse!AQ17+Silistra!AQ17+Tutrakan!AQ17+Seslav!AQ17+Karakuz!AQ17+Razgrad!AQ17+Voden!AQ17 -> 169
A18: ела | B18: =Bujnovci!B18+Elena!B18+Bolqrka!B18+Gorna!B18+Svishtov!B18+Rosica!B18+Gabrovo!B18+Plachkovci!B18+Sevlievo!B18+Bqla!B18+Dunav_Ruse!B18+Silistra!B18+Tutrakan!B18+Seslav!B18+Karakuz!B18+Razgrad!B18+Voden!B18 -> 14.8 | C18: =Bujnovci!C18+Elena!C18+Bolqrka!C18+Gorna!C18+Svishtov!C18+Rosica!C18+Gabrovo!C18+Plachkovci!C18+Sevlievo!C18+Bqla!C18+Dunav_Ruse!C18+Silistra!C18+Tutrakan!C18+Seslav!C18+Karakuz!C18+Razgrad!C18+Voden!C18 -> 1232 | D18: =Bujnovci!D18+Elena!D18+Bolqrka!D18+Gorna!D18+Svishtov!D18+Rosica!D18+Gabrovo!D18+Plachkovci!D18+Sevlievo!D18+Bqla!D18+Dunav_Ruse!D18+Silistra!D18+Tutrakan!D18+Seslav!D18+Karakuz!D18+Razgrad!D18+Voden!D18 -> 1048 | E18: =Bujnovci!E18+Elena!E18+Bolqrka!E18+Gorna!E18+Svishtov!E18+Rosica!E18+Gabrovo!E18+Plachkovci!E18+Sevlievo!E18+Bqla!E18+Dunav_Ruse!E18+Silistra!E18+Tutrakan!E18+Seslav!E18+Karakuz!E18+Razgrad!E18+Voden!E18 -> 717 | F18: =Bujnovci!F18+Elena!F18+Bolqrka!F18+Gorna!F18+Svishtov!F18+Rosica!F18+Gabrovo!F18+Plachkovci!F18+Sevlievo!F18+Bqla!F18+Dunav_Ruse!F18+Silistra!F18+Tutrakan!F18+Seslav!F18+Karakuz!F18+Razgrad!F18+Voden!F18 -> 142 | G18: =Bujnovci!G18+Elena!G18+Bolqrka!G18+Gorna!G18+Svishtov!G18+Rosica!G18+Gabrovo!G18+Plachkovci!G18+Sevlievo!G18+Bqla!G18+Dunav_Ruse!G18+Silistra!G18+Tutrakan!G18+Seslav!G18+Karakuz!G18+Razgrad!G18+Voden!G18 -> 28 | H18: =Bujnovci!H18+Elena!H18+Bolqrka!H18+Gorna!H18+Svishtov!H18+Rosica!H18+Gabrovo!H18+Plachkovci!H18+Sevlievo!H18+Bqla!H18+Dunav_Ruse!H18+Silistra!H18+Tutrakan!H18+Seslav!H18+Karakuz!H18+Razgrad!H18+Voden!H18 -> 161 | J18: ела | K18: =Bujnovci!K18+Elena!K18+Bolqrka!K18+Gorna!K18+Svishtov!K18+Rosica!K18+Gabrovo!K18+Plachkovci!K18+Sevlievo!K18+Bqla!K18+Dunav_Ruse!K18+Silistra!K18+Tutrakan!K18+Seslav!K18+Karakuz!K18+Razgrad!K18+Voden!K18 -> 14.1 | L18: =Bujnovci!L18+Elena!L18+Bolqrka!L18+Gorna!L18+Svishtov!L18+Rosica!L18+Gabrovo!L18+Plachkovci!L18+Sevlievo!L18+Bqla!L18+Dunav_Ruse!L18+Silistra!L18+Tutrakan!L18+Seslav!L18+Karakuz!L18+Razgrad!L18+Voden!L18 -> 1199 | M18: =Bujnovci!M18+Elena!M18+Bolqrka!M18+Gorna!M18+Svishtov!M18+Rosica!M18+Gabrovo!M18+Plachkovci!M18+Sevlievo!M18+Bqla!M18+Dunav_Ruse!M18+Silistra!M18+Tutrakan!M18+Seslav!M18+Karakuz!M18+Razgrad!M18+Voden!M18 -> 1025 | N18: =Bujnovci!N18+Elena!N18+Bolqrka!N18+Gorna!N18+Svishtov!N18+Rosica!N18+Gabrovo!N18+Plachkovci!N18+Sevlievo!N18+Bqla!N18+Dunav_Ruse!N18+Silistra!N18+Tutrakan!N18+Seslav!N18+Karakuz!N18+Razgrad!N18+Voden!N18 -> 697 | O18: =Bujnovci!O18+Elena!O18+Bolqrka!O18+Gorna!O18+Svishtov!O18+Rosica!O18+Gabrovo!O18+Plachkovci!O18+Sevlievo!O18+Bqla!O18+Dunav_Ruse!O18+Silistra!O18+Tutrakan!O18+Seslav!O18+Karakuz!O18+Razgrad!O18+Voden!O18 -> 142 | P18: =Bujnovci!P18+Elena!P18+Bolqrka!P18+Gorna!P18+Svishtov!P18+Rosica!P18+Gabrovo!P18+Plachkovci!P18+Sevlievo!P18+Bqla!P18+Dunav_Ruse!P18+Silistra!P18+Tutrakan!P18+Seslav!P18+Karakuz!P18+Razgrad!P18+Voden!P18 -> 28 | Q18: =Bujnovci!Q18+Elena!Q18+Bolqrka!Q18+Gorna!Q18+Svishtov!Q18+Rosica!Q18+Gabrovo!Q18+Plachkovci!Q18+Sevlievo!Q18+Bqla!Q18+Dunav_Ruse!Q18+Silistra!Q18+Tutrakan!Q18+Seslav!Q18+Karakuz!Q18+Razgrad!Q18+Voden!Q18 -> 158 | R18: ела | S18: =Bujnovci!S18+Elena!S18+Bolqrka!S18+Gorna!S18+Svishtov!S18+Rosica!S18+Gabrovo!S18+Plachkovci!S18+Sevlievo!S18+Bqla!S18+Dunav_Ruse!S18+Silistra!S18+Tutrakan!S18+Seslav!S18+Karakuz!S18+Razgrad!S18+Voden!S18 -> 0.7 | T18: =Bujnovci!T18+Elena!T18+Bolqrka!T18+Gorna!T18+Svishtov!T18+Rosica!T18+Gabrovo!T18+Plachkovci!T18+Sevlievo!T18+Bqla!T18+Dunav_Ruse!T18+Silistra!T18+Tutrakan!T18+Seslav!T18+Karakuz!T18+Razgrad!T18+Voden!T18 -> 26 | U18: =Bujnovci!U18+Elena!U18+Bolqrka!U18+Gorna!U18+Svishtov!U18+Rosica!U18+Gabrovo!U18+Plachkovci!U18+Sevlievo!U18+Bqla!U18+Dunav_Ruse!U18+Silistra!U18+Tutrakan!U18+Seslav!U18+Karakuz!U18+Razgrad!U18+Voden!U18 -> 23 | V18: =Bujnovci!V18+Elena!V18+Bolqrka!V18+Gorna!V18+Svishtov!V18+Rosica!V18+Gabrovo!V18+Plachkovci!V18+Sevlievo!V18+Bqla!V18+Dunav_Ruse!V18+Silistra!V18+Tutrakan!V18+Seslav!V18+Karakuz!V18+Razgrad!V18+Voden!V18 -> 20 | W18: =Bujnovci!W18+Elena!W18+Bolqrka!W18+Gorna!W18+Svishtov!W18+Rosica!W18+Gabrovo!W18+Plachkovci!W18+Sevlievo!W18+Bqla!W18+Dunav_Ruse!W18+Silistra!W18+Tutrakan!W18+Seslav!W18+Karakuz!W18+Razgrad!W18+Voden!W18 -> 0 | X18: =Bujnovci!X18+Elena!X18+Bolqrka!X18+Gorna!X18+Svishtov!X18+Rosica!X18+Gabrovo!X18+Plachkovci!X18+Sevlievo!X18+Bqla!X18+Dunav_Ruse!X18+Silistra!X18+Tutrakan!X18+Seslav!X18+Karakuz!X18+Razgrad!X18+Voden!X18 -> 0 | Y18: =Bujnovci!Y18+Elena!Y18+Bolqrka!Y18+Gorna!Y18+Svishtov!Y18+Rosica!Y18+Gabrovo!Y18+Plachkovci!Y18+Sevlievo!Y18+Bqla!Y18+Dunav_Ruse!Y18+Silistra!Y18+Tutrakan!Y18+Seslav!Y18+Karakuz!Y18+Razgrad!Y18+Voden!Y18 -> 3 | AA18: ела | AB18: =Bujnovci!AB18+Elena!AB18+Bolqrka!AB18+Gorna!AB18+Svishtov!AB18+Rosica!AB18+Gabrovo!AB18+Plachkovci!AB18+Sevlievo!AB18+Bqla!AB18+Dunav_Ruse!AB18+Silistra!AB18+Tutrakan!AB18+Seslav!AB18+Karakuz!AB18+Razgrad!AB18+Voden!AB18 -> 0.7 | AC18: =Bujnovci!AC18+Elena!AC18+Bolqrka!AC18+Gorna!AC18+Svishtov!AC18+Rosica!AC18+Gabrovo!AC18+Plachkovci!AC18+Sevlievo!AC18+Bqla!AC18+Dunav_Ruse!AC18+Silistra!AC18+Tutrakan!AC18+Seslav!AC18+Karakuz!AC18+Razgrad!AC18+Voden!AC18 -> 26 | AD18: =Bujnovci!AD18+Elena!AD18+Bolqrka!AD18+Gorna!AD18+Svishtov!AD18+Rosica!AD18+Gabrovo!AD18+Plachkovci!AD18+Sevlievo!AD18+Bqla!AD18+Dunav_Ruse!AD18+Silistra!AD18+Tutrakan!AD18+Seslav!AD18+Karakuz!AD18+Razgrad!AD18+Voden!AD18 -> 23 | AE18: =Bujnovci!AE18+Elena!AE18+Bolqrka!AE18+Gorna!AE18+Svishtov!AE18+Rosica!AE18+Gabrovo!AE18+Plachkovci!AE18+Sevlievo!AE18+Bqla!AE18+Dunav_Ruse!AE18+Silistra!AE18+Tutrakan!AE18+Seslav!AE18+Karakuz!AE18+Razgrad!AE18+Voden!AE18 -> 20 | AF18: =Bujnovci!AF18+Elena!AF18+Bolqrka!AF18+Gorna!AF18+Svishtov!AF18+Rosica!AF18+Gabrovo!AF18+Plachkovci!AF18+Sevlievo!AF18+Bqla!AF18+Dunav_Ruse!AF18+Silistra!AF18+Tutrakan!AF18+Seslav!AF18+Karakuz!AF18+Razgrad!AF18+Voden!AF18 -> 0 | AG18: =Bujnovci!AG18+Elena!AG18+Bolqrka!AG18+Gorna!AG18+Svishtov!AG18+Rosica!AG18+Gabrovo!AG18+Plachkovci!AG18+Sevlievo!AG18+Bqla!AG18+Dunav_Ruse!AG18+Silistra!AG18+Tutrakan!AG18+Seslav!AG18+Karakuz!AG18+Razgrad!AG18+Voden!AG18 -> 0 | AH18: =Bujnovci!AH18+Elena!AH18+Bolqrka!AH18+Gorna!AH18+Svishtov!AH18+Rosica!AH18+Gabrovo!AH18+Plachkovci!AH18+Sevlievo!AH18+Bqla!AH18+Dunav_Ruse!AH18+Silistra!AH18+Tutrakan!AH18+Seslav!AH18+Karakuz!AH18+Razgrad!AH18+Voden!AH18 -> 3 | AJ18: ела | AK18: =Bujnovci!AK18+Elena!AK18+Bolqrka!AK18+Gorna!AK18+Svishtov!AK18+Rosica!AK18+Gabrovo!AK18+Plachkovci!AK18+Sevlievo!AK18+Bqla!AK18+Dunav_Ruse!AK18+Silistra!AK18+Tutrakan!AK18+Seslav!AK18+Karakuz!AK18+Razgrad!AK18+Voden!AK18 -> 0 | AL18: =Bujnovci!AL18+Elena!AL18+Bolqrka!AL18+Gorna!AL18+Svishtov!AL18+Rosica!AL18+Gabrovo!AL18+Plachkovci!AL18+Sevlievo!AL18+Bqla!AL18+Dunav_Ruse!AL18+Silistra!AL18+Tutrakan!AL18+Seslav!AL18+Karakuz!AL18+Razgrad!AL18+Voden!AL18 -> 7 | AM18: =Bujnovci!AM18+Elena!AM18+Bolqrka!AM18+Gorna!AM18+Svishtov!AM18+Rosica!AM18+Gabrovo!AM18+Plachkovci!AM18+Sevlievo!AM18+Bqla!AM18+Dunav_Ruse!AM18+Silistra!AM18+Tutrakan!AM18+Seslav!AM18+Karakuz!AM18+Razgrad!AM18+Voden!AM18 -> 6 | AN18: =Bujnovci!AN18+Elena!AN18+Bolqrka!AN18+Gorna!AN18+Svishtov!AN18+Rosica!AN18+Gabrovo!AN18+Plachkovci!AN18+Sevlievo!AN18+Bqla!AN18+Dunav_Ruse!AN18+Silistra!AN18+Tutrakan!AN18+Seslav!AN18+Karakuz!AN18+Razgrad!AN18+Voden!AN18 -> 0 | AO18: =Bujnovci!AO18+Elena!AO18+Bolqrka!AO18+Gorna!AO18+Svishtov!AO18+Rosica!AO18+Gabrovo!AO18+Plachkovci!AO18+Sevlievo!AO18+Bqla!AO18+Dunav_Ruse!AO18+Silistra!AO18+Tutrakan!AO18+Seslav!AO18+Karakuz!AO18+Razgrad!AO18+Voden!AO18 -> 0 | AP18: =Bujnovci!AP18+Elena!AP18+Bolqrka!AP18+Gorna!AP18+Svishtov!AP18+Rosica!AP18+Gabrovo!AP18+Plachkovci!AP18+Sevlievo!AP18+Bqla!AP18+Dunav_Ruse!AP18+Silistra!AP18+Tutrakan!AP18+Seslav!AP18+Karakuz!AP18+Razgrad!AP18+Voden!AP18 -> 0 | AQ18: =Bujnovci!AQ18+Elena!AQ18+Bolqrka!AQ18+Gorna!AQ18+Svishtov!AQ18+Rosica!AQ18+Gabrovo!AQ18+Plachkovci!AQ18+Sevlievo!AQ18+Bqla!AQ18+Dunav_Ruse!AQ18+Silistra!AQ18+Tutrakan!AQ18+Seslav!AQ18+Karakuz!AQ18+Razgrad!AQ18+Voden!AQ18 -> 0
A19: Б.Широколистни | J19: Б.Широколистни | R19: Б.Широколистни | AA19: Б.Широколистни | AJ19: Б.Широколистни
